Workbook

Sheet 時別降水量
B1: 長崎 | C1: 長崎 | D1: 長崎 | E1: 長崎 | F1: 長崎 | G1: 長崎 | H1: 長崎 | I1: 長崎 | J1: 長崎 | K1: 長崎 | L1: 長崎 | M1: 長崎 | N1: 長崎 | O1: 長崎 | P1: 長崎 | Q1: 長崎 | R1: 長崎 | S1: 長崎 | T1: 長崎 | U1: 長崎 | V1: 長崎 | W1: 長崎 | X1: 佐賀 | Y1: 佐賀 | Z1: 佐賀 | AA1: 佐賀 | AB1: 佐賀 | AC1: 佐賀 | AD1: 佐賀 | AE1: 佐賀 | AF1: 福岡 | AG1: 福岡 | AH1: 福岡 | AI1: 福岡 | AJ1: 福岡 | AK1: 福岡 | AL1: 福岡 | AM1: 福岡 | AN1: 福岡 | AO1: 福岡 | AP1: 福岡 | AQ1: 福岡 | AR1: 福岡 | AS1: 福岡 | AT1: 福岡 | AU1: 福岡 | AV1: 福岡 | AW1: 福岡 | AX1: 福岡 | AY1: 福岡 | AZ1: 広島 | BA1: 広島 | BB1: 広島 | BC1: 広島 | BD1: 広島 | BE1: 広島 | BF1: 広島 | BG1: 広島 | BH1: 広島 | BI1: 広島 | BJ1: 広島 | BK1: 広島 | BL1: 広島 | BM1: 広島 | BN1: 広島 | BO1: 広島 | BP1: 広島 | BQ1: 広島 | BR1: 広島 | BS1: 広島 | BT1: 広島 | BU1: 広島 | BV1: 広島 | BW1: 広島 | BX1: 広島 | BY1: 広島 | BZ1: 広島 | CA1: 広島 | CB1: 広島 | CC1: 広島 | CD1: 広島 | CE1: 広島 | CF1: 広島 | CG1: 鳥取 | CH1: 鳥取 | CI1: 鳥取 | CJ1: 鳥取 | CK1: 鳥取 | CL1: 鳥取 | CM1: 鳥取 | CN1: 鳥取 | CO1: 鳥取 | CP1: 鳥取 | CQ1: 鳥取 | CR1: 鳥取 | CS1: 鳥取 | CT1: 鳥取 | CU1: 鳥取 | CV1: 鳥取 | CW1: 岡山 | CX1: 岡山 | CY1: 岡山 | CZ1: 岡山 | DA1: 岡山 | DB1: 岡山 | DC1: 岡山 | DD1: 岡山 | DE1: 岡山 | DF1: 岡山 | DG1: 岡山 | DH1: 岡山 | DI1: 岡山 | DJ1: 岡山 | DK1: 岡山 | DL1: 岡山 | DM1: 岡山 | DN1: 岡山 | DO1: 岡山 | DP1: 岡山 | DQ1: 岡山 | DR1: 岡山 | DS1: 岡山 | DT1: 岡山 | DU1: 岡山 | DV1: 兵庫 | DW1: 兵庫 | DX1: 兵庫 | DY1: 兵庫 | DZ1: 兵庫 | EA1: 兵庫 | EB1: 兵庫 | EC1: 兵庫 | ED1: 兵庫 | EE1: 兵庫 | EF1: 兵庫 | EG1: 兵庫 | EH1: 兵庫 | EI1: 兵庫 | EJ1: 兵庫 | EK1: 兵庫 | EL1: 兵庫 | EM1: 兵庫 | EN1: 兵庫 | EO1: 兵庫 | EP1: 兵庫 | EQ1: 兵庫 | ER1: 兵庫 | ES1: 兵庫 | ET1: 兵庫 | EU1: 兵庫 | EV1: 京都 | EW1: 京都 | EX1: 京都 | EY1: 京都 | EZ1: 京都 | FA1: 京都 | FB1: 京都 | FC1: 京都 | FD1: 京都 | FE1: 京都 | FF1: 京都 | FG1: 京都 | FH1: 京都 | FI1: 京都 | FJ1: 京都 | FK1: 京都 | FL1: 京都 | FM1: 岐阜 | FN1: 岐阜 | FO1: 岐阜 | FP1: 岐阜 | FQ1: 岐阜 | FR1: 岐阜 | FS1: 岐阜 | FT1: 岐阜 | FU1: 岐阜 | FV1: 岐阜 | FW1: 岐阜 | FX1: 岐阜 | FY1: 岐阜 | FZ1: 岐阜 | GA1: 岐阜 | GB1: 岐阜 | GC1: 岐阜 | GD1: 岐阜 | GE1: 岐阜 | GF1: 岐阜 | GG1: 岐阜 | GH1: 岐阜 | GI1: 岐阜 | GJ1: 岐阜 | GK1: 岐阜 | GL1: 岐阜 | GM1: 岐阜 | GN1: 岐阜 | GO1: 岐阜 | GP1: 岐阜 | GQ1: 岐阜 | GR1: 岐阜 | GS1: 愛媛 | GT1: 愛媛 | GU1: 愛媛 | GV1: 愛媛 | GW1: 愛媛 | GX1: 愛媛 | GY1: 愛媛 | GZ1: 愛媛 | HA1: 愛媛 | HB1: 愛媛 | HC1: 愛媛 | HD1: 愛媛 | HE1: 愛媛 | HF1: 愛媛 | HG1: 愛媛 | HH1: 愛媛 | HI1: 愛媛 | HJ1: 愛媛 | HK1: 愛媛 | HL1: 愛媛 | HM1: 愛媛 | HN1: 愛媛 | HO1: 高知 | HP1: 高知 | HQ1: 高知 | HR1: 高知 | HS1: 高知 | HT1: 高知 | HU1: 高知 | HV1: 高知 | HW1: 高知 | HX1: 高知 | HY1: 高知 | HZ1: 高知 | IA1: 高知 | IB1: 高知 | IC1: 高知 | ID1: 高知 | IE1: 高知 | IF1: 高知 | IG1: 高知 | IH1: 高知 | II1: 高知 | IJ1: 高知 | IK1: 高知 | IL1: 高知 | IM1: 高知 | IN1: 高知 | IO1: 山口 | IP1: 山口 | IQ1: 山口 | IR1: 山口 | IS1: 山口 | IT1: 山口 | IU1: 山口 | IV1: 山口 | IW1: 山口 | IX1: 山口 | IY1: 山口 | IZ1: 山口 | JA1: 山口 | JB1: 山口 | JC1: 山口 | JD1: 山口 | JE1: 山口 | JF1: 山口 | JG1: 山口 | JH1: 山口 | JI1: 山口 | JJ1: 島根 | JK1: 島根 | JL1: 島根 | JM1: 島根 | JN1: 島根 | JO1: 島根 | JP1: 島根 | JQ1: 島根 | JR1: 島根 | JS1: 島根 | JT1: 島根 | JU1: 島根 | JV1: 島根 | JW1: 島根 | JX1: 島根 | JY1: 島根 | JZ1: 島根 | KA1: 島根 | KB1: 島根 | KC1: 島根 | KD1: 島根 | KE1: 島根 | KF1: 島根 | KG1: 島根 | KH1: 島根 | KI1: 島根 | KJ1: 島根 | KK1: 香川 | KL1: 香川 | KM1: 香川 | KN1: 香川 | KO1: 香川 | KP1: 香川 | KQ1: 香川 | KR1: 香川 | KS1: 徳島 | KT1: 徳島 | KU1: 徳島 | KV1: 徳島 | KW1: 徳島 | KX1: 徳島 | KY1: 徳島 | KZ1: 徳島 | LA1: 徳島 | LB1: 徳島
B2: 厳原 | C2: 平戸 | D2: 松浦 | E2: 佐世保 | F2: 大瀬戸 | G2: 長浦岳 | H2: 諫早 | I2: 長崎 | J2: 雲仙岳 | K2: 福江 | L2: 口之津 | M2: 島原 | N2: 大村 | O2: 有川 | P2: 芦辺 | Q2: 野母崎 | R2: 鰐浦 | S2: 石田 | T2: 上大津 | U2: 小値賀 | V2: 頭ヶ島 | W2: 美津島 | X2: 佐賀 | Y2: 白石 | Z2: 嬉野 | AA2: 伊万里 | AB2: 川副 | AC2: 唐津 | AD2: 鳥栖 | AE2: 北山 | AF2: 八幡 | AG2: 行橋 | AH2: 飯塚 | AI2: 前原 | AJ2: 福岡 | AK2: 朝倉 | AL2: 英彦山 | AM2: 久留米 | AN2: 耳納山 | AO2: 黒木 | AP2: 大牟田 | AQ2: 宗像 | AR2: 柳川 | AS2: 添田 | AT2: 太宰府 | AU2: 博多 | AV2: 空港北町 | AW2: 早良脇山 | AX2: 東谷 | AY2: 小呂島 | AZ2: 道後山 | BA2: 三次 | BB2: 庄原 | BC2: 大朝 | BD2: 加計 | BE2: 上下 | BF2: 内黒山 | BG2: 世羅 | BH2: 東広島 | BI2: 福山 | BJ2: 広島 | BK2: 竹原 | BL2: 生口島 | BM2: 大竹 | BN2: 呉 | BO2: 倉橋 | BP2: 高野 | BQ2: 東城 | BR2: 甲田 | BS2: 三入 | BT2: 府中 | BU2: 志和 | BV2: 王泊 | BW2: 八幡 | BX2: 油木 | BY2: 廿日市津田 | BZ2: 本郷 | CA2: 佐伯湯来 | CB2: 都志見 | CC2: 君田 | CD2: 美土里 | CE2: 安宿 | CF2: 呉市蒲刈 | CG2: 境 | CH2: 青谷 | CI2: 鳥取 | CJ2: 岩井 | CK2: 米子 | CL2: 倉吉 | CM2: 大山 | CN2: 智頭 | CO2: 関金 | CP2: 若桜 | CQ2: 塩津 | CR2: 茶屋 | CS2: 佐治 | CT2: 江尾 | CU2: 鹿野 | CV2: 湖山 | CW2: 矢掛 | CX2: 高梁 | CY2: 今岡 | CZ2: 久世 | DA2: 津山 | DB2: 新見 | DC2: 赤磐 | DD2: 陣山 | DE2: 福渡 | DF2: 和気 | DG2: 佐屋 | DH2: 岡山 | DI2: 虫明 | DJ2: 倉敷 | DK2: 玉野 | DL2: 笠岡 | DM2: 下呰部 | DN2: 奈義 | DO2: 上長田 | DP2: 千屋 | DQ2: 恩原 | DR2: 日応寺 | DS2: 富 | DT2: 吉備中央 | DU2: 旭西 | DV2: 香住 | DW2: 温泉 | DX2: 豊岡 | DY2: 八鹿 | DZ2: 和田山 | EA2: 生野 | EB2: 柏原 | EC2: 一宮 | ED2: 佐用 | EE2: 後川 | EF2: 上郡 | EG2: 姫路 | EH2: 家島 | EI2: 明石 | EJ2: 神戸 | EK2: 洲本 | EL2: 西脇 | EM2: 大屋 | EN2: 福崎 | EO2: 三田 | EP2: 郡家 | EQ2: 兎和野高原 | ER2: 三木 | ES2: 南淡 | ET2: 神戸空港 | EU2: 西宮 | EV2: 峰山 | EW2: 宮津 | EX2: 舞鶴 | EY2: 福知山 | EZ2: 園部 | FA2: 京都 | FB2: 京田辺 | FC2: 京北 | FD2: 間人 | FE2: 本庄 | FF2: 長岡京 | FG2: 睦寄 | FH2: 美山 | FI2: 須知 | FJ2: 綾部 | FK2: 三和 | FL2: 坂浦 | FM2: 神岡 | FN2: 高山 | FO2: 船山 | FP2: 萩原 | FQ2: 八幡 | FR2: 樽見 | FS2: 金山 | FT2: 伽藍 | FU2: 美濃加茂 | FV2: 恵那 | FW2: 中津川 | FX2: 関ケ原 | FY2: 大垣 | FZ2: 岐阜 | GA2: 美濃 | GB2: 多治見 | GC2: 上石津 | GD2: 栃尾 | GE2: 宮地 | GF2: 長滝 | GG2: 揖斐川 | GH2: 六厩 | GI2: 白川 | GJ2: 河合 | GK2: 宮之前 | GL2: 黒川 | GM2: 付知 | GN2: 御母衣 | GO2: ひるがの | GP2: 清見 | GQ2: 丹生川 | GR2: 関市板取 | GS2: 大三島 | GT2: 玉川 | GU2: 新居浜 | GV2: 四国中央 | GW2: 松山 | GX2: 上林 | GY2: 成就社 | GZ2: 長浜 | HA2: 中山 | HB2: 久万 | HC2: 獅子越峠 | HD2: 八幡浜 | HE2: 宇和島 | HF2: 御荘 | HG2: 西条 | HH2: 大洲 | HI2: 宇和 | HJ2: 今治 | HK2: 富郷 | HL2: 近永 | HM2: 瀬戸 | HN2: 松山南吉田 | HO2: 本山 | HP2: 繁藤 | HQ2: 佐川 | HR2: 高知 | HS2: 鳥形山 | HT2: 船戸 | HU2: 安芸 | HV2: 須崎 | HW2: 佐喜浜 | HX2: 窪川 | HY2: 室戸岬 | HZ2: 大正 | IA2: 宿毛 | IB2: 中村 | IC2: 清水 | ID2: 梼原 | IE2: 田野 | IF2: 池川 | IG2: 大栃 | IH2: 佐賀 | II2: 江川崎 | IJ2: 後免 | IK2: 魚梁瀬 | IL2: 本川 | IM2: 南国日章 | IN2: 三崎 | IO2: 東厚保 | IP2: 鹿野 | IQ2: 篠生 | IR2: 和田 | IS2: 羅漢山 | IT2: 柳井 | IU2: 岩国 | IV2: 油谷 | IW2: 玖珂 | IX2: 安下庄 | IY2: 宇部 | IZ2: 下関 | JA2: 下松 | JB2: 防府 | JC2: 山口 | JD2: 豊田 | JE2: 広瀬 | JF2: 秋吉台 | JG2: 徳佐 | JH2: 萩 | JI2: 須佐 | JJ2: 斐川 | JK2: 松江 | JL2: 大東 | JM2: 大田 | JN2: 掛合 | JO2: 横田 | JP2: 川本 | JQ2: 浜田 | JR2: 三隅 | JS2: 益田 | JT2: 津和野 | JU2: 佐田 | JV2: 桜江 | JW2: 瑞穂 | JX2: 伯太 | JY2: 波佐 | JZ2: 匹見 | KA2: 海士 | KB2: 出雲 | KC2: 赤名 | KD2: 弥栄 | KE2: 福光 | KF2: 西郷岬 | KG2: 高津 | KH2: 吉賀 | KI2: 鹿島 | KJ2: 西郷 | KK2: 内海 | KL2: 高松 | KM2: 多度津 | KN2: 滝宮 | KO2: 引田 | KP2: 竜王山 | KQ2: 財田 | KR2: 香南 | KS2: 池田 | KT2: 徳島 | KU2: 日和佐 | KV2: 穴吹 | KW2: 福原旭 | KX2: 蒲生田 | KY2: 京上 | KZ2: 半田 | LA2: 木頭 | LB2: 海陽
A3: 緯度 | B3: =INDEX(tbl!$F$1:$G$313,MATCH(B$1&B$2,tbl!$D$1:$D$313,),1) -> 34.196667 | C3: =INDEX(tbl!$F$1:$G$313,MATCH(C$1&C$2,tbl!$D$1:$D$313,),1) -> 33.36 | D3: =INDEX(tbl!$F$1:$G$313,MATCH(D$1&D$2,tbl!$D$1:$D$313,),1) -> 33.341667 | E3: =INDEX(tbl!$F$1:$G$313,MATCH(E$1&E$2,tbl!$D$1:$D$313,),1) -> 33.158333 | F3: =INDEX(tbl!$F$1:$G$313,MATCH(F$1&F$2,tbl!$D$1:$D$313,),1) -> 32.948333 | G3: =INDEX(tbl!$F$1:$G$313,MATCH(G$1&G$2,tbl!$D$1:$D$313,),1) -> 32.908333 | H3: =INDEX(tbl!$F$1:$G$313,MATCH(H$1&H$2,tbl!$D$1:$D$313,),1) -> 32.843333 | I3: =INDEX(tbl!$F$1:$G$313,MATCH(I$1&I$2,tbl!$D$1:$D$313,),1) -> 32.733333 | ... LB3: =INDEX(tbl!$F$1:$G$313,MATCH(LB$1&LB$2,tbl!$D$1:$D$313,),1) -> 33.611667
A4: 経度 | B4: =INDEX(tbl!$F$1:$G$313,MATCH(B$1&B$2,tbl!$D$1:$D$313,),2) -> 129.29167 | C4: =INDEX(tbl!$F$1:$G$313,MATCH(C$1&C$2,tbl!$D$1:$D$313,),2) -> 129.55 | D4: =INDEX(tbl!$F$1:$G$313,MATCH(D$1&D$2,tbl!$D$1:$D$313,),2) -> 129.71167 | E4: =INDEX(tbl!$F$1:$G$313,MATCH(E$1&E$2,tbl!$D$1:$D$313,),2) -> 129.72667 | F4: =INDEX(tbl!$F$1:$G$313,MATCH(F$1&F$2,tbl!$D$1:$D$313,),2) -> 129.63167 | G4: =INDEX(tbl!$F$1:$G$313,MATCH(G$1&G$2,tbl!$D$1:$D$313,),2) -> 129.73833 | H4: =INDEX(tbl!$F$1:$G$313,MATCH(H$1&H$2,tbl!$D$1:$D$313,),2) -> 130.025 | I4: =INDEX(tbl!$F$1:$G$313,MATCH(I$1&I$2,tbl!$D$1:$D$313,),2) -> 129.86667 | ... LB4: =INDEX(tbl!$F$1:$G$313,MATCH(LB$1&LB$2,tbl!$D$1:$D$313,),2) -> 134.355
A6: 6/28～7/10（13日間） | B6: =SUM(B9:B320) -> 595 | C6: =SUM(C9:C320) -> 524.5 | D6: =SUM(D9:D320) -> 524 | E6: =SUM(E9:E320) -> 621.5 | F6: =SUM(F9:F320) -> 358.5 | G6: =SUM(G9:G320) -> 639.5 | H6: =SUM(H9:H320) -> 524 | I6: =SUM(I9:I320) -> 395 | ... LB6: =SUM(LB9:LB320) -> 522.5
A7: 7/5～7/7（3日間） | B7: =SUM(B177:B248) -> 55.5 | C7: =SUM(C177:C248) -> 148 | D7: =SUM(D177:D248) -> 245 | E7: =SUM(E177:E248) -> 350 | F7: =SUM(F177:F248) -> 215 | G7: =SUM(G177:G248) -> 358.5 | H7: =SUM(H177:H248) -> 292.5 | I7: =SUM(I177:I248) -> 205 | ... LB7: =SUM(LB177:LB248) -> 284
A9: 43279.042 | B9: 0 | C9: 0 | D9: 0 | E9: 0 | F9: 0 | G9: 0 | H9: 0 | I9: 0 | J9: 1 | K9: 0 | L9: 0 | M9: 0 | N9: 0 | O9: 0 | P9: 0 | Q9: 0 | R9: 0 | S9: 0 | T9: 0 | U9: 0 | V9: 0 | W9: 0 | X9: 0 | Y9: 0 | Z9: 0 | AA9: 0 | AB9: 0 | AC9: 0 | AD9: 0 | AE9: 0 | AF9: 0 | AG9: 0 | AH9: 0 | AI9: 0 | AJ9: 0 | AK9: 0 | AL9: 0 | AM9: 0 | AN9: 0 | AO9: 0 | AP9: 0 | AQ9: 0 | AR9: 0 | AS9: 0 | AT9: 0 | AU9: 0 | AV9: 0 | AW9: 0 | AX9: 0 | AY9: 0 | AZ9: 0.5 | BA9: 4 | BB9: 4.5 | BC9: 2 | BD9: 0 | BE9: 0 | BF9: 0.5 | BG9: 0 | BH9: 0 | BI9: 0 | BJ9: 0 | BK9: 0 | BL9: 0 | BM9: 0 | BN9: 0 | BO9: 0 | BP9: 1.5 | BQ9: 5.5 | BR9: 0 | BS9: 0 | BT9: 0 | BU9: 0 | BV9: 0 | BW9: 0 | BX9: 6.5 | BY9: 0 | CA9: 0 | CB9: 0.5 | CC9: 7.5 | CD9: 0 | CE9: 0 | CF9: 0 | CG9: 0 | CH9: 0.5 | CI9: 0.5 | CJ9: 1 | CK9: 0.5 | CL9: 1.5 | CM9: 0.5 | CN9: 0 | CO9: 0 | CP9: 0 | CQ9: 0 | CR9: 0 | CS9: 0 | CT9: 0 | CU9: 5 | CV9: 0.5 | CW9: 0 | CX9: 1 | CY9: 13.5 | CZ9: 1 | DA9: 10 | DB9: 7 | DC9: 10.5 | DD9: 15 | DE9: 4.5 | DF9: 0 | DG9: 0 | DH9: 0 | DI9: 0 | DJ9: 0 | DK9: 0 | DL9: 0 | DM9: 7 | DN9: 7 | DO9: 0.5 | DP9: 0.5 | DQ9: 0 | DR9: 0 | DS9: 0.5 | DT9: 1.5 | DU9: 14 | DV9: 0.5 | DW9: 0.5 | DX9: 1 | DY9: 0 | DZ9: 0 | EA9: 1.5 | EB9: 0 | EC9: 10.5 | ED9: 7.5 | EE9: 0 | EF9: 0 | EG9: 0 | EH9: 0 | EI9: 0 | EJ9: 0 | EK9: 0 | EL9: 0 | EM9: 0 | EN9: 0 | EO9: 0 | EP9: 0 | EQ9: 2 | ER9: 0 | ES9: 0 | ET9: 0 | EU9: 0 | EV9: 1 | EW9: 0 | EX9: 0 | EY9: 0 | EZ9: 0 | FA9: 0 | FB9: 0 | FC9: 0 | FD9: 1.5 | FE9: 0 | FF9: 0 | FG9: 0 | FH9: 0 | FI9: 0 | FJ9: 0 | FK9: 0 | FL9: 0 | FM9: 3 | FN9: 0 | FO9: 0 | FP9: 0 | FQ9: 1 | FR9: 4.5 | FS9: 0 | FT9: 0 | FU9: 0 | FV9: 0 | FW9: 0 | FX9: 0 | FY9: 0 | FZ9: 0 | GA9: 0.5 | GB9: 0 | GC9: 0 | GD9: 0 | GE9: 2 | GF9: 0.5 | GG9: 1 | GH9: 3.5 | GI9: 2.5 | GJ9: 1.5 | GK9: 0 | GL9: 0 | GM9: 2.5 | GN9: 2.5 | GO9: 6.5 | GP9: 1.5 | GQ9: 0 | GR9: 0 | GS9: 0 | GT9: 0 | GU9: 0 | GV9: 0 | GW9: 0 | GX9: 0 | GY9: 0 | GZ9: 0 | HA9: 0 | HB9: 0 | HC9: 0 | HD9: 0 | HE9: 0 | HF9: 0 | HG9: 0 | HH9: 0 | HI9: 0 | HJ9: 0 | HK9: 0 | HL9: 0 | HM9: 0 | HN9: 0 | HO9: 0 | HP9: 0 | HQ9: 0 | HR9: 0 | HS9: 0 | HT9: 0 | HU9: 0 | HV9: 0 | HW9: 0 | HX9: 0 | HY9: 0 | HZ9: 0 | IA9: 0 | IB9: 0 | IC9: 0 | ID9: 0 | IE9: 0 | IF9: 0 | IG9: 0 | IH9: 0 | II9: 0 | IJ9: 0 | IK9: 0 | IL9: 0 | IM9: 0 | IN9: 0 | IO9: 0 | IP9: 0 | IQ9: 0 | IR9: 0 | IS9: 0 | IT9: 0 | IU9: 0 | IV9: 8 | IW9: 0 | IX9: 0 | IY9: 0 | IZ9: 0 | JA9: 0 | JB9: 0 | JC9: 0 | JD9: 0 | JE9: 0 | JF9: 0 | JG9: 0 | JH9: 1 | JI9: 1.5 | JJ9: 0.5 | JK9: 0.5 | JL9: 0 | JM9: 0 | JN9: 0 | JO9: 0 | JP9: 3 | JQ9: 10 | JR9: 5.5 | JS9: 1.5 | JT9: 0 | JU9: 0 | JV9: 6.5 | JW9: 7 | JX9: 0 | JY9: 3.5 | JZ9: 0 | KA9: 0 | KB9: 0 | KC9: 2.5 | KD9: 0.5 | KE9: 4 | KF9: 0 | KG9: 1.5 | KH9: 0 | KI9: 0 | KJ9: 0 | KK9: 0 | KL9: 0 | KM9: 0 | KN9: 0 | KO9: 0 | KP9: 0 | KQ9: 0 | KR9: 0 | KS9: 0 | KT9: 0 | KU9: 0 | KV9: 0 | KW9: 0 | KX9: 0 | KY9: 0 | KZ9: 0 | LA9: 0 | LB9: 0
A10: 43279.083 | B10: 1 | C10: 0 | D10: 0 | E10: 0 | F10: 0 | G10: 0 | H10: 0 | I10: 0 | J10: 0 | K10: 0 | L10: 0 | M10: 0 | N10: 0 | O10: 0 | P10: 0 | Q10: 0 | R10: 0 | S10: 0 | T10: 0 | U10: 0 | V10: 0 | W10: 0.5 | X10: 0 | Y10: 0 | Z10: 0 | AA10: 0 | AB10: 0 | AC10: 0 | AD10: 0 | AE10: 0 | AF10: 0 | AG10: 0 | AH10: 0 | AI10: 0 | AJ10: 0 | AK10: 0 | AL10: 0 | AM10: 0 | AN10: 0.5 | AO10: 0 | AP10: 0 | AQ10: 0 | AR10: 0 | AS10: 0 | AT10: 0 | AU10: 0 | AV10: 0 | AW10: 0 | AX10: 0 | AY10: 0 | AZ10: 6 | BA10: 0.5 | BB10: 3 | BC10: 12 | BD10: 0 | BE10: 0 | BF10: 8 | BG10: 0 | BH10: 0 | BI10: 0 | BJ10: 0 | BK10: 0 | BL10: 0 | BM10: 0 | BN10: 0 | BO10: 0 | BP10: 6.5 | BQ10: 3.5 | BR10: 0 | BS10: 0 | BT10: 0 | BU10: 0 | BV10: 5 | BW10: 21 | BX10: 0.5 | BY10: 0 | CA10: 0 | CB10: 0 | CC10: 7.5 | CD10: 0 | CE10: 0 | CF10: 0 | CG10: 0 | CH10: 3.5 | CI10: 1.5 | CJ10: 2 | CK10: 0.5 | CL10: 0 | CM10: 0 | CN10: 0 | CO10: 0 | CP10: 0 | CQ10: 0 | CR10: 3.5 | CS10: 0 | CT10: 1 | CU10: 0.5 | CV10: 2 | CW10: 0 | CX10: 0 | CY10: 6.5 | CZ10: 9.5 | DA10: 16 | DB10: 10.5 | DC10: 9.5 | DD10: 0.5 | DE10: 1.5 | DF10: 0 | DG10: 0 | DH10: 0 | DI10: 0 | DJ10: 0 | DK10: 0 | DL10: 0 | DM10: 8 | DN10: 5 | DO10: 0.5 | DP10: 2 | DQ10: 0.5 | DR10: 0 | DS10: 1 | DT10: 0 | DU10: 9 | DV10: 3 | DW10: 2.5 | DX10: 4.5 | DY10: 0 | DZ10: 1.5 | EA10: 5 | EB10: 5.5 | EC10: 4 | ED10: 13 | EE10: 1 | EF10: 0 | EG10: 0 | EH10: 0 | EI10: 0 | EJ10: 0 | EK10: 0 | EL10: 8.5 | EM10: 0.5 | EN10: 11.5 | EO10: 0 | EP10: 0 | EQ10: 2 | ER10: 0 | ES10: 0 | ET10: 0 | EU10: 0 | EV10: 2.5 | EW10: 3.5 | EX10: 0.5 | EY10: 1 | EZ10: 0 | FA10: 0.5 | FB10: 0 | FC10: 1 | FD10: 0 | FE10: 2 | FF10: 0 | FG10: 0 | FH10: 1 | FI10: 2.5 | FJ10: 2 | FK10: 5.5 | FL10: 0.5 | FM10: 0.5 | FN10: 3 | FO10: 1 | FP10: 1 | FQ10: 7 | FR10: 2 | FS10: 6.5 | FT10: 0 | FU10: 0 | FV10: 0 | FW10: 0 | FX10: 0 | FY10: 0 | FZ10: 0 | GA10: 1.5 | GB10: 0 | GC10: 0 | GD10: 4.5 | GE10: 8.5 | GF10: 1 | GG10: 0 | GH10: 0 | GI10: 7 | GJ10: 3 | GK10: 0 | GL10: 0 | GM10: 5 | GN10: 4 | GO10: 1 | GP10: 2.5 | GQ10: 4.5 | GR10: 10 | GS10: 0 | GT10: 0 | GU10: 0 | GV10: 0 | GW10: 0 | GX10: 0 | GY10: 0 | GZ10: 0 | HA10: 0 | HB10: 0 | HC10: 0 | HD10: 0 | HE10: 0 | HF10: 0 | HG10: 0 | HH10: 0 | HI10: 0 | HJ10: 0 | HK10: 0 | HL10: 0 | HM10: 0 | HN10: 0 | HO10: 0 | HP10: 0 | HQ10: 0 | HR10: 0 | HS10: 0 | HT10: 0 | HU10: 0 | HV10: 0 | HW10: 0 | HX10: 0 | HY10: 0 | HZ10: 0 | IA10: 0 | IB10: 0 | IC10: 0 | ID10: 0 | IE10: 0 | IF10: 0 | IG10: 0 | IH10: 0 | II10: 0 | IJ10: 0 | IK10: 0 | IL10: 0 | IM10: 0 | IN10: 0 | IO10: 0 | IP10: 0 | IQ10: 0 | IR10: 0 | IS10: 0 | IT10: 0 | IU10: 0 | IV10: 0.5 | IW10: 0 | IX10: 0 | IY10: 0 | IZ10: 0 | JA10: 0 | JB10: 2 | JC10: 0 | JD10: 0 | JE10: 0 | JF10: 0 | JG10: 1 | JH10: 2 | JI10: 9 | JJ10: 0.5 | JK10: 0.5 | JL10: 1.5 | JM10: 8.5 | JN10: 6.5 | JO10: 5 | JP10: 17 | JQ10: 14 | JR10: 22.5 | JS10: 4 | JT10: 3.5 | JU10: 6.5 | JV10: 12 | JW10: 12.5 | JX10: 1 | JY10: 32.5 | JZ10: 16 | KA10: 0 | KB10: 1.5 | KC10: 15.5 | KD10: 33 | KE10: 8.5 | KF10: 0 | KG10: 7 | KH10: 0 | KI10: 0.5 | KJ10: 0 | KK10: 0 | KL10: 0 | KM10: 0 | KN10: 0 | KO10: 0 | KP10: 0 | KQ10: 0 | KR10: 0 | KS10: 0 | KT10: 0 | KU10: 0 | KV10: 0 | KW10: 0 | KX10: 0 | KY10: 0 | KZ10: 0 | LA10: 0 | LB10: 0
A11: 43279.125 | B11: 0 | C11: 0 | D11: 0 | E11: 0 | F11: 0 | G11: 0 | H11: 0 | I11: 0 | J11: 0.5 | K11: 0 | L11: 0 | M11: 0 | N11: 0 | O11: 0 | P11: 0 | Q11: 0 | R11: 0 | S11: 0 | T11: 0 | U11: 0 | V11: 0 | W11: 0 | X11: 0 | Y11: 0 | Z11: 0 | AA11: 0 | AB11: 0 | AC11: 0 | AD11: 0 | AE11: 0 | AF11: 0 | AG11: 0 | AH11: 0 | AI11: 0 | AJ11: 0 | AK11: 0 | AL11: 0 | AM11: 0 | AN11: 0 | AO11: 0 | AP11: 0 | AQ11: 0 | AR11: 0 | AS11: 0 | AT11: 0 | AU11: 0 | AV11: 0 | AW11: 0 | AX11: 0 | AY11: 0 | AZ11: 13.5 | BA11: 14.5 | BB11: 9 | BC11: 12 | BD11: 15 | BE11: 0 | BF11: 19.5 | BG11: 0 | BH11: 0 | BI11: 0 | BJ11: 0 | BK11: 0 | BL11: 0 | BM11: 0.5 | BN11: 0 | BO11: 0 | BP11: 16.5 | BQ11: 2.5 | BR11: 7 | BS11: 4.5 | BT11: 0 | BU11: 0 | BV11: 12.5 | BW11: 7 | BX11: 1.5 | BY11: 0 | BZ11: 0 | CA11: 0.5 | CB11: 15.5 | CC11: 8.5 | CD11: 10.5 | CE11: 0.5 | CF11: 0 | CG11: 2.5 | CH11: 2 | CI11: 0.5 | CJ11: 0 | CK11: 2 | CL11: 3.5 | CM11: 8 | CN11: 1.5 | CO11: 2 | CP11: 1 | CQ11: 1.5 | CR11: 8.5 | CS11: 2 | CT11: 6 | CU11: 3 | CV11: 0.5 | CW11: 0 | CX11: 0 | CY11: 14.5 | CZ11: 16.5 | DA11: 15.5 | DB11: 0 | DC11: 0.5 | DD11: 0 | DE11: 0.5 | DF11: 0 | DG11: 0 | DH11: 0 | DI11: 0 | DJ11: 0 | DK11: 0 | DL11: 0 | DM11: 0.5 | DN11: 20.5 | DO11: 7.5 | DP11: 16 | DQ11: 3 | DR11: 0 | DS11: 17.5 | DT11: 0 | DU11: 0 | DV11: 0 | DW11: 2 | DX11: 5 | DY11: 0 | DZ11: 1 | EA11: 5 | EB11: 6 | EC11: 6 | ED11: 5 | EE11: 5.5 | EF11: 0 | EG11: 0 | EH11: 0 | EI11: 0 | EJ11: 0 | EK11: 0 | EL11: 3.5 | EM11: 1 | EN11: 0.5 | EO11: 0 | EP11: 0 | EQ11: 2 | ER11: 0 | ES11: 0 | ET11: 0 | EU11: 0 | EV11: 7 | EW11: 3 | EX11: 2.5 | EY11: 4 | EZ11: 10.5 | FA11: 0.5 | FB11: 0 | FC11: 13.5 | FD11: 5 | FE11: 7 | FF11: 0 | FG11: 4.5 | FH11: 10.5 | FI11: 12.5 | FJ11: 6 | FK11: 5.5 | FL11: 1.5 | FM11: 2.5 | FN11: 0.5 | FO11: 1 | FP11: 8.5 | FQ11: 10 | FR11: 5 | FS11: 1 | FT11: 0 | FU11: 0.5 | FV11: 0 | FW11: 0 | FX11: 4.5 | FY11: 3.5 | FZ11: 0 | GA11: 0.5 | GB11: 0 | GC11: 1 | GD11: 7.5 | GE11: 6.5 | GF11: 3.5 | GG11: 0.5 | GH11: 1 | GI11: 4 | GJ11: 2.5 | GK11: 2 | GL11: 0.5 | GM11: 4 | GN11: 11.5 | GO11: 2 | GP11: 7.5 | GQ11: 0.5 | GR11: 4 | GS11: 0 | GT11: 0 | GU11: 0 | GV11: 0 | GW11: 0 | GX11: 0 | GY11: 0 | GZ11: 0 | HA11: 0 | HB11: 0 | HC11: 0 | HD11: 0 | HE11: 0 | HF11: 0 | HG11: 0 | HH11: 0 | HI11: 0 | HJ11: 0 | HK11: 0 | HL11: 0 | HM11: 0 | HN11: 0 | HO11: 0 | HP11: 0 | HQ11: 0 | HR11: 0 | HS11: 0 | HT11: 0 | HU11: 0 | HV11: 0 | HW11: 0 | HX11: 0 | HY11: 0 | HZ11: 0 | IA11: 0 | IB11: 0 | IC11: 0 | ID11: 0 | IE11: 0 | IF11: 0 | IG11: 0 | IH11: 0 | II11: 0 | IJ11: 0 | IK11: 0 | IL11: 0 | IM11: 0 | IN11: 0 | IO11: 0 | IP11: 0 | IQ11: 0 | IR11: 0.5 | IS11: 0 | IT11: 0 | IU11: 0 | IV11: 0.5 | IW11: 0 | IX11: 0 | IY11: 0 | IZ11: 0 | JA11: 0 | JB11: 0 | JC11: 0 | JD11: 0 | JE11: 0 | JF11: 0 | JG11: 0 | JH11: 0.5 | JI11: 2 | JJ11: 1 | JK11: 3 | JL11: 4 | JM11: 1.5 | JN11: 2 | JO11: 9 | JP11: 3 | JQ11: 7.5 | JR11: 7 | JS11: 2.5 | JT11: 1 | JU11: 2 | JV11: 4 | JW11: 7.5 | JX11: 4 | JY11: 7.5 | JZ11: 12 | KA11: 1 | KB11: 1 | KC11: 4 | KD11: 10 | KE11: 1.5 | KF11: 0 | KG11: 2.5 | KH11: 0 | KI11: 1.5 | KJ11: 0.5 | KK11: 0 | KL11: 0 | KM11: 0 | KN11: 0 | KO11: 0 | KP11: 0 | KQ11: 0 | KR11: 0 | KS11: 0 | KT11: 0 | KU11: 0 | KV11: 0 | KW11: 0 | KX11: 0 | KY11: 0 | KZ11: 0 | LA11: 0 | LB11: 0
A12: 43279.167 | B12: 0 | C12: 0 | D12: 0 | E12: 0 | F12: 0 | G12: 0 | H12: 1 | I12: 0 | J12: 0 | K12: 0 | L12: 0 | M12: 0 | N12: 0 | O12: 0 | P12: 0 | Q12: 0 | R12: 3.5 | S12: 0 | T12: 0 | U12: 0 | V12: 0 | W12: 0 | X12: 0 | Y12: 0 | Z12: 0 | AA12: 0 | AB12: 0 | AC12: 0 | AD12: 0 | AE12: 0 | AF12: 0 | AG12: 0 | AH12: 0 | AI12: 0 | AJ12: 0 | AK12: 0 | AL12: 0 | AM12: 0 | AN12: 0.5 | AO12: 0 | AP12: 0 | AQ12: 0 | AR12: 0 | AS12: 0 | AT12: 0 | AU12: 0 | AV12: 0 | AW12: 0 | AX12: 0 | AY12: 0 | AZ12: 5 | BA12: 3 | BB12: 3.5 | BC12: 2 | BD12: 0 | BE12: 3.5 | BF12: 0 | BG12: 0 | BH12: 0 | BI12: 0 | BJ12: 0 | BK12: 0 | BL12: 0 | BM12: 0 | BN12: 0 | BO12: 0 | BP12: 2.5 | BQ12: 6 | BR12: 2 | BS12: 0 | BT12: 0.5 | BU12: 0 | BV12: 2.5 | BW12: 0.5 | BX12: 8 | BY12: 0 | BZ12: 0 | CA12: 0 | CB12: 1.5 | CC12: 4 | CD12: 1.5 | CE12: 0 | CF12: 0 | CG12: 5 | CH12: 6 | CI12: 6.5 | CJ12: 6 | CK12: 1.5 | CL12: 4.5 | CM12: 3 | CN12: 5.5 | CO12: 2.5 | CP12: 4 | CQ12: 2 | CR12: 3 | CS12: 5.5 | CT12: 3 | CU12: 10.5 | CV12: 5 | CW12: 0 | CX12: 6.5 | CY12: 10 | CZ12: 5 | DA12: 7.5 | DB12: 3.5 | DC12: 2.5 | DD12: 8.5 | DE12: 4.5 | DF12: 0 | DG12: 1 | DH12: 0 | DI12: 0 | DJ12: 0 | DK12: 0 | DL12: 0 | DM12: 4 | DN12: 12.5 | DO12: 5.5 | DP12: 5.5 | DQ12: 7.5 | DR12: 1 | DS12: 7 | DT12: 6 | DU12: 2 | DV12: 3 | DW12: 5.5 | DX12: 2 | DY12: 3 | DZ12: 2 | EA12: 6 | EB12: 1.5 | EC12: 3.5 | ED12: 1 | EE12: 0 | EF12: 0 | EG12: 0 | EH12: 0 | EI12: 0 | EJ12: 0 | EK12: 0 | EL12: 0 | EM12: 3 | EN12: 0 | EO12: 0 | EP12: 0 | EQ12: 3 | ER12: 0 | ES12: 0 | ET12: 0 | EU12: 0 | EV12: 1 | EW12: 2 | EX12: 2 | EY12: 9.5 | EZ12: 1 | FA12: 0.5 | FB12: 0 | FC12: 2.5 | FD12: 0 | FE12: 4 | FF12: 0 | FG12: 2.5 | FH12: 3 | FI12: 3 | FJ12: 2 | FK12: 3.5 | FL12: 3 | FM12: 4.5 | FN12: 0 | FO12: 2 | FP12: 37 | FQ12: 33 | FR12: 4 | FS12: 0 | FT12: 0 | FU12: 0.5 | FV12: 0 | FW12: 0 | FX12: 7 | FY12: 2.5 | FZ12: 4 | GA12: 0 | GB12: 0 | GC12: 5 | GD12: 2.5 | GE12: 1.5 | GF12: 6.5 | GG12: 2.5 | GH12: 1 | GI12: 1 | GJ12: 1 | GK12: 5.5 | GL12: 0 | GM12: 0 | GN12: 2.5 | GO12: 3 | GP12: 2.5 | GQ12: 0.5 | GR12: 23.5 | GS12: 0 | GT12: 0 | GU12: 0 | GV12: 0 | GW12: 0 | GX12: 0 | GY12: 0 | GZ12: 0 | HA12: 0 | HB12: 0 | HC12: 0 | HD12: 0 | HE12: 0 | HF12: 0 | HG12: 0 | HH12: 0 | HI12: 0 | HJ12: 0 | HK12: 0 | HL12: 0 | HM12: 0 | HN12: 0 | HO12: 0 | HP12: 0 | HQ12: 0 | HR12: 0 | HS12: 0 | HT12: 0 | HU12: 0 | HV12: 0 | HW12: 0 | HX12: 0 | HY12: 0 | HZ12: 0 | IA12: 0 | IB12: 0 | IC12: 0 | ID12: 0 | IE12: 0 | IF12: 0 | IG12: 0 | IH12: 0 | II12: 0 | IJ12: 0 | IK12: 0 | IL12: 0 | IM12: 0 | IN12: 0 | IO12: 0 | IP12: 0 | IQ12: 0 | IR12: 0 | IS12: 0 | IT12: 0 | IU12: 0 | IV12: 0 | IW12: 0 | IX12: 0 | IY12: 0 | IZ12: 0 | JA12: 0 | JB12: 0 | JC12: 0 | JD12: 0 | JE12: 0 | JF12: 0 | JG12: 0 | JH12: 0 | JI12: 0 | JJ12: 1 | JK12: 0 | JL12: 0 | JM12: 5.5 | JN12: 1.5 | JO12: 1 | JP12: 8 | JQ12: 2.5 | JR12: 1 | JS12: 0 | JT12: 0 | JU12: 1.5 | JV12: 6.5 | JW12: 3 | JX12: 1 | JY12: 3 | JZ12: 0 | KA12: 0 | KB12: 1.5 | KC12: 7 | KD12: 3.5 | KE12: 5 | KF12: 0 | KG12: 0 | KH12: 0 | KI12: 3.5 | KJ12: 0.5 | KK12: 0 | KL12: 0 | KM12: 0 | KN12: 0 | KO12: 0 | KP12: 0 | KQ12: 0 | KR12: 0 | KS12: 0 | KT12: 0 | KU12: 0 | KV12: 0 | KW12: 0 | KX12: 0 | KY12: 0 | KZ12: 0 | LA12: 0 | LB12: 0
A13: 43279.208 | B13: 0 | C13: 0 | D13: 0 | E13: 0 | F13: 0 | G13: 0 | H13: 0 | I13: 0 | J13: 0 | K13: 0 | L13: 0 | M13: 0 | N13: 0 | O13: 0 | P13: 0 | Q13: 0 | R13: 30.5 | S13: 0 | T13: 0 | U13: 0 | V13: 0 | W13: 0 | X13: 0 | Y13: 0 | Z13: 1 | AA13: 0 | AB13: 0 | AC13: 0 | AD13: 0 | AE13: 0 | AF13: 0 | AG13: 0 | AH13: 0 | AI13: 0 | AJ13: 0 | AK13: 0 | AL13: 0 | AM13: 0 | AN13: 0 | AO13: 0 | AP13: 0 | AQ13: 0 | AR13: 0 | AS13: 0 | AT13: 0 | AU13: 0 | AV13: 0 | AW13: 0 | AX13: 0 | AY13: 0 | AZ13: 7.5 | BA13: 0 | BB13: 0.5 | BC13: 0 | BD13: 0 | BE13: 0 | BF13: 0 | BG13: 0 | BH13: 0 | BI13: 0 | BJ13: 0 | BK13: 0 | BL13: 0 | BM13: 0 | BN13: 0 | BO13: 0 | BP13: 7.5 | BQ13: 1 | BR13: 0 | BS13: 0 | BT13: 0 | BU13: 0 | BV13: 0 | BW13: 0 | BX13: 1 | BY13: 0 | BZ13: 0 | CA13: 0 | CB13: 0 | CC13: 2.5 | CD13: 0 | CE13: 0 | CF13: 0 | CG13: 10.5 | CH13: 1 | CI13: 1.5 | CJ13: 2.5 | CK13: 3.5 | CL13: 1 | CM13: 2.5 | CN13: 3.5 | CO13: 0.5 | CP13: 2 | CQ13: 4.5 | CR13: 7 | CS13: 3 | CT13: 3 | CU13: 2.5 | CV13: 1.5 | CW13: 0.5 | CX13: 1.5 | CY13: 1.5 | CZ13: 3 | DA13: 2 | DB13: 2.5 | DC13: 5.5 | DD13: 1 | DE13: 6.5 | DF13: 3.5 | DG13: 1.5 | DH13: 0 | DI13: 0 | DJ13: 0 | DK13: 0 | DL13: 0 | DM13: 2.5 | DN13: 1.5 | DO13: 4 | DP13: 3.5 | DQ13: 2 | DR13: 1.5 | DS13: 4.5 | DT13: 4.5 | DU13: 1 | DV13: 2 | DW13: 1.5 | DX13: 1.5 | DY13: 0.5 | DZ13: 2 | EA13: 4.5 | EB13: 0 | EC13: 2.5 | ED13: 2 | EE13: 0 | EF13: 1.5 | EG13: 0 | EH13: 0 | EI13: 0 | EJ13: 0 | EK13: 0 | EL13: 0 | EM13: 1 | EN13: 1 | EO13: 0 | EP13: 0 | EQ13: 1 | ER13: 0 | ES13: 0 | ET13: 0 | EU13: 0 | EV13: 3.5 | EW13: 3 | EX13: 2.5 | EY13: 7 | EZ13: 0 | FA13: 0 | FB13: 0 | FC13: 0 | FD13: 4 | FE13: 0.5 | FF13: 0 | FG13: 2.5 | FH13: 1 | FI13: 0 | FJ13: 6.5 | FK13: 0.5 | FL13: 2 | FM13: 2 | FN13: 4.5 | FO13: 7 | FP13: 31.5 | FQ13: 45.5 | FR13: 7.5 | FS13: 3 | FT13: 3 | FU13: 5.5 | FV13: 2 | FW13: 2 | FX13: 6 | FY13: 8 | FZ13: 6 | GA13: 4 | GB13: 2 | GC13: 7 | GD13: 8.5 | GE13: 12 | GF13: 4 | GG13: 1 | GH13: 3 | GI13: 2 | GJ13: 1 | GK13: 12.5 | GL13: 1 | GM13: 1 | GN13: 2 | GO13: 5.5 | GP13: 1 | GQ13: 6.5 | GR13: 17 | GS13: 0 | GT13: 0 | GU13: 0 | GV13: 0 | GW13: 0 | GX13: 0 | GY13: 0 | GZ13: 0 | HA13: 0 | HB13: 0 | HC13: 0 | HD13: 0 | HE13: 0 | HF13: 0 | HG13: 0 | HH13: 0 | HI13: 0 | HJ13: 0 | HK13: 0 | HL13: 0 | HM13: 0 | HN13: 0 | HO13: 0 | HP13: 0 | HQ13: 0 | HR13: 0 | HS13: 0 | HT13: 0 | HU13: 0 | HV13: 0 | HW13: 0 | HX13: 0 | HY13: 0 | HZ13: 0 | IA13: 0 | IB13: 0 | IC13: 0 | ID13: 0 | IE13: 0 | IF13: 0 | IG13: 0 | IH13: 0 | II13: 0 | IJ13: 0 | IK13: 0 | IL13: 0 | IM13: 0 | IN13: 0 | IO13: 0 | IP13: 0 | IQ13: 0 | IR13: 0 | IS13: 0 | IT13: 0 | IU13: 0 | IV13: 0 | IW13: 0 | IX13: 0 | IY13: 0 | IZ13: 0 | JA13: 0 | JB13: 0 | JC13: 0 | JD13: 0 | JE13: 0 | JF13: 0 | JG13: 0 | JH13: 0 | JI13: 0 | JJ13: 12 | JK13: 8.5 | JL13: 4.5 | JM13: 8.5 | JN13: 3.5 | JO13: 6.5 | JP13: 0.5 | JQ13: 0.5 | JR13: 0 | JS13: 0 | JT13: 0 | JU13: 3.5 | JV13: 0.5 | JW13: 0 | JX13: 2.5 | JY13: 0 | JZ13: 0 | KA13: 0 | KB13: 10 | KC13: 4 | KD13: 0 | KE13: 4 | KF13: 0 | KG13: 0 | KH13: 0 | KI13: 8.5 | KJ13: 0 | KK13: 0 | KL13: 0 | KM13: 0 | KN13: 0 | KO13: 0 | KP13: 0 | KQ13: 0 | KR13: 0 | KS13: 0 | KT13: 0 | KU13: 0 | KV13: 0 | KW13: 0 | KX13: 0 | KY13: 0 | KZ13: 0 | LA13: 0 | LB13: 0
A14: 43279.25 | B14: 0 | C14: 0 | D14: 0 | E14: 0 | F14: 0 | G14: 0.5 | H14: 0 | I14: 0 | J14: 0.5 | K14: 0 | L14: 0 | M14: 0 | N14: 0 | O14: 0 | P14: 0 | Q14: 0 | R14: 8.5 | S14: 0 | T14: 0 | U14: 0 | V14: 0 | W14: 0 | X14: 0 | Y14: 0 | Z14: 0.5 | AA14: 0 | AB14: 0 | AC14: 0 | AD14: 0 | AE14: 0 | AF14: 0 | AG14: 0 | AH14: 0 | AI14: 0 | AJ14: 0 | AK14: 0 | AL14: 0 | AM14: 0 | AN14: 0 | AO14: 0 | AP14: 0 | AQ14: 0 | AR14: 0 | AS14: 0 | AT14: 0 | AU14: 0 | AV14: 0 | AW14: 0 | AX14: 0 | AY14: 0 | AZ14: 0 | BA14: 0 | BB14: 0 | BC14: 0 | BD14: 0 | BE14: 0 | BF14: 0 | BG14: 0 | BH14: 0 | BI14: 0 | BJ14: 0 | BK14: 0 | BL14: 0 | BM14: 0 | BN14: 0 | BO14: 0 | BP14: 0 | BQ14: 0 | BR14: 0 | BS14: 0 | BT14: 0 | BU14: 0 | BV14: 0 | BW14: 0.5 | BX14: 0 | BY14: 0 | BZ14: 0 | CA14: 0 | CB14: 0 | CC14: 0 | CD14: 0 | CE14: 0 | CF14: 0 | CG14: 8.5 | CH14: 9.5 | CI14: 2.5 | CJ14: 6.5 | CK14: 14.5 | CL14: 8 | CM14: 9 | CN14: 1 | CO14: 4.5 | CP14: 1.5 | CQ14: 7.5 | CR14: 1.5 | CS14: 2.5 | CT14: 6.5 | CU14: 5.5 | CV14: 11.5 | CW14: 0 | CX14: 0.5 | CY14: 1 | CZ14: 5 | DA14: 1.5 | DB14: 0.5 | DC14: 1 | DD14: 0.5 | DE14: 0.5 | DF14: 1 | DG14: 0 | DH14: 0 | DI14: 0 | DJ14: 0 | DK14: 0 | DL14: 0 | DM14: 1 | DN14: 1.5 | DO14: 5.5 | DP14: 2 | DQ14: 4.5 | DR14: 0 | DS14: 4 | DT14: 0.5 | DU14: 1.5 | DV14: 5.5 | DW14: 1.5 | DX14: 0.5 | DY14: 0 | DZ14: 0 | EA14: 0 | EB14: 0.5 | EC14: 0.5 | ED14: 2 | EE14: 0.5 | EF14: 0.5 | EG14: 0 | EH14: 0 | EI14: 0 | EJ14: 0 | EK14: 0 | EL14: 0.5 | EM14: 0 | EN14: 2 | EO14: 0 | EP14: 0 | EQ14: 1 | ER14: 0 | ES14: 0 | ET14: 0 | EU14: 0 | EV14: 0 | EW14: 0 | EX14: 0.5 | EY14: 0 | EZ14: 0.5 | FA14: 0 | FB14: 0 | FC14: 0 | FD14: 0.5 | FE14: 0.5 | FF14: 0 | FG14: 2 | FH14: 0.5 | FI14: 0 | FJ14: 0.5 | FK14: 0 | FL14: 0 | FM14: 0.5 | FN14: 1 | FO14: 1.5 | FP14: 18 | FQ14: 1.5 | FR14: 1.5 | FS14: 1 | FT14: 2 | FU14: 1 | FV14: 2 | FW14: 2.5 | FX14: 0 | FY14: 0 | FZ14: 0 | GA14: 2.5 | GB14: 0.5 | GC14: 0 | GD14: 2.5 | GE14: 5.5 | GF14: 3 | GG14: 3 | GH14: 1 | GI14: 1.5 | GJ14: 1 | GK14: 8 | GL14: 2 | GM14: 3 | GN14: 1 | GO14: 3.5 | GP14: 1.5 | GQ14: 1 | GR14: 1 | GS14: 0 | GT14: 0 | GU14: 0 | GV14: 0 | GW14: 0 | GX14: 0 | GY14: 0 | GZ14: 0 | HA14: 0 | HB14: 0 | HC14: 0 | HD14: 0 | HE14: 0 | HF14: 0 | HG14: 0 | HH14: 0 | HI14: 0 | HJ14: 0 | HK14: 0 | HL14: 0 | HM14: 0 | HN14: 0 | HO14: 0 | HP14: 0 | HQ14: 0 | HR14: 0 | HS14: 0 | HT14: 0 | HU14: 0 | HV14: 0 | HW14: 0 | HX14: 0 | HY14: 0 | HZ14: 0 | IA14: 0 | IB14: 0 | IC14: 0 | ID14: 0 | IE14: 0 | IF14: 0 | IG14: 0 | IH14: 0 | II14: 0 | IJ14: 0 | IK14: 0 | IL14: 0 | IM14: 0 | IN14: 0 | IO14: 0 | IP14: 0 | IQ14: 0 | IR14: 0 | IS14: 0 | IT14: 0 | IU14: 0 | IV14: 0 | IW14: 0 | IX14: 0 | IY14: 0 | IZ14: 0 | JA14: 0 | JB14: 0 | JC14: 0 | JD14: 0 | JE14: 0 | JF14: 0 | JG14: 0 | JH14: 0 | JI14: 0 | JJ14: 19.5 | JK14: 15.5 | JL14: 15.5 | JM14: 3.5 | JN14: 1.5 | JO14: 0 | JP14: 0 | JQ14: 0 | JR14: 0 | JS14: 0 | JT14: 0 | JU14: 3.5 | JV14: 0 | JW14: 0 | JX14: 3.5 | JY14: 0 | JZ14: 0 | KA14: 4 | KB14: 19 | KC14: 0 | KD14: 0 | KE14: 0 | KF14: 0.5 | KG14: 0 | KH14: 0 | KI14: 4.5 | KJ14: 0 | KK14: 0 | KL14: 0 | KM14: 0 | KN14: 0 | KO14: 0 | KP14: 0 | KQ14: 0 | KR14: 0 | KS14: 0 | KT14: 0 | KU14: 0 | KV14: 0 | KW14: 0 | KX14: 0 | KY14: 0 | KZ14: 0 | LA14: 0 | LB14: 0
A15: 43279.292 | B15: 0 | C15: 0 | D15: 0 | E15: 0 | F15: 0 | G15: 0.5 | H15: 1.5 | I15: 0 | J15: 0 | K15: 0 | L15: 0 | M15: 0 | N15: 0 | O15: 0 | P15: 0 | Q15: 0 | R15: 0.5 | S15: 0 | T15: 0 | U15: 0 | V15: 0 | W15: 0 | X15: 0 | Y15: 0 | Z15: 1 | AA15: 1.5 | AB15: 0 | AC15: 0 | AD15: 0 | AE15: 0.5 | AF15: 0 | AG15: 0 | AH15: 0 | AI15: 0 | AJ15: 0 | AK15: 0 | AL15: 0 | AM15: 0 | AN15: 0 | AO15: 0 | AP15: 0 | AQ15: 0 | AR15: 0 | AS15: 0 | AT15: 0 | AU15: 0 | AV15: 0 | AW15: 0 | AX15: 0 | AY15: 0 | AZ15: 0 | BA15: 0 | BB15: 0 | BC15: 0 | BD15: 0 | BE15: 0 | BF15: 0 | BG15: 0 | BH15: 0 | BI15: 0 | BJ15: 0 | BK15: 0 | BL15: 0 | BM15: 0 | BN15: 0 | BO15: 0 | BP15: 0 | BQ15: 0 | BR15: 0 | BS15: 0 | BT15: 0 | BU15: 0 | BV15: 0 | BW15: 0 | BX15: 0 | BY15: 0 | BZ15: 0 | CA15: 0 | CB15: 0 | CC15: 0 | CD15: 0 | CE15: 0 | CF15: 0 | CG15: 7 | CH15: 20 | CI15: 8 | CJ15: 10.5 | CK15: 8.5 | CL15: 14.5 | CM15: 5.5 | CN15: 1.5 | CO15: 4 | CP15: 3 | CQ15: 9 | CR15: 0 | CS15: 3 | CT15: 2 | CU15: 7 | CV15: 11 | CW15: 0 | CX15: 0 | CY15: 0 | CZ15: 0 | DA15: 0 | DB15: 0 | DC15: 0 | DD15: 0 | DE15: 0 | DF15: 0 | DG15: 0 | DH15: 0 | DI15: 0 | DJ15: 0 | DK15: 0 | DL15: 0 | DM15: 0 | DN15: 0 | DO15: 2.5 | DP15: 0 | DQ15: 1.5 | DR15: 0 | DS15: 0 | DT15: 0 | DU15: 0 | DV15: 4.5 | DW15: 6 | DX15: 1.5 | DY15: 0.5 | DZ15: 1 | EA15: 0.5 | EB15: 0.5 | EC15: 1 | ED15: 0 | EE15: 0 | EF15: 0 | EG15: 0 | EH15: 0 | EI15: 0 | EJ15: 0 | EK15: 0 | EL15: 0 | EM15: 2.5 | EN15: 0 | EO15: 0 | EP15: 0 | EQ15: 3.5 | ER15: 0 | ES15: 0 | ET15: 0 | EU15: 0 | EV15: 2 | EW15: 0.5 | EX15: 1 | EY15: 0.5 | EZ15: 0 | FA15: 0 | FB15: 0 | FC15: 0 | FD15: 5 | FE15: 0.5 | FF15: 0 | FG15: 0 | FH15: 0.5 | FI15: 0.5 | FJ15: 0.5 | FK15: 0.5 | FL15: 1 | FM15: 2.5 | FN15: 0.5 | FO15: 2 | FP15: 8.5 | FQ15: 7 | FR15: 0 | FS15: 1.5 | FT15: 0.5 | FU15: 0 | FV15: 0.5 | FW15: 0 | FX15: 0 | FY15: 0 | FZ15: 0 | GA15: 0.5 | GB15: 0 | GC15: 0 | GD15: 4.5 | GE15: 0.5 | GF15: 0 | GG15: 0 | GH15: 1.5 | GI15: 7 | GJ15: 6 | GK15: 1.5 | GL15: 0.5 | GM15: 1 | GN15: 3.5 | GO15: 1 | GP15: 4.5 | GQ15: 3.5 | GR15: 4 | GS15: 0 | GT15: 0 | GU15: 0 | GV15: 0 | GW15: 0 | GX15: 0 | GY15: 0 | GZ15: 0 | HA15: 0 | HB15: 0 | HC15: 0 | HD15: 0 | HE15: 0 | HF15: 0 | HG15: 0 | HH15: 0 | HI15: 0 | HJ15: 0 | HK15: 0 | HL15: 0 | HM15: 0 | HN15: 0 | HO15: 0 | HP15: 0 | HQ15: 0 | HR15: 0 | HS15: 0 | HT15: 0 | HU15: 0 | HV15: 0 | HW15: 0 | HX15: 0 | HY15: 0 | HZ15: 0 | IA15: 0 | IB15: 0 | IC15: 0 | ID15: 0 | IE15: 0 | IF15: 0 | IG15: 0 | IH15: 0 | II15: 0 | IJ15: 0 | IK15: 0 | IL15: 0 | IM15: 0 | IN15: 0 | IO15: 0 | IP15: 0 | IQ15: 0 | IR15: 0 | IS15: 0 | IT15: 0 | IU15: 0 | IV15: 0 | IW15: 0 | IX15: 0 | IY15: 0 | IZ15: 0 | JA15: 0 | JB15: 0 | JC15: 0 | JD15: 0 | JE15: 0 | JF15: 0 | JG15: 0 | JH15: 0 | JI15: 0 | JJ15: 14 | JK15: 12 | JL15: 0 | JM15: 2.5 | JN15: 0 | JO15: 0 | JP15: 0 | JQ15: 0 | JR15: 0 | JS15: 0 | JT15: 0 | JU15: 0 | JV15: 0.5 | JW15: 0 | JX15: 3 | JY15: 0 | JZ15: 0 | KA15: 11.5 | KB15: 4.5 | KC15: 0 | KD15: 0 | KE15: 1 | KF15: 9 | KG15: 0 | KH15: 0 | KI15: 7 | KJ15: 11 | KK15: 0 | KL15: 0 | KM15: 0 | KN15: 0 | KO15: 0 | KP15: 0 | KQ15: 0 | KR15: 0 | KS15: 0 | KT15: 0 | KU15: 0 | KV15: 0 | KW15: 0 | KX15: 0 | KY15: 0 | KZ15: 0 | LA15: 0 | LB15: 0
A16: 43279.333 | B16: 0 | C16: 0 | D16: 0 | E16: 0 | F16: 0 | G16: 0 | H16: 2 | I16: 0 | J16: 0 | K16: 0 | L16: 0 | M16: 0 | N16: 0 | O16: 0 | P16: 0 | Q16: 0 | R16: 1.5 | S16: 0 | T16: 0 | U16: 0 | V16: 0 | W16: 0 | X16: 0 | Y16: 0 | Z16: 3.5 | AA16: 2 | AB16: 0 | AC16: 0 | AD16: 0 | AE16: 0.5 | AF16: 0 | AG16: 0 | AH16: 0 | AI16: 0 | AJ16: 0 | AK16: 0 | AL16: 0 | AM16: 0 | AN16: 0 | AO16: 0 | AP16: 0 | AQ16: 0 | AR16: 0 | AS16: 0 | AT16: 0 | AU16: 0 | AV16: 0 | AW16: 0 | AX16: 0 | AY16: 0 | AZ16: 0 | BA16: 0 | BB16: 0 | BC16: 0 | BD16: 0 | BE16: 0 | BF16: 0 | BG16: 0 | BH16: 0 | BI16: 0 | BJ16: 0 | BK16: 0 | BL16: 0 | BM16: 0 | BN16: 0 | BO16: 0 | BP16: 0 | BQ16: 0 | BR16: 0 | BS16: 0 | BT16: 0 | BU16: 0 | BV16: 0 | BW16: 0 | BX16: 0 | BY16: 0 | BZ16: 0 | CA16: 0 | CB16: 0 | CC16: 0 | CD16: 0 | CE16: 0 | CF16: 0 | CG16: 6 | CH16: 1.5 | CI16: 0.5 | CJ16: 2 | CK16: 0 | CL16: 0 | CM16: 0 | CN16: 0 | CO16: 0 | CP16: 0 | CQ16: 0.5 | CR16: 0 | CS16: 0 | CT16: 0 | CU16: 0.5 | CV16: 1.5 | CW16: 0 | CX16: 0 | CY16: 0 | CZ16: 0 | DA16: 0 | DB16: 0 | DC16: 0 | DD16: 0 | DE16: 0 | DF16: 0 | DG16: 0 | DH16: 0 | DI16: 0 | DJ16: 0 | DK16: 0 | DL16: 0 | DM16: 0 | DN16: 0 | DO16: 0 | DP16: 0 | DQ16: 0 | DR16: 0 | DS16: 0 | DT16: 0 | DU16: 0 | DV16: 4 | DW16: 1.5 | DX16: 2.5 | DY16: 0 | DZ16: 0 | EA16: 0 | EB16: 0 | EC16: 0 | ED16: 0 | EE16: 0 | EF16: 0 | EG16: 0 | EH16: 0 | EI16: 0 | EJ16: 0 | EK16: 0 | EL16: 0 | EM16: 0 | EN16: 0 | EO16: 0 | EP16: 0 | EQ16: 0 | ER16: 0 | ES16: 0 | ET16: 0 | EU16: 0 | EV16: 3 | EW16: 0.5 | EX16: 2.5 | EY16: 0 | EZ16: 0 | FA16: 0 | FB16: 0 | FC16: 0 | FD16: 3 | FE16: 1 | FF16: 0 | FG16: 1 | FH16: 1 | FI16: 0 | FJ16: 1 | FK16: 0.5 | FL16: 2 | FM16: 1 | FN16: 0 | FO16: 8 | FP16: 1 | FQ16: 0 | FR16: 0 | FS16: 0 | FT16: 0 | FU16: 0 | FV16: 0 | FW16: 0 | FX16: 0 | FY16: 0 | FZ16: 0 | GA16: 0 | GB16: 0 | GC16: 0 | GD16: 1 | GE16: 0 | GF16: 20 | GG16: 0 | GH16: 3 | GI16: 0.5 | GJ16: 2 | GK16: 6.5 | GL16: 0 | GM16: 0 | GN16: 0 | GO16: 1 | GP16: 0 | GQ16: 0 | GR16: 0 | GS16: 0 | GT16: 0 | GU16: 0 | GV16: 0 | GW16: 0 | GX16: 0 | GY16: 0 | GZ16: 0 | HA16: 0 | HB16: 0 | HC16: 0 | HD16: 0 | HE16: 0 | HF16: 0 | HG16: 0 | HH16: 0 | HI16: 0 | HJ16: 0 | HK16: 0 | HL16: 0 | HM16: 0 | HN16: 0 | HO16: 0 | HP16: 0 | HQ16: 0 | HR16: 0 | HS16: 0 | HT16: 0 | HU16: 0 | HV16: 0 | HW16: 0 | HX16: 0 | HY16: 0 | HZ16: 0 | IA16: 0 | IB16: 0 | IC16: 0 | ID16: 0 | IE16: 0 | IF16: 0 | IG16: 0 | IH16: 0 | II16: 0 | IJ16: 0 | IL16: 0 | IM16: 0 | IN16: 0 | IO16: 0 | IP16: 0 | IQ16: 0 | IR16: 0 | IS16: 0 | IT16: 0 | IU16: 0 | IV16: 0 | IW16: 0 | IX16: 0 | IY16: 0 | IZ16: 0 | JA16: 0 | JB16: 0 | JC16: 0 | JD16: 0 | JE16: 0 | JF16: 0 | JG16: 0 | JH16: 0 | JI16: 0 | JJ16: 5 | JK16: 3.5 | JL16: 0.5 | JM16: 1 | JN16: 1 | JO16: 0.5 | JP16: 0 | JQ16: 3 | JR16: 0.5 | JS16: 0 | JT16: 0 | JU16: 0 | JV16: 4 | JW16: 0 | JX16: 0 | JY16: 0 | JZ16: 0 | KA16: 7 | KB16: 3.5 | KC16: 0 | KD16: 0 | KE16: 1 | KF16: 7 | KG16: 0 | KH16: 0 | KI16: 7 | KJ16: 8 | KK16: 0 | KL16: 0 | KM16: 0 | KN16: 0 | KO16: 0 | KP16: 0 | KQ16: 0 | KR16: 0 | KS16: 0 | KT16: 0 | KU16: 0 | KV16: 0 | KW16: 0 | KX16: 0 | KY16: 0 | KZ16: 0 | LA16: 0 | LB16: 0
A17: 43279.375 | B17: 0 | C17: 0 | D17: 0 | E17: 0 | F17: 0.5 | G17: 0 | H17: 8 | I17: 0 | J17: 0 | K17: 0 | L17: 0 | M17: 0.5 | N17: 0 | O17: 0 | P17: 0 | Q17: 0 | R17: 8 | S17: 0 | T17: 0 | U17: 0 | V17: 0 | W17: 0 | X17: 0 | Y17: 0 | Z17: 4 | AA17: 0 | AB17: 0 | AC17: 0 | AD17: 0 | AE17: 0.5 | AF17: 0 | AG17: 0 | AH17: 0 | AI17: 0 | AJ17: 0 | AK17: 0 | AL17: 0 | AM17: 0.5 | AN17: 0 | AO17: 0 | AP17: 0 | AQ17: 0 | AR17: 0 | AS17: 0 | AT17: 0 | AU17: 0 | AV17: 0 | AW17: 0 | AX17: 0 | AY17: 0 | AZ17: 0 | BA17: 0 | BB17: 0 | BC17: 0 | BD17: 0 | BE17: 0 | BF17: 0 | BG17: 0 | BH17: 0 | BI17: 0 | BJ17: 0 | BK17: 0 | BL17: 0 | BM17: 0 | BN17: 0 | BO17: 0 | BP17: 0 | BQ17: 0 | BR17: 0 | BS17: 0 | BT17: 0 | BU17: 0 | BV17: 0 | BW17: 0 | BX17: 0 | BY17: 0 | BZ17: 0 | CA17: 0 | CB17: 0 | CC17: 0 | CD17: 0 | CE17: 0 | CF17: 0 | CG17: 0 | CH17: 0 | CI17: 0 | CJ17: 0 | CK17: 0.5 | CL17: 0 | CM17: 0 | CN17: 0 | CO17: 0 | CP17: 0 | CQ17: 1.5 | CR17: 0 | CS17: 0 | CT17: 0 | CU17: 0 | CV17: 0 | CW17: 0 | CX17: 0 | CY17: 0 | CZ17: 0 | DA17: 0 | DB17: 0 | DC17: 0 | DD17: 0 | DE17: 0 | DF17: 0 | DG17: 0 | DH17: 0 | DI17: 0 | DJ17: 0 | DK17: 0 | DL17: 0 | DM17: 0 | DN17: 0 | DO17: 0 | DP17: 0 | DQ17: 0 | DR17: 0.5 | DS17: 0 | DT17: 0 | DU17: 0 | DV17: 0 | DW17: 0 | DX17: 0 | DY17: 0 | DZ17: 0 | EA17: 0 | EB17: 0 | EC17: 0 | ED17: 0 | EE17: 0 | EF17: 0 | EG17: 0 | EH17: 0 | EI17: 0 | EJ17: 0 | EK17: 0 | EL17: 0 | EM17: 0 | EN17: 0 | EO17: 0 | EP17: 0 | EQ17: 0 | ER17: 0 | ES17: 0 | ET17: 0 | EU17: 0 | EV17: 0 | EW17: 0 | EX17: 0 | EY17: 0 | EZ17: 0 | FA17: 0 | FB17: 0 | FC17: 0 | FD17: 0 | FE17: 0 | FF17: 0 | FG17: 0 | FH17: 0 | FI17: 0 | FJ17: 0 | FK17: 0 | FL17: 0 | FM17: 2 | FN17: 4.5 | FO17: 3.5 | FP17: 0 | FQ17: 0 | FR17: 0 | FS17: 0 | FT17: 0 | FU17: 0 | FV17: 0 | FW17: 0 | FX17: 0 | FY17: 0 | FZ17: 0 | GA17: 0 | GB17: 0 | GC17: 0 | GD17: 10.5 | GE17: 0 | GF17: 1 | GG17: 0 | GH17: 4 | GI17: 7 | GJ17: 0.5 | GK17: 0.5 | GL17: 0 | GM17: 0 | GN17: 0.5 | GO17: 2 | GP17: 0 | GQ17: 9 | GR17: 0.5 | GS17: 0 | GT17: 0 | GU17: 0 | GV17: 0 | GW17: 0 | GX17: 0 | GY17: 0 | GZ17: 0 | HA17: 0 | HB17: 0 | HC17: 0 | HD17: 0 | HE17: 0 | HF17: 0 | HG17: 0 | HH17: 0 | HI17: 0 | HJ17: 0 | HK17: 0 | HL17: 0 | HM17: 0 | HN17: 0 | HO17: 0 | HP17: 0 | HQ17: 0 | HR17: 0 | HS17: 0 | HT17: 0 | HU17: 0 | HV17: 0 | HW17: 0 | HX17: 0 | HY17: 0 | HZ17: 0 | IA17: 0 | IB17: 0 | IC17: 0 | ID17: 0 | IE17: 0 | IF17: 0 | IG17: 1 | IH17: 0 | II17: 0 | IJ17: 0 | IK17: 7 | IL17: 0 | IM17: 0 | IN17: 0 | IO17: 0 | IP17: 0 | IQ17: 0 | IR17: 0 | IS17: 0 | IT17: 0 | IU17: 0 | IV17: 0 | IW17: 0 | IX17: 0 | IY17: 0 | IZ17: 0 | JA17: 0 | JB17: 0 | JC17: 0 | JD17: 0 | JE17: 0 | JF17: 0 | JG17: 0 | JH17: 0 | JI17: 0 | JJ17: 3.5 | JK17: 1 | JL17: 0.5 | JM17: 6.5 | JN17: 0.5 | JO17: 0 | JP17: 0 | JQ17: 0 | JR17: 0 | JS17: 0 | JT17: 0 | JU17: 1 | JV17: 0 | JW17: 0 | JX17: 1 | JY17: 0 | JZ17: 0 | KA17: 2 | KB17: 5 | KC17: 0 | KD17: 0 | KE17: 2.5 | KF17: 2 | KG17: 0 | KH17: 0 | KI17: 2.5 | KJ17: 2 | KK17: 0 | KL17: 0 | KM17: 0 | KN17: 0 | KO17: 0 | KP17: 0 | KQ17: 0 | KR17: 0 | KS17: 0 | KT17: 0 | KU17: 0 | KV17: 0 | KW17: 0 | KX17: 0 | KY17: 0 | KZ17: 0 | LA17: 0 | LB17: 0
A18: 43279.417 | B18: 0 | C18: 0.5 | D18: 0 | E18: 0 | F18: 0 | G18: 0.5 | H18: 4.5 | I18: 0 | J18: 0 | K18: 0 | L18: 0 | M18: 0 | N18: 0 | O18: 0 | P18: 0 | Q18: 0 | R18: 10 | S18: 0 | T18: 0 | U18: 0 | V18: 0 | W18: 0.5 | X18: 0 | Y18: 0 | Z18: 2.5 | AA18: 2 | AB18: 0 | AC18: 0 | AD18: 0 | AE18: 0 | AF18: 0 | AG18: 0 | AH18: 0 | AI18: 0 | AJ18: 0 | AK18: 0 | AL18: 0 | AM18: 0 | AN18: 0 | AO18: 0 | AP18: 0 | AQ18: 0 | AR18: 0 | AS18: 0 | AT18: 0 | AU18: 0 | AV18: 0 | AW18: 0 | AX18: 0 | AY18: 0 | AZ18: 0 | BA18: 0 | BB18: 0 | BC18: 0 | BD18: 0 | BE18: 0 | BF18: 0 | BG18: 0 | BH18: 0 | BI18: 0 | BJ18: 0 | BK18: 0 | BL18: 0 | BM18: 0 | BN18: 0 | BO18: 0 | BP18: 0 | BQ18: 0 | BR18: 0 | BS18: 0 | BT18: 0 | BU18: 0 | BV18: 0 | BW18: 0 | BX18: 0 | BY18: 0 | BZ18: 0 | CA18: 0 | CB18: 0 | CC18: 0 | CD18: 0 | CE18: 0 | CF18: 0 | CG18: 1 | CH18: 0 | CI18: 0 | CJ18: 0 | CK18: 0 | CL18: 0 | CM18: 0 | CN18: 0 | CO18: 0 | CP18: 0 | CQ18: 0 | CR18: 0 | CS18: 0 | CT18: 0 | CU18: 0 | CV18: 0 | CW18: 0 | CX18: 0 | CY18: 0 | CZ18: 0 | DA18: 0 | DB18: 0 | DC18: 0 | DD18: 0 | DE18: 0 | DF18: 0 | DG18: 0 | DH18: 0 | DI18: 0 | DJ18: 0 | DK18: 0 | DL18: 0 | DM18: 0 | DN18: 0 | DO18: 0 | DP18: 0 | DQ18: 0 | DR18: 0 | DS18: 0 | DT18: 0 | DU18: 0 | DV18: 0 | DW18: 0.5 | DX18: 0 | DY18: 0 | DZ18: 0 | EA18: 0 | EB18: 0 | EC18: 0 | ED18: 0 | EE18: 0 | EF18: 0 | EG18: 0 | EH18: 0 | EI18: 0 | EJ18: 0 | EK18: 0 | EL18: 0 | EM18: 0 | EN18: 0 | EO18: 0 | EP18: 0 | EQ18: 0 | ER18: 0 | ES18: 0 | ET18: 0 | EU18: 0 | EV18: 0 | EW18: 0 | EX18: 0 | EY18: 0 | EZ18: 0 | FA18: 0 | FB18: 0 | FC18: 0 | FD18: 0.5 | FE18: 0 | FF18: 0 | FG18: 0 | FH18: 0 | FI18: 0 | FJ18: 0 | FK18: 0 | FL18: 0 | FM18: 2 | FN18: 0.5 | FO18: 9.5 | FP18: 0 | FQ18: 0 | FR18: 0 | FS18: 0 | FT18: 0 | FU18: 0 | FV18: 0 | FW18: 0 | FX18: 0 | FY18: 0 | FZ18: 0 | GA18: 0 | GB18: 0 | GC18: 0 | GD18: 16.5 | GE18: 1 | GF18: 2 | GG18: 0 | GH18: 2.5 | GI18: 19 | GJ18: 10 | GK18: 0 | GL18: 0 | GM18: 0 | GN18: 3 | GO18: 3.5 | GP18: 1.5 | GQ18: 7 | GR18: 0 | GS18: 0 | GT18: 0 | GU18: 0 | GV18: 0 | GW18: 0 | GX18: 0 | GY18: 0 | GZ18: 0 | HA18: 0 | HB18: 0 | HC18: 0 | HD18: 0 | HE18: 0 | HF18: 0 | HG18: 0 | HH18: 0 | HI18: 0 | HJ18: 0 | HK18: 0 | HL18: 0 | HM18: 0 | HN18: 0 | HO18: 0 | HP18: 0 | HQ18: 0 | HR18: 0 | HS18: 0 | HT18: 0 | HU18: 0 | HV18: 0 | HW18: 0 | HX18: 0 | HY18: 0 | HZ18: 0 | IA18: 0 | IB18: 0 | IC18: 0 | ID18: 0 | IE18: 0 | IF18: 0 | IG18: 0 | IH18: 0 | II18: 0 | IJ18: 0 | IK18: 0.5 | IL18: 0 | IM18: 0 | IN18: 0 | IO18: 0 | IP18: 0 | IQ18: 0 | IR18: 0 | IS18: 0 | IT18: 0 | IU18: 0 | IV18: 0 | IW18: 0 | IX18: 0 | IY18: 0 | IZ18: 0 | JA18: 0 | JB18: 0 | JC18: 0 | JD18: 0 | JE18: 0 | JF18: 0 | JG18: 0 | JH18: 0 | JI18: 0 | JJ18: 1 | JK18: 1 | JL18: 0 | JM18: 0 | JN18: 0 | JO18: 0 | JP18: 0 | JQ18: 0 | JR18: 0 | JS18: 0 | JT18: 0 | JU18: 0 | JV18: 0 | JW18: 0 | JX18: 0 | JY18: 0 | JZ18: 0 | KA18: 1.5 | KB18: 0 | KC18: 0 | KD18: 0 | KE18: 0 | KF18: 1.5 | KG18: 0 | KH18: 0 | KI18: 1.5 | KJ18: 1.5 | KK18: 0 | KL18: 0 | KM18: 0 | KN18: 0 | KO18: 0 | KP18: 0 | KQ18: 0 | KR18: 0 | KS18: 0 | KT18: 0 | KU18: 0 | KV18: 0 | KW18: 0 | KX18: 0 | KY18: 0 | KZ18: 0 | LA18: 0.5 | LB18: 0
A19: 43279.458 | B19: 0.5 | C19: 0 | D19: 1.5 | E19: 0 | F19: 0 | G19: 0 | H19: 0.5 | I19: 0 | J19: 0 | K19: 0 | L19: 0 | M19: 0 | N19: 0 | O19: 0 | P19: 0 | Q19: 0 | R19: 22.5 | S19: 0 | T19: 0 | U19: 0 | V19: 0 | W19: 3 | X19: 0 | Y19: 0 | Z19: 1 | AA19: 0 | AB19: 0 | AC19: 0.5 | AD19: 0 | AE19: 0 | AF19: 0 | AG19: 0 | AH19: 0 | AI19: 0 | AJ19: 0 | AK19: 1 | AL19: 0 | AM19: 0 | AN19: 0.5 | AO19: 0 | AP19: 0 | AQ19: 0 | AR19: 0 | AS19: 0 | AT19: 0 | AU19: 0 | AV19: 0 | AW19: 0 | AX19: 0 | AY19: 0 | AZ19: 0 | BA19: 0 | BB19: 0 | BC19: 0 | BD19: 0 | BE19: 0 | BF19: 0 | BG19: 0 | BH19: 0 | BI19: 0 | BJ19: 0 | BK19: 0 | BL19: 0 | BM19: 0 | BN19: 0 | BO19: 0 | BP19: 0 | BQ19: 0 | BR19: 0 | BS19: 0 | BT19: 0 | BU19: 0 | BV19: 0 | BW19: 0 | BX19: 0 | BY19: 0 | BZ19: 0 | CA19: 0 | CB19: 0 | CC19: 0 | CD19: 0 | CE19: 0 | CF19: 0 | CG19: 0 | CH19: 0 | CI19: 0 | CJ19: 0 | CK19: 0 | CL19: 0 | CM19: 0 | CN19: 0 | CO19: 0 | CP19: 0 | CQ19: 0 | CR19: 0 | CS19: 0 | CT19: 0 | CU19: 0 | CV19: 0 | CW19: 0 | CX19: 0 | CY19: 0 | CZ19: 0 | DA19: 0 | DB19: 0 | DC19: 0 | DD19: 0 | DE19: 0 | DF19: 0 | DG19: 0 | DH19: 0 | DI19: 0 | DJ19: 0 | DK19: 0 | DL19: 0 | DM19: 0 | DN19: 0 | DO19: 0 | DP19: 0 | DQ19: 0 | DR19: 0 | DS19: 0 | DT19: 0 | DU19: 0 | DV19: 0 | DW19: 0 | DX19: 0 | DY19: 0 | DZ19: 0 | EA19: 0 | EB19: 0 | EC19: 0 | ED19: 0 | EE19: 0 | EF19: 0 | EG19: 0 | EH19: 0 | EI19: 0 | EJ19: 0 | EK19: 0 | EL19: 0 | EM19: 0 | EN19: 0 | EO19: 0 | EP19: 0 | EQ19: 0 | ER19: 0 | ES19: 0 | ET19: 0 | EU19: 0 | EV19: 0 | EW19: 0 | EX19: 0 | EY19: 0 | EZ19: 0 | FA19: 0 | FB19: 0 | FC19: 0 | FD19: 0 | FE19: 0 | FF19: 0 | FG19: 0 | FH19: 0 | FI19: 0 | FJ19: 0 | FK19: 0 | FL19: 0 | FM19: 0.5 | FN19: 0 | FO19: 0 | FP19: 0 | FQ19: 0 | FR19: 0 | FS19: 0 | FT19: 0 | FU19: 0 | FV19: 0 | FW19: 0 | FX19: 0 | FY19: 0 | FZ19: 0 | GA19: 0 | GB19: 0 | GC19: 0 | GD19: 1.5 | GE19: 0 | GF19: 0 | GG19: 0 | GH19: 0 | GI19: 0 | GJ19: 1 | GK19: 0 | GL19: 0 | GM19: 0 | GN19: 0 | GO19: 0 | GP19: 0 | GQ19: 0 | GR19: 0 | GS19: 0 | GT19: 0 | GU19: 0 | GV19: 0 | GW19: 0 | GX19: 0 | GY19: 0 | GZ19: 0 | HA19: 0 | HB19: 0 | HC19: 0 | HD19: 0 | HE19: 0 | HF19: 0 | HG19: 0 | HH19: 0 | HI19: 0 | HJ19: 0 | HK19: 0 | HL19: 0 | HM19: 0 | HN19: 0 | HO19: 0 | HP19: 0 | HQ19: 0 | HR19: 0 | HS19: 0 | HT19: 0 | HU19: 0 | HV19: 0 | HW19: 0 | HX19: 0 | HY19: 0 | HZ19: 0 | IA19: 0 | IB19: 0 | IC19: 0 | ID19: 0 | IE19: 0 | IF19: 0 | IG19: 0 | IH19: 0 | II19: 0 | IJ19: 0 | IK19: 0 | IL19: 0 | IM19: 0 | IN19: 0 | IO19: 0 | IP19: 0 | IQ19: 0 | IR19: 0 | IS19: 0 | IT19: 0 | IU19: 0 | IV19: 0 | IW19: 0 | IX19: 0 | IY19: 0 | IZ19: 0 | JA19: 0 | JB19: 0 | JC19: 0 | JD19: 0 | JE19: 0 | JF19: 0 | JG19: 0 | JH19: 0 | JI19: 0 | JJ19: 0 | JK19: 0 | JL19: 0 | JM19: 0 | JN19: 0 | JO19: 0 | JP19: 0 | JQ19: 0 | JR19: 0 | JS19: 0 | JT19: 0 | JU19: 0 | JV19: 0 | JW19: 0 | JX19: 0 | JY19: 0 | JZ19: 0 | KA19: 5 | KB19: 0 | KC19: 0 | KD19: 0 | KE19: 0 | KF19: 3 | KG19: 0 | KH19: 0 | KI19: 0 | KJ19: 2.5 | KK19: 0 | KL19: 0 | KM19: 0 | KN19: 0 | KO19: 0 | KP19: 0 | KQ19: 0 | KR19: 0 | KS19: 0 | KT19: 0 | KU19: 0 | KV19: 0 | KW19: 0 | KX19: 0 | KY19: 0 | KZ19: 0 | LA19: 0 | LB19: 0
A20: 43279.5 | B20: 2.5 | C20: 0 | D20: 0 | E20: 0 | F20: 0 | G20: 0.5 | H20: 0 | I20: 0 | J20: 0 | K20: 0 | L20: 0 | M20: 0 | N20: 0 | O20: 0 | P20: 0 | Q20: 0 | R20: 7.5 | S20: 0 | T20: 0 | U20: 0 | V20: 0 | W20: 2 | X20: 0 | Y20: 0 | Z20: 4 | AA20: 0 | AB20: 0 | AC20: 0 | AD20: 0 | AE20: 0 | AF20: 0 | AG20: 0 | AH20: 0 | AI20: 0 | AJ20: 0 | AK20: 0 | AL20: 0 | AM20: 0 | AN20: 0 | AO20: 0 | AP20: 0 | AQ20: 0 | AR20: 0 | AS20: 0 | AT20: 0.5 | AU20: 0 | AV20: 0 | AW20: 1 | AX20: 0 | AY20: 0 | AZ20: 0 | BA20: 0 | BB20: 0 | BC20: 0 | BD20: 0 | BE20: 0 | BF20: 0 | BG20: 0 | BH20: 0 | BI20: 0 | BJ20: 0 | BK20: 0 | BL20: 0 | BM20: 0 | BN20: 0 | BO20: 0 | BP20: 0 | BQ20: 0 | BR20: 0 | BS20: 0 | BT20: 0 | BU20: 0 | BV20: 0 | BW20: 0 | BX20: 0 | BY20: 0 | BZ20: 0 | CA20: 0 | CB20: 0 | CC20: 0 | CD20: 0 | CE20: 0 | CF20: 0 | CG20: 0 | CH20: 0 | CI20: 0 | CJ20: 0 | CK20: 0 | CL20: 0 | CM20: 0 | CN20: 0 | CO20: 0 | CP20: 0 | CQ20: 0 | CR20: 0 | CS20: 0 | CT20: 0 | CU20: 0 | CV20: 0 | CW20: 0 | CX20: 0 | CY20: 0 | CZ20: 0 | DA20: 0 | DB20: 0 | DC20: 0 | DD20: 0 | DE20: 0 | DF20: 0 | DG20: 0 | DH20: 0 | DI20: 0 | DJ20: 0 | DK20: 0 | DL20: 0 | DM20: 0 | DN20: 0 | DO20: 0 | DP20: 0 | DQ20: 0 | DR20: 0 | DS20: 0 | DT20: 0 | DU20: 0 | DV20: 0 | DW20: 0 | DX20: 0 | DY20: 0 | DZ20: 0 | EA20: 0 | EB20: 0 | EC20: 0 | ED20: 0 | EE20: 0 | EF20: 0 | EG20: 0 | EH20: 0 | EI20: 0 | EJ20: 0 | EK20: 0 | EL20: 0 | EM20: 0 | EN20: 0 | EO20: 0 | EP20: 0 | EQ20: 0 | ER20: 0 | ES20: 0 | ET20: 0 | EU20: 0 | EV20: 0 | EW20: 0 | EX20: 0 | EY20: 0 | EZ20: 0 | FA20: 0 | FB20: 0 | FC20: 0 | FD20: 0 | FE20: 0 | FF20: 0 | FG20: 0 | FH20: 0 | FI20: 0 | FJ20: 0 | FK20: 0 | FL20: 0 | FM20: 0 | FN20: 0 | FO20: 0 | FP20: 0 | FQ20: 0 | FR20: 0 | FS20: 0 | FT20: 0 | FU20: 0 | FV20: 0 | FW20: 0 | FX20: 0 | FY20: 0 | FZ20: 0 | GA20: 0 | GB20: 0 | GC20: 0 | GD20: 0 | GE20: 0 | GF20: 0 | GG20: 0 | GH20: 0 | GI20: 0 | GJ20: 0 | GK20: 0 | GL20: 0 | GM20: 0 | GN20: 0 | GO20: 0 | GP20: 0 | GQ20: 0 | GR20: 0 | GS20: 0 | GT20: 0 | GU20: 0 | GV20: 0 | GW20: 0 | GX20: 0 | GY20: 0 | GZ20: 0 | HA20: 0 | HB20: 0 | HC20: 0 | HD20: 0 | HE20: 0 | HF20: 0 | HG20: 0 | HH20: 0 | HI20: 0 | HJ20: 0 | HK20: 0 | HL20: 0 | HM20: 0 | HN20: 0 | HO20: 0 | HP20: 0 | HQ20: 0 | HR20: 0 | HS20: 0 | HT20: 0 | HU20: 0 | HV20: 0 | HW20: 0 | HX20: 0 | HY20: 0 | HZ20: 0 | IA20: 0 | IB20: 0 | IC20: 0 | ID20: 0 | IE20: 0 | IF20: 0 | IG20: 0 | IH20: 0 | II20: 0 | IJ20: 0 | IK20: 0 | IL20: 0 | IM20: 0 | IN20: 0 | IO20: 0 | IP20: 0 | IQ20: 0 | IR20: 0 | IS20: 0 | IT20: 0 | IU20: 0 | IV20: 0.5 | IW20: 0 | IX20: 0 | IY20: 0 | IZ20: 0 | JA20: 0 | JB20: 0 | JC20: 0 | JD20: 0 | JE20: 0 | JF20: 0 | JG20: 0 | JH20: 0 | JI20: 0 | JJ20: 0 | JK20: 0 | JL20: 0 | JM20: 0 | JN20: 0 | JO20: 0 | JP20: 0 | JQ20: 0 | JR20: 0 | JS20: 0 | JT20: 0 | JU20: 0 | JV20: 0 | JW20: 0 | JX20: 0 | JY20: 0 | JZ20: 0 | KA20: 10.5 | KB20: 0 | KC20: 0 | KD20: 0 | KE20: 0 | KF20: 7 | KG20: 0 | KH20: 0 | KI20: 0 | KJ20: 8 | KK20: 0 | KL20: 0 | KM20: 0 | KN20: 0 | KO20: 0 | KP20: 0 | KQ20: 0 | KR20: 0 | KS20: 0 | KT20: 0 | KU20: 0 | KV20: 0 | KW20: 0 | KX20: 0 | KY20: 0 | KZ20: 0 | LA20: 0 | LB20: 0
A21: 43279.542 | B21: 3.5 | C21: 0 | D21: 0 | E21: 0 | F21: 0 | G21: 1 | H21: 0 | I21: 0 | J21: 0 | K21: 0 | L21: 0 | M21: 0 | N21: 0 | O21: 0 | P21: 0 | Q21: 0 | R21: 4 | S21: 0 | T21: 0 | U21: 0 | V21: 0 | W21: 0.5 | X21: 0 | Y21: 0 | Z21: 7 | AA21: 0 | AB21: 0 | AC21: 0 | AD21: 0 | AE21: 3 | AF21: 0 | AG21: 0 | AH21: 0 | AI21: 0 | AJ21: 0 | AK21: 0 | AL21: 0 | AM21: 0 | AN21: 0 | AO21: 0 | AP21: 0 | AQ21: 0 | AR21: 0 | AS21: 0 | AT21: 0 | AU21: 0 | AV21: 0 | AW21: 2.5 | AX21: 0 | AY21: 0 | AZ21: 0 | BA21: 0 | BB21: 0 | BC21: 0 | BD21: 0 | BE21: 0 | BF21: 0 | BG21: 0 | BH21: 0 | BI21: 0 | BJ21: 0 | BK21: 0 | BL21: 0 | BM21: 0 | BN21: 0 | BO21: 0 | BP21: 0 | BQ21: 0 | BR21: 0 | BS21: 0 | BT21: 0 | BU21: 0 | BV21: 0 | BW21: 0 | BX21: 0 | BY21: 0 | BZ21: 0 | CA21: 0 | CB21: 0 | CC21: 0 | CD21: 0 | CE21: 0 | CF21: 0 | CG21: 0 | CH21: 0 | CI21: 0 | CJ21: 0 | CK21: 0 | CL21: 0 | CM21: 0 | CN21: 0 | CO21: 0 | CP21: 0 | CQ21: 0 | CR21: 0 | CS21: 0 | CT21: 0 | CU21: 0 | CV21: 0 | CW21: 0 | CX21: 0 | CY21: 0 | CZ21: 0 | DA21: 0 | DB21: 0 | DC21: 0 | DD21: 0 | DE21: 0 | DF21: 0 | DG21: 0 | DH21: 0 | DI21: 0 | DJ21: 0 | DK21: 0 | DL21: 0 | DM21: 0 | DN21: 0 | DO21: 0 | DP21: 0 | DQ21: 0 | DR21: 0 | DS21: 0 | DT21: 0 | DU21: 0 | DV21: 0 | DW21: 0 | DX21: 0 | DY21: 0 | DZ21: 0 | EA21: 0 | EB21: 0 | EC21: 0 | ED21: 0 | EE21: 0 | EF21: 0 | EG21: 0 | EH21: 0 | EI21: 0 | EJ21: 0 | EK21: 0 | EL21: 0 | EM21: 0 | EN21: 0 | EO21: 0 | EP21: 0 | EQ21: 0 | ER21: 0 | ES21: 0 | ET21: 0 | EU21: 0 | EV21: 0 | EW21: 0 | EX21: 0 | EY21: 0 | EZ21: 0 | FA21: 0 | FB21: 0 | FC21: 0 | FD21: 0 | FE21: 0 | FF21: 0 | FG21: 0 | FH21: 0 | FI21: 0 | FJ21: 0 | FK21: 0 | FL21: 0 | FM21: 0 | FN21: 0 | FO21: 0 | FP21: 0 | FQ21: 0 | FR21: 0 | FS21: 0 | FT21: 0 | FU21: 0 | FV21: 0 | FW21: 0 | FX21: 0 | FY21: 0 | FZ21: 0 | GA21: 0 | GB21: 0 | GC21: 0 | GD21: 0 | GE21: 0 | GF21: 0 | GG21: 0 | GH21: 0 | GI21: 0 | GJ21: 0 | GK21: 0 | GL21: 0 | GM21: 0 | GN21: 0 | GO21: 0 | GP21: 0 | GQ21: 0 | GR21: 0 | GS21: 0 | GT21: 0 | GU21: 0 | GV21: 0 | GW21: 0 | GX21: 0 | GY21: 0 | GZ21: 0 | HA21: 0 | HB21: 0 | HC21: 0 | HD21: 0 | HE21: 0 | HF21: 0 | HG21: 0 | HH21: 0 | HI21: 0 | HJ21: 0 | HK21: 0 | HL21: 0 | HM21: 0 | HN21: 0 | HO21: 0 | HP21: 0 | HQ21: 0 | HR21: 0 | HS21: 0 | HT21: 0 | HU21: 0 | HV21: 0 | HW21: 0 | HX21: 0 | HY21: 0 | HZ21: 0 | IA21: 0 | IB21: 0 | IC21: 0 | ID21: 0 | IE21: 0 | IF21: 0 | IG21: 0 | IH21: 0 | II21: 0 | IJ21: 0 | IK21: 0 | IL21: 0 | IM21: 0 | IN21: 0 | IO21: 0 | IP21: 0 | IQ21: 0 | IR21: 0 | IS21: 0 | IT21: 0 | IU21: 0 | IV21: 0 | IW21: 0 | IX21: 0 | IY21: 0 | IZ21: 0 | JA21: 0 | JB21: 0 | JC21: 0 | JD21: 0 | JE21: 0 | JF21: 0 | JG21: 0 | JH21: 0 | JI21: 0 | JJ21: 0 | JK21: 0 | JL21: 0 | JM21: 0 | JN21: 0 | JO21: 0 | JP21: 0 | JQ21: 0 | JR21: 0 | JS21: 0 | JT21: 0 | JU21: 0 | JV21: 0 | JW21: 0 | JX21: 0 | JY21: 0 | JZ21: 0 | KA21: 1.5 | KB21: 0 | KC21: 0 | KD21: 0 | KE21: 0 | KF21: 1.5 | KG21: 0 | KH21: 0 | KI21: 0 | KJ21: 1.5 | KK21: 0 | KL21: 0 | KM21: 0 | KN21: 0 | KO21: 0 | KP21: 0 | KQ21: 0 | KR21: 0 | KS21: 0 | KT21: 0 | KU21: 0 | KV21: 0 | KW21: 0 | KX21: 0 | KY21: 0 | KZ21: 0 | LA21: 0 | LB21: 0
A22: 43279.583 | B22: 1 | C22: 0 | D22: 0 | E22: 0 | F22: 0 | G22: 0 | H22: 0 | I22: 0 | J22: 0 | K22: 0 | L22: 0 | M22: 0.5 | N22: 0 | O22: 0 | P22: 0 | Q22: 0 | R22: 1 | S22: 0 | T22: 0 | U22: 0 | V22: 0 | W22: 4.5 | X22: 0 | Y22: 0 | Z22: 1 | AA22: 0 | AB22: 0 | AC22: 0 | AD22: 0 | AE22: 0 | AF22: 0 | AG22: 0 | AH22: 4 | AI22: 0 | AJ22: 0 | AK22: 0 | AL22: 1 | AM22: 0 | AN22: 1.5 | AO22: 0 | AP22: 0 | AQ22: 0 | AR22: 0 | AS22: 0 | AT22: 0.5 | AU22: 0 | AV22: 0 | AW22: 0.5 | AX22: 0.5 | AY22: 0 | AZ22: 0 | BA22: 0 | BB22: 0 | BC22: 0 | BD22: 0 | BE22: 0 | BF22: 0 | BG22: 0 | BH22: 0 | BI22: 0 | BJ22: 0 | BK22: 0 | BL22: 0 | BM22: 0 | BN22: 0 | BO22: 0 | BP22: 0 | BQ22: 0 | BR22: 0 | BS22: 0 | BT22: 0 | BU22: 0 | BV22: 0 | BW22: 0 | BX22: 0 | BY22: 0 | BZ22: 0 | CA22: 0 | CB22: 0 | CC22: 0 | CD22: 0 | CE22: 0 | CF22: 0 | CG22: 0 | CH22: 0 | CI22: 0 | CJ22: 0 | CK22: 0 | CL22: 0 | CM22: 0 | CN22: 0 | CO22: 0 | CP22: 0 | CQ22: 0 | CR22: 0 | CS22: 0 | CT22: 0 | CU22: 0 | CV22: 0 | CW22: 0 | CX22: 0 | CY22: 0 | CZ22: 0 | DA22: 0 | DB22: 0 | DC22: 0 | DD22: 0 | DE22: 0 | DF22: 0 | DG22: 0 | DH22: 0 | DI22: 0 | DJ22: 0 | DK22: 0 | DL22: 0 | DM22: 0 | DN22: 0 | DO22: 0 | DP22: 0 | DQ22: 0 | DR22: 0 | DS22: 0 | DT22: 0 | DU22: 0 | DV22: 0 | DW22: 0 | DX22: 0 | DY22: 0 | DZ22: 0 | EA22: 0 | EB22: 0 | EC22: 0 | ED22: 0 | EE22: 0 | EF22: 0 | EG22: 0 | EH22: 0 | EI22: 0 | EJ22: 0 | EK22: 0 | EL22: 0 | EM22: 0 | EN22: 0 | EO22: 0 | EP22: 0 | EQ22: 0 | ER22: 0 | ES22: 0 | ET22: 0 | EU22: 0 | EV22: 0 | EW22: 0 | EX22: 0 | EY22: 0 | EZ22: 0 | FA22: 0 | FB22: 0 | FC22: 0 | FD22: 0 | FE22: 0 | FF22: 0 | FG22: 0 | FH22: 0 | FI22: 0 | FJ22: 0 | FK22: 0 | FL22: 0 | FM22: 0 | FN22: 0 | FO22: 0 | FP22: 0 | FQ22: 0 | FR22: 0 | FS22: 0 | FT22: 0 | FU22: 0 | FV22: 0 | FW22: 0 | FX22: 0 | FY22: 0 | FZ22: 0 | GA22: 0 | GB22: 0.5 | GC22: 0 | GD22: 0 | GE22: 0 | GF22: 0 | GG22: 0 | GH22: 0 | GI22: 0 | GJ22: 0 | GK22: 0 | GL22: 0 | GM22: 0 | GN22: 0 | GO22: 0 | GP22: 0 | GQ22: 0 | GR22: 0 | GS22: 0 | GT22: 0 | GU22: 0 | GV22: 0 | GW22: 0 | GX22: 0 | GY22: 0 | GZ22: 0 | HA22: 0 | HB22: 0 | HC22: 0 | HD22: 0 | HE22: 0 | HF22: 0 | HG22: 0 | HH22: 0 | HI22: 0 | HJ22: 0 | HK22: 0 | HL22: 0 | HM22: 0 | HN22: 0 | HO22: 0 | HP22: 0 | HQ22: 0 | HR22: 0 | HS22: 0 | HT22: 0 | HU22: 0 | HV22: 0 | HW22: 0 | HX22: 0 | HY22: 0 | HZ22: 0 | IA22: 0 | IB22: 0 | IC22: 0 | ID22: 0 | IE22: 0 | IF22: 0 | IG22: 0 | IH22: 0 | II22: 0 | IJ22: 0 | IK22: 0 | IL22: 0 | IM22: 0 | IN22: 0 | IO22: 0 | IP22: 0 | IQ22: 0 | IR22: 0 | IS22: 0 | IT22: 0 | IU22: 0 | IV22: 0 | IW22: 0 | IX22: 0 | IY22: 0 | IZ22: 0 | JA22: 0 | JB22: 0 | JC22: 0 | JD22: 0 | JE22: 0 | JF22: 0 | JG22: 0 | JH22: 0 | JI22: 0 | JJ22: 0 | JK22: 0 | JL22: 0 | JM22: 0 | JN22: 0 | JO22: 0 | JP22: 0 | JQ22: 0 | JR22: 0 | JS22: 0 | JT22: 0 | JU22: 0 | JV22: 0 | JW22: 0 | JX22: 0 | JY22: 0 | JZ22: 0 | KA22: 4.5 | KB22: 0 | KC22: 0 | KD22: 0 | KE22: 0 | KF22: 1 | KG22: 0 | KH22: 0 | KI22: 0 | KJ22: 2.5 | KK22: 0 | KL22: 0 | KM22: 0 | KN22: 0 | KO22: 0 | KP22: 0 | KQ22: 0 | KR22: 0 | KS22: 0 | KT22: 0 | KU22: 0 | KV22: 0 | KW22: 0 | KX22: 0 | KY22: 0 | KZ22: 0 | LA22: 0 | LB22: 0
A23: 43279.625 | B23: 32.5 | C23: 0 | D23: 0 | E23: 0 | F23: 0 | G23: 0 | H23: 0 | I23: 0 | J23: 0 | K23: 0 | L23: 0 | M23: 0 | N23: 0 | O23: 0 | P23: 0 | Q23: 0 | R23: 2.5 | S23: 0 | T23: 0 | U23: 0 | V23: 0 | W23: 18 | X23: 0 | Y23: 0 | Z23: 1 | AA23: 0 | AB23: 0 | AC23: 0 | AD23: 0 | AE23: 0 | AF23: 0 | AG23: 0 | AH23: 1 | AI23: 0 | AJ23: 0 | AK23: 0 | AL23: 2.5 | AM23: 0 | AN23: 0 | AO23: 0 | AP23: 0 | AQ23: 0 | AR23: 0 | AS23: 0 | AT23: 0 | AU23: 0 | AV23: 0 | AW23: 0 | AX23: 0.5 | AY23: 0 | AZ23: 0 | BA23: 0 | BB23: 0 | BC23: 0 | BD23: 0 | BE23: 0 | BF23: 0 | BG23: 0 | BH23: 0 | BI23: 0 | BJ23: 0 | BK23: 0 | BL23: 0 | BM23: 0 | BN23: 0 | BO23: 0 | BP23: 0 | BQ23: 0 | BR23: 0 | BS23: 0 | BT23: 0 | BU23: 0 | BV23: 0 | BW23: 0 | BX23: 0 | BY23: 0 | BZ23: 0 | CA23: 0 | CB23: 0 | CC23: 0 | CD23: 0 | CE23: 0 | CF23: 0 | CG23: 0 | CH23: 0 | CI23: 0 | CJ23: 0 | CK23: 0 | CL23: 0 | CM23: 0 | CN23: 0 | CO23: 0 | CP23: 0 | CQ23: 0 | CR23: 0 | CS23: 0 | CT23: 0 | CU23: 0 | CV23: 0 | CW23: 0 | CX23: 0 | CY23: 0 | CZ23: 0 | DA23: 0 | DB23: 0 | DC23: 0 | DD23: 0 | DE23: 0 | DF23: 0 | DG23: 0 | DH23: 0 | DI23: 0 | DJ23: 0 | DK23: 0 | DL23: 0 | DM23: 0 | DN23: 0 | DO23: 0 | DP23: 0 | DQ23: 0 | DR23: 0 | DS23: 0 | DT23: 0 | DU23: 0 | DV23: 0 | DW23: 0 | DX23: 0 | DY23: 0 | DZ23: 0 | EA23: 0 | EB23: 0 | EC23: 0 | ED23: 0 | EE23: 0 | EF23: 0 | EG23: 0 | EH23: 0 | EI23: 0 | EJ23: 0 | EK23: 0 | EL23: 0 | EM23: 0 | EN23: 0 | EO23: 0 | EP23: 0 | EQ23: 0 | ER23: 0 | ES23: 0 | ET23: 0 | EU23: 0 | EV23: 0 | EW23: 0 | EX23: 0 | EY23: 0 | EZ23: 0 | FA23: 0 | FB23: 0 | FC23: 0 | FD23: 0 | FE23: 0 | FF23: 0 | FG23: 0 | FH23: 0 | FI23: 0 | FJ23: 0 | FK23: 0 | FL23: 0 | FM23: 0 | FN23: 0 | FO23: 0 | FP23: 0 | FQ23: 0 | FR23: 0 | FS23: 0 | FT23: 0 | FU23: 0 | FV23: 0 | FW23: 0 | FX23: 0 | FY23: 0 | FZ23: 0 | GA23: 0 | GB23: 0 | GC23: 0 | GD23: 0 | GE23: 0 | GF23: 0 | GG23: 0 | GH23: 0 | GI23: 0 | GJ23: 0 | GK23: 0 | GL23: 0 | GM23: 0 | GN23: 0 | GO23: 0 | GP23: 0 | GQ23: 0.5 | GR23: 0 | GS23: 0 | GT23: 0 | GU23: 0 | GV23: 0 | GW23: 0 | GX23: 0 | GY23: 0 | GZ23: 0 | HA23: 0 | HB23: 0 | HC23: 0 | HD23: 0 | HE23: 0 | HF23: 0 | HG23: 0 | HH23: 0 | HI23: 0 | HJ23: 0 | HK23: 0 | HL23: 0 | HM23: 0 | HN23: 0 | HO23: 0 | HP23: 0 | HQ23: 0 | HR23: 0 | HS23: 0 | HT23: 0 | HU23: 0 | HV23: 0 | HW23: 0 | HX23: 0 | HY23: 0 | HZ23: 0 | IA23: 0 | IB23: 0 | IC23: 0 | ID23: 0 | IE23: 0 | IF23: 0 | IG23: 0 | IH23: 0 | II23: 0 | IJ23: 0 | IK23: 0 | IL23: 0 | IM23: 0 | IN23: 0 | IO23: 0 | IP23: 0 | IQ23: 0 | IR23: 0 | IS23: 0 | IT23: 0 | IU23: 0 | IV23: 0 | IW23: 0 | IX23: 0 | IY23: 0 | IZ23: 0 | JA23: 0 | JB23: 0 | JC23: 0 | JD23: 0 | JE23: 0 | JF23: 0 | JG23: 0 | JH23: 0 | JI23: 0 | JJ23: 0 | JK23: 0 | JL23: 0 | JM23: 0 | JN23: 0 | JO23: 0 | JP23: 0 | JQ23: 0 | JR23: 0 | JS23: 0 | JT23: 0 | JU23: 0 | JV23: 0 | JW23: 0 | JX23: 0 | JY23: 0 | JZ23: 0 | KA23: 0 | KB23: 0 | KC23: 0 | KD23: 0 | KE23: 0 | KF23: 4.5 | KG23: 0 | KH23: 0 | KI23: 0 | KJ23: 1.5 | KK23: 0 | KL23: 0 | KM23: 0 | KN23: 0 | KO23: 0 | KP23: 0 | KQ23: 0 | KR23: 0 | KS23: 0 | KT23: 0 | KU23: 0 | KV23: 0 | KW23: 0 | KX23: 0 | KY23: 0 | KZ23: 0 | LA23: 0 | LB23: 0
A24: 43279.667 | B24: 18.5 | C24: 0 | D24: 0 | E24: 0 | F24: 0 | G24: 0 | H24: 0 | I24: 0 | J24: 0 | K24: 0 | L24: 0 | M24: 0 | N24: 0 | O24: 0 | P24: 0 | Q24: 0 | R24: 1.5 | S24: 0 | T24: 0 | U24: 0 | V24: 0 | W24: 7 | X24: 0 | Y24: 0 | Z24: 0 | AA24: 0 | AB24: 0 | AC24: 0 | AD24: 0 | AE24: 0 | AF24: 0 | AG24: 0 | AH24: 0 | AI24: 0 | AJ24: 0 | AK24: 0 | AL24: 0 | AM24: 0 | AN24: 0 | AO24: 0 | AP24: 0 | AQ24: 0 | AR24: 0 | AS24: 0 | AT24: 0 | AU24: 0 | AV24: 0 | AW24: 0 | AX24: 0 | AY24: 0 | AZ24: 0 | BA24: 0 | BB24: 0 | BC24: 0 | BD24: 0 | BE24: 0 | BF24: 0 | BG24: 0 | BH24: 0 | BI24: 0 | BJ24: 0 | BK24: 0 | BL24: 0 | BM24: 0 | BN24: 0 | BO24: 0 | BP24: 0 | BQ24: 0 | BR24: 0 | BS24: 0 | BT24: 0 | BU24: 0 | BV24: 0 | BW24: 0 | BX24: 0 | BY24: 0 | BZ24: 0 | CA24: 0 | CB24: 0 | CC24: 0 | CD24: 0 | CE24: 0 | CF24: 0 | CG24: 0 | CH24: 0 | CI24: 0 | CJ24: 0 | CK24: 0 | CL24: 0 | CM24: 0 | CN24: 0 | CO24: 0 | CP24: 0 | CQ24: 0 | CR24: 0 | CS24: 0 | CT24: 0 | CU24: 0 | CV24: 0 | CW24: 0 | CX24: 0 | CY24: 0 | CZ24: 0 | DA24: 0 | DB24: 0 | DC24: 0 | DD24: 0 | DE24: 0 | DF24: 0 | DG24: 0 | DH24: 0 | DI24: 0 | DJ24: 0 | DK24: 0 | DL24: 0 | DM24: 0 | DN24: 0 | DO24: 0 | DP24: 0 | DQ24: 0 | DR24: 0 | DS24: 0 | DT24: 0 | DU24: 0 | DV24: 0 | DW24: 0 | DX24: 0 | DY24: 0 | DZ24: 0 | EA24: 0 | EB24: 0 | EC24: 0 | ED24: 0 | EE24: 0 | EF24: 0 | EG24: 0 | EH24: 0 | EI24: 0 | EJ24: 0 | EK24: 0 | EL24: 0 | EM24: 0 | EN24: 0 | EO24: 0 | EP24: 0 | EQ24: 0 | ER24: 0 | ES24: 0 | ET24: 0 | EU24: 0 | EV24: 0 | EW24: 0 | EX24: 0 | EY24: 0 | EZ24: 0 | FA24: 0 | FB24: 0 | FC24: 0 | FD24: 0 | FE24: 0 | FF24: 0 | FG24: 0 | FH24: 0 | FI24: 0 | FJ24: 0 | FK24: 0 | FL24: 0 | FM24: 0 | FN24: 0 | FO24: 0 | FP24: 0 | FQ24: 0 | FR24: 0 | FS24: 0 | FT24: 0 | FU24: 0 | FV24: 0 | FW24: 0 | FX24: 0 | FY24: 0 | FZ24: 0 | GA24: 0 | GB24: 0 | GC24: 0 | GD24: 0 | GE24: 0 | GF24: 0 | GG24: 0 | GH24: 0 | GI24: 0 | GJ24: 0 | GK24: 0 | GL24: 0 | GM24: 0 | GN24: 0 | GO24: 0 | GP24: 0 | GQ24: 0 | GR24: 0 | GS24: 0 | GT24: 0 | GU24: 0 | GV24: 0 | GW24: 0 | GX24: 0 | GY24: 0 | GZ24: 0 | HA24: 0 | HB24: 0 | HC24: 0 | HD24: 0 | HE24: 0 | HF24: 0 | HG24: 0 | HH24: 0 | HI24: 0 | HJ24: 0 | HK24: 0 | HL24: 0 | HM24: 0 | HN24: 0 | HO24: 0 | HP24: 0 | HQ24: 0 | HR24: 0 | HS24: 0 | HT24: 0 | HU24: 0 | HV24: 0 | HW24: 0 | HX24: 0 | HY24: 0 | HZ24: 0 | IA24: 0 | IB24: 0 | IC24: 0 | ID24: 0 | IE24: 0 | IF24: 0 | IG24: 0 | IH24: 0 | II24: 0 | IJ24: 0 | IK24: 0 | IL24: 0 | IM24: 0 | IN24: 0 | IO24: 0 | IP24: 0.5 | IQ24: 0 | IR24: 0 | IS24: 0 | IT24: 0 | IU24: 0 | IV24: 0 | IW24: 0 | IX24: 0 | IY24: 0 | IZ24: 0 | JA24: 0 | JB24: 0 | JC24: 0 | JD24: 0 | JE24: 0 | JF24: 0 | JG24: 0 | JH24: 0 | JI24: 0 | JJ24: 0 | JK24: 0 | JL24: 0 | JM24: 0 | JN24: 0 | JO24: 0 | JP24: 0 | JQ24: 0 | JR24: 0 | JS24: 0 | JT24: 0 | JU24: 0 | JV24: 0 | JW24: 0 | JX24: 0 | JY24: 0 | JZ24: 0 | KA24: 0 | KB24: 0 | KC24: 0 | KD24: 0 | KE24: 0 | KF24: 0 | KG24: 0 | KH24: 0 | KI24: 0 | KJ24: 0 | KK24: 0 | KL24: 0 | KM24: 0 | KN24: 0 | KO24: 0 | KP24: 0 | KQ24: 0 | KR24: 0 | KS24: 0 | KT24: 0 | KU24: 0 | KV24: 0 | KW24: 0 | KX24: 0 | KY24: 0 | KZ24: 0 | LA24: 0 | LB24: 0
