Workbook

Sheet 時別降水量
B1: 長崎 | C1: 長崎 | D1: 長崎 | E1: 長崎 | F1: 長崎 | G1: 長崎 | H1: 長崎 | I1: 長崎 | J1: 長崎 | K1: 長崎 | L1: 長崎 | M1: 長崎 | N1: 長崎 | O1: 長崎 | P1: 長崎 | Q1: 長崎 | R1: 長崎 | S1: 長崎 | T1: 長崎 | U1: 長崎 | V1: 長崎 | W1: 長崎 | X1: 佐賀 | Y1: 佐賀 | Z1: 佐賀 | AA1: 佐賀 | AB1: 佐賀 | AC1: 佐賀 | AD1: 佐賀 | AE1: 佐賀 | AF1: 福岡 | AG1: 福岡 | AH1: 福岡 | AI1: 福岡 | AJ1: 福岡 | AK1: 福岡 | AL1: 福岡 | AM1: 福岡 | AN1: 福岡 | AO1: 福岡 | AP1: 福岡 | AQ1: 福岡 | AR1: 福岡 | AS1: 福岡 | AT1: 福岡 | AU1: 福岡 | AV1: 福岡 | AW1: 福岡 | AX1: 福岡 | AY1: 福岡 | AZ1: 広島 | BA1: 広島 | BB1: 広島 | BC1: 広島 | BD1: 広島 | BE1: 広島 | BF1: 広島 | BG1: 広島 | BH1: 広島 | BI1: 広島 | BJ1: 広島 | BK1: 広島 | BL1: 広島 | BM1: 広島 | BN1: 広島 | BO1: 広島 | BP1: 広島 | BQ1: 広島 | BR1: 広島 | BS1: 広島 | BT1: 広島 | BU1: 広島 | BV1: 広島 | BW1: 広島 | BX1: 広島 | BY1: 広島 | BZ1: 広島 | CA1: 広島 | CB1: 広島 | CC1: 広島 | CD1: 広島 | CE1: 広島 | CF1: 広島 | CG1: 鳥取 | CH1: 鳥取 | CI1: 鳥取 | CJ1: 鳥取 | CK1: 鳥取 | CL1: 鳥取 | CM1: 鳥取 | CN1: 鳥取 | CO1: 鳥取 | CP1: 鳥取 | CQ1: 鳥取 | CR1: 鳥取 | CS1: 鳥取 | CT1: 鳥取 | CU1: 鳥取 | CV1: 鳥取 | CW1: 岡山 | CX1: 岡山 | CY1: 岡山 | CZ1: 岡山 | DA1: 岡山 | DB1: 岡山 | DC1: 岡山 | DD1: 岡山 | DE1: 岡山 | DF1: 岡山 | DG1: 岡山 | DH1: 岡山 | DI1: 岡山 | DJ1: 岡山 | DK1: 岡山 | DL1: 岡山 | DM1: 岡山 | DN1: 岡山 | DO1: 岡山 | DP1: 岡山 | DQ1: 岡山 | DR1: 岡山 | DS1: 岡山 | DT1: 岡山 | DU1: 岡山 | DV1: 兵庫 | DW1: 兵庫 | DX1: 兵庫 | DY1: 兵庫 | DZ1: 兵庫 | EA1: 兵庫 | EB1: 兵庫 | EC1: 兵庫 | ED1: 兵庫 | EE1: 兵庫 | EF1: 兵庫 | EG1: 兵庫 | EH1: 兵庫 | EI1: 兵庫 | EJ1: 兵庫 | EK1: 兵庫 | EL1: 兵庫 | EM1: 兵庫 | EN1: 兵庫 | EO1: 兵庫 | EP1: 兵庫 | EQ1: 兵庫 | ER1: 兵庫 | ES1: 兵庫 | ET1: 兵庫 | EU1: 兵庫 | EV1: 京都 | EW1: 京都 | EX1: 京都 | EY1: 京都 | EZ1: 京都 | FA1: 京都 | FB1: 京都 | FC1: 京都 | FD1: 京都 | FE1: 京都 | FF1: 京都 | FG1: 京都 | FH1: 京都 | FI1: 京都 | FJ1: 京都 | FK1: 京都 | FL1: 京都 | FM1: 岐阜 | FN1: 岐阜 | FO1: 岐阜 | FP1: 岐阜 | FQ1: 岐阜 | FR1: 岐阜 | FS1: 岐阜 | FT1: 岐阜 | FU1: 岐阜 | FV1: 岐阜 | FW1: 岐阜 | FX1: 岐阜 | FY1: 岐阜 | FZ1: 岐阜 | GA1: 岐阜 | GB1: 岐阜 | GC1: 岐阜 | GD1: 岐阜 | GE1: 岐阜 | GF1: 岐阜 | GG1: 岐阜 | GH1: 岐阜 | GI1: 岐阜 | GJ1: 岐阜 | GK1: 岐阜 | GL1: 岐阜 | GM1: 岐阜 | GN1: 岐阜 | GO1: 岐阜 | GP1: 岐阜 | GQ1: 岐阜 | GR1: 岐阜 | GS1: 愛媛 | GT1: 愛媛 | GU1: 愛媛 | GV1: 愛媛 | GW1: 愛媛 | GX1: 愛媛 | GY1: 愛媛 | GZ1: 愛媛 | HA1: 愛媛 | HB1: 愛媛 | HC1: 愛媛 | HD1: 愛媛 | HE1: 愛媛 | HF1: 愛媛 | HG1: 愛媛 | HH1: 愛媛 | HI1: 愛媛 | HJ1: 愛媛 | HK1: 愛媛 | HL1: 愛媛 | HM1: 愛媛 | HN1: 愛媛 | HO1: 高知 | HP1: 高知 | HQ1: 高知 | HR1: 高知 | HS1: 高知 | HT1: 高知 | HU1: 高知 | HV1: 高知 | HW1: 高知 | HX1: 高知 | HY1: 高知 | HZ1: 高知 | IA1: 高知 | IB1: 高知 | IC1: 高知 | ID1: 高知 | IE1: 高知 | IF1: 高知 | IG1: 高知 | IH1: 高知 | II1: 高知 | IJ1: 高知 | IK1: 高知 | IL1: 高知 | IM1: 高知 | IN1: 高知 | IO1: 山口 | IP1: 山口 | IQ1: 山口 | IR1: 山口 | IS1: 山口 | IT1: 山口 | IU1: 山口 | IV1: 山口 | IW1: 山口 | IX1: 山口 | IY1: 山口 | IZ1: 山口 | JA1: 山口 | JB1: 山口 | JC1: 山口 | JD1: 山口 | JE1: 山口 | JF1: 山口 | JG1: 山口 | JH1: 山口 | JI1: 山口 | JJ1: 島根 | JK1: 島根 | JL1: 島根 | JM1: 島根 | JN1: 島根 | JO1: 島根 | JP1: 島根 | JQ1: 島根 | JR1: 島根 | JS1: 島根 | JT1: 島根 | JU1: 島根 | JV1: 島根 | JW1: 島根 | JX1: 島根 | JY1: 島根 | JZ1: 島根 | KA1: 島根 | KB1: 島根 | KC1: 島根 | KD1: 島根 | KE1: 島根 | KF1: 島根 | KG1: 島根 | KH1: 島根 | KI1: 島根 | KJ1: 島根 | KK1: 香川 | KL1: 香川 | KM1: 香川 | KN1: 香川 | KO1: 香川 | KP1: 香川 | KQ1: 香川 | KR1: 香川 | KS1: 徳島 | KT1: 徳島 | KU1: 徳島 | KV1: 徳島 | KW1: 徳島 | KX1: 徳島 | KY1: 徳島 | KZ1: 徳島 | LA1: 徳島 | LB1: 徳島
B2: 厳原 | C2: 平戸 | D2: 松浦 | E2: 佐世保 | F2: 大瀬戸 | G2: 長浦岳 | H2: 諫早 | I2: 長崎 | J2: 雲仙岳 | K2: 福江 | L2: 口之津 | M2: 島原 | N2: 大村 | O2: 有川 | P2: 芦辺 | Q2: 野母崎 | R2: 鰐浦 | S2: 石田 | T2: 上大津 | U2: 小値賀 | V2: 頭ヶ島 | W2: 美津島 | X2: 佐賀 | Y2: 白石 | Z2: 嬉野 | AA2: 伊万里 | AB2: 川副 | AC2: 唐津 | AD2: 鳥栖 | AE2: 北山 | AF2: 八幡 | AG2: 行橋 | AH2: 飯塚 | AI2: 前原 | AJ2: 福岡 | AK2: 朝倉 | AL2: 英彦山 | AM2: 久留米 | AN2: 耳納山 | AO2: 黒木 | AP2: 大牟田 | AQ2: 宗像 | AR2: 柳川 | AS2: 添田 | AT2: 太宰府 | AU2: 博多 | AV2: 空港北町 | AW2: 早良脇山 | AX2: 東谷 | AY2: 小呂島 | AZ2: 道後山 | BA2: 三次 | BB2: 庄原 | BC2: 大朝 | BD2: 加計 | BE2: 上下 | BF2: 内黒山 | BG2: 世羅 | BH2: 東広島 | BI2: 福山 | BJ2: 広島 | BK2: 竹原 | BL2: 生口島 | BM2: 大竹 | BN2: 呉 | BO2: 倉橋 | BP2: 高野 | BQ2: 東城 | BR2: 甲田 | BS2: 三入 | BT2: 府中 | BU2: 志和 | BV2: 王泊 | BW2: 八幡 | BX2: 油木 | BY2: 廿日市津田 | BZ2: 本郷 | CA2: 佐伯湯来 | CB2: 都志見 | CC2: 君田 | CD2: 美土里 | CE2: 安宿 | CF2: 呉市蒲刈 | CG2: 境 | CH2: 青谷 | CI2: 鳥取 | CJ2: 岩井 | CK2: 米子 | CL2: 倉吉 | CM2: 大山 | CN2: 智頭 | CO2: 関金 | CP2: 若桜 | CQ2: 塩津 | CR2: 茶屋 | CS2: 佐治 | CT2: 江尾 | CU2: 鹿野 | CV2: 湖山 | CW2: 矢掛 | CX2: 高梁 | CY2: 今岡 | CZ2: 久世 | DA2: 津山 | DB2: 新見 | DC2: 赤磐 | DD2: 陣山 | DE2: 福渡 | DF2: 和気 | DG2: 佐屋 | DH2: 岡山 | DI2: 虫明 | DJ2: 倉敷 | DK2: 玉野 | DL2: 笠岡 | DM2: 下呰部 | DN2: 奈義 | DO2: 上長田 | DP2: 千屋 | DQ2: 恩原 | DR2: 日応寺 | DS2: 富 | DT2: 吉備中央 | DU2: 旭西 | DV2: 香住 | DW2: 温泉 | DX2: 豊岡 | DY2: 八鹿 | DZ2: 和田山 | EA2: 生野 | EB2: 柏原 | EC2: 一宮 | ED2: 佐用 | EE2: 後川 | EF2: 上郡 | EG2: 姫路 | EH2: 家島 | EI2: 明石 | EJ2: 神戸 | EK2: 洲本 | EL2: 西脇 | EM2: 大屋 | EN2: 福崎 | EO2: 三田 | EP2: 郡家 | EQ2: 兎和野高原 | ER2: 三木 | ES2: 南淡 | ET2: 神戸空港 | EU2: 西宮 | EV2: 峰山 | EW2: 宮津 | EX2: 舞鶴 | EY2: 福知山 | EZ2: 園部 | FA2: 京都 | FB2: 京田辺 | FC2: 京北 | FD2: 間人 | FE2: 本庄 | FF2: 長岡京 | FG2: 睦寄 | FH2: 美山 | FI2: 須知 | FJ2: 綾部 | FK2: 三和 | FL2: 坂浦 | FM2: 神岡 | FN2: 高山 | FO2: 船山 | FP2: 萩原 | FQ2: 八幡 | FR2: 樽見 | FS2: 金山 | FT2: 伽藍 | FU2: 美濃加茂 | FV2: 恵那 | FW2: 中津川 | FX2: 関ケ原 | FY2: 大垣 | FZ2: 岐阜 | GA2: 美濃 | GB2: 多治見 | GC2: 上石津 | GD2: 栃尾 | GE2: 宮地 | GF2: 長滝 | GG2: 揖斐川 | GH2: 六厩 | GI2: 白川 | GJ2: 河合 | GK2: 宮之前 | GL2: 黒川 | GM2: 付知 | GN2: 御母衣 | GO2: ひるがの | GP2: 清見 | GQ2: 丹生川 | GR2: 関市板取 | GS2: 大三島 | GT2: 玉川 | GU2: 新居浜 | GV2: 四国中央 | GW2: 松山 | GX2: 上林 | GY2: 成就社 | GZ2: 長浜 | HA2: 中山 | HB2: 久万 | HC2: 獅子越峠 | HD2: 八幡浜 | HE2: 宇和島 | HF2: 御荘 | HG2: 西条 | HH2: 大洲 | HI2: 宇和 | HJ2: 今治 | HK2: 富郷 | HL2: 近永 | HM2: 瀬戸 | HN2: 松山南吉田 | HO2: 本山 | HP2: 繁藤 | HQ2: 佐川 | HR2: 高知 | HS2: 鳥形山 | HT2: 船戸 | HU2: 安芸 | HV2: 須崎 | HW2: 佐喜浜 | HX2: 窪川 | HY2: 室戸岬 | HZ2: 大正 | IA2: 宿毛 | IB2: 中村 | IC2: 清水 | ID2: 梼原 | IE2: 田野 | IF2: 池川 | IG2: 大栃 | IH2: 佐賀 | II2: 江川崎 | IJ2: 後免 | IK2: 魚梁瀬 | IL2: 本川 | IM2: 南国日章 | IN2: 三崎 | IO2: 東厚保 | IP2: 鹿野 | IQ2: 篠生 | IR2: 和田 | IS2: 羅漢山 | IT2: 柳井 | IU2: 岩国 | IV2: 油谷 | IW2: 玖珂 | IX2: 安下庄 | IY2: 宇部 | IZ2: 下関 | JA2: 下松 | JB2: 防府 | JC2: 山口 | JD2: 豊田 | JE2: 広瀬 | JF2: 秋吉台 | JG2: 徳佐 | JH2: 萩 | JI2: 須佐 | JJ2: 斐川 | JK2: 松江 | JL2: 大東 | JM2: 大田 | JN2: 掛合 | JO2: 横田 | JP2: 川本 | JQ2: 浜田 | JR2: 三隅 | JS2: 益田 | JT2: 津和野 | JU2: 佐田 | JV2: 桜江 | JW2: 瑞穂 | JX2: 伯太 | JY2: 波佐 | JZ2: 匹見 | KA2: 海士 | KB2: 出雲 | KC2: 赤名 | KD2: 弥栄 | KE2: 福光 | KF2: 西郷岬 | KG2: 高津 | KH2: 吉賀 | KI2: 鹿島 | KJ2: 西郷 | KK2: 内海 | KL2: 高松 | KM2: 多度津 | KN2: 滝宮 | KO2: 引田 | KP2: 竜王山 | KQ2: 財田 | KR2: 香南 | KS2: 池田 | KT2: 徳島 | KU2: 日和佐 | KV2: 穴吹 | KW2: 福原旭 | KX2: 蒲生田 | KY2: 京上 | KZ2: 半田 | LA2: 木頭 | LB2: 海陽
A3: 緯度 | B3: =INDEX(tbl!$F$1:$G$313,MATCH(B$1&B$2,tbl!$D$1:$D$313,),1) -> 34.196667 | C3: =INDEX(tbl!$F$1:$G$313,MATCH(C$1&C$2,tbl!$D$1:$D$313,),1) -> 33.36 | D3: =INDEX(tbl!$F$1:$G$313,MATCH(D$1&D$2,tbl!$D$1:$D$313,),1) -> 33.341667 | E3: =INDEX(tbl!$F$1:$G$313,MATCH(E$1&E$2,tbl!$D$1:$D$313,),1) -> 33.158333 | F3: =INDEX(tbl!$F$1:$G$313,MATCH(F$1&F$2,tbl!$D$1:$D$313,),1) -> 32.948333 | G3: =INDEX(tbl!$F$1:$G$313,MATCH(G$1&G$2,tbl!$D$1:$D$313,),1) -> 32.908333 | H3: =INDEX(tbl!$F$1:$G$313,MATCH(H$1&H$2,tbl!$D$1:$D$313,),1) -> 32.843333 | I3: =INDEX(tbl!$F$1:$G$313,MATCH(I$1&I$2,tbl!$D$1:$D$313,),1) -> 32.733333 | ... LB3: =INDEX(tbl!$F$1:$G$313,MATCH(LB$1&LB$2,tbl!$D$1:$D$313,),1) -> 33.611667
A4: 経度 | B4: =INDEX(tbl!$F$1:$G$313,MATCH(B$1&B$2,tbl!$D$1:$D$313,),2) -> 129.29167 | C4: =INDEX(tbl!$F$1:$G$313,MATCH(C$1&C$2,tbl!$D$1:$D$313,),2) -> 129.55 | D4: =INDEX(tbl!$F$1:$G$313,MATCH(D$1&D$2,tbl!$D$1:$D$313,),2) -> 129.71167 | E4: =INDEX(tbl!$F$1:$G$313,MATCH(E$1&E$2,tbl!$D$1:$D$313,),2) -> 129.72667 | F4: =INDEX(tbl!$F$1:$G$313,MATCH(F$1&F$2,tbl!$D$1:$D$313,),2) -> 129.63167 | G4: =INDEX(tbl!$F$1:$G$313,MATCH(G$1&G$2,tbl!$D$1:$D$313,),2) -> 129.73833 | H4: =INDEX(tbl!$F$1:$G$313,MATCH(H$1&H$2,tbl!$D$1:$D$313,),2) -> 130.025 | I4: =INDEX(tbl!$F$1:$G$313,MATCH(I$1&I$2,tbl!$D$1:$D$313,),2) -> 129.86667 | ... LB4: =INDEX(tbl!$F$1:$G$313,MATCH(LB$1&LB$2,tbl!$D$1:$D$313,),2) -> 134.355
A6: 6/28～7/10（13日間） | B6: =SUM(B9:B320) -> 595 | C6: =SUM(C9:C320) -> 524.5 | D6: =SUM(D9:D320) -> 524 | E6: =SUM(E9:E320) -> 621.5 | F6: =SUM(F9:F320) -> 358.5 | G6: =SUM(G9:G320) -> 639.5 | H6: =SUM(H9:H320) -> 524 | I6: =SUM(I9:I320) -> 395 | ... LB6: =SUM(LB9:LB320) -> 522.5
A7: 7/5～7/7（3日間） | B7: =SUM(B177:B248) -> 55.5 | C7: =SUM(C177:C248) -> 148 | D7: =SUM(D177:D248) -> 245 | E7: =SUM(E177:E248) -> 350 | F7: =SUM(F177:F248) -> 215 | G7: =SUM(G177:G248) -> 358.5 | H7: =SUM(H177:H248) -> 292.5 | I7: =SUM(I177:I248) -> 205 | ... LB7: =SUM(LB177:LB248) -> 284
A9: 43279.042 | B9: 0 | C9: 0 | D9: 0 | E9: 0 | F9: 0 | G9: 0 | H9: 0 | I9: 0 | J9: 1 | K9: 0 | L9: 0 | M9: 0 | N9: 0 | O9: 0 | P9: 0 | Q9: 0 | R9: 0 | S9: 0 | T9: 0 | U9: 0 | V9: 0 | W9: 0 | X9: 0 | Y9: 0 | Z9: 0 | AA9: 0 | AB9: 0 | AC9: 0 | AD9: 0 | AE9: 0 | AF9: 0 | AG9: 0 | AH9: 0 | AI9: 0 | AJ9: 0 | AK9: 0 | AL9: 0 | AM9: 0 | AN9: 0 | AO9: 0 | AP9: 0 | AQ9: 0 | AR9: 0 | AS9: 0 | AT9: 0 | AU9: 0 | AV9: 0 | AW9: 0 | AX9: 0 | AY9: 0 | AZ9: 0.5 | BA9: 4 | BB9: 4.5 | BC9: 2 | BD9: 0 | BE9: 0 | BF9: 0.5 | BG9: 0 | BH9: 0 | BI9: 0 | BJ9: 0 | BK9: 0 | BL9: 0 | BM9: 0 | BN9: 0 | BO9: 0 | BP9: 1.5 | BQ9: 5.5 | BR9: 0 | BS9: 0 | BT9: 0 | BU9: 0 | BV9: 0 | BW9: 0 | BX9: 6.5 | BY9: 0 | CA9: 0 | CB9: 0.5 | CC9: 7.5 | CD9: 0 | CE9: 0 | CF9: 0 | CG9: 0 | CH9: 0.5 | CI9: 0.5 | CJ9: 1 | CK9: 0.5 | CL9: 1.5 | CM9: 0.5 | CN9: 0 | CO9: 0 | CP9: 0 | CQ9: 0 | CR9: 0 | CS9: 0 | CT9: 0 | CU9: 5 | CV9: 0.5 | CW9: 0 | CX9: 1 | CY9: 13.5 | CZ9: 1 | DA9: 10 | DB9: 7 | DC9: 10.5 | DD9: 15 | DE9: 4.5 | DF9: 0 | DG9: 0 | DH9: 0 | DI9: 0 | DJ9: 0 | DK9: 0 | DL9: 0 | DM9: 7 | DN9: 7 | DO9: 0.5 | DP9: 0.5 | DQ9: 0 | DR9: 0 | DS9: 0.5 | DT9: 1.5 | DU9: 14 | DV9: 0.5 | DW9: 0.5 | DX9: 1 | DY9: 0 | DZ9: 0 | EA9: 1.5 | EB9: 0 | EC9: 10.5 | ED9: 7.5 | EE9: 0 | EF9: 0 | EG9: 0 | EH9: 0 | EI9: 0 | EJ9: 0 | EK9: 0 | EL9: 0 | EM9: 0 | EN9: 0 | EO9: 0 | EP9: 0 | EQ9: 2 | ER9: 0 | ES9: 0 | ET9: 0 | EU9: 0 | EV9: 1 | EW9: 0 | EX9: 0 | EY9: 0 | EZ9: 0 | FA9: 0 | FB9: 0 | FC9: 0 | FD9: 1.5 | FE9: 0 | FF9: 0 | FG9: 0 | FH9: 0 | FI9: 0 | FJ9: 0 | FK9: 0 | FL9: 0 | FM9: 3 | FN9: 0 | FO9: 0 | FP9: 0 | FQ9: 1 | FR9: 4.5 | FS9: 0 | FT9: 0 | FU9: 0 | FV9: 0 | FW9: 0 | FX9: 0 | FY9: 0 | FZ9: 0 | GA9: 0.5 | GB9: 0 | GC9: 0 | GD9: 0 | GE9: 2 | GF9: 0.5 | GG9: 1 | GH9: 3.5 | GI9: 2.5 | GJ9: 1.5 | GK9: 0 | GL9: 0 | GM9: 2.5 | GN9: 2.5 | GO9: 6.5 | GP9: 1.5 | GQ9: 0 | GR9: 0 | GS9: 0 | GT9: 0 | GU9: 0 | GV9: 0 | GW9: 0 | GX9: 0 | GY9: 0 | GZ9: 0 | HA9: 0 | HB9: 0 | HC9: 0 | HD9: 0 | HE9: 0 | HF9: 0 | HG9: 0 | HH9: 0 | HI9: 0 | HJ9: 0 | HK9: 0 | HL9: 0 | HM9: 0 | HN9: 0 | HO9: 0 | HP9: 0 | HQ9: 0 | HR9: 0 | HS9: 0 | HT9: 0 | HU9: 0 | HV9: 0 | HW9: 0 | HX9: 0 | HY9: 0 | HZ9: 0 | IA9: 0 | IB9: 0 | IC9: 0 | ID9: 0 | IE9: 0 | IF9: 0 | IG9: 0 | IH9: 0 | II9: 0 | IJ9: 0 | IK9: 0 | IL9: 0 | IM9: 0 | IN9: 0 | IO9: 0 | IP9: 0 | IQ9: 0 | IR9: 0 | IS9: 0 | IT9: 0 | IU9: 0 | IV9: 8 | IW9: 0 | IX9: 0 | IY9: 0 | IZ9: 0 | JA9: 0 | JB9: 0 | JC9: 0 | JD9: 0 | JE9: 0 | JF9: 0 | JG9: 0 | JH9: 1 | JI9: 1.5 | JJ9: 0.5 | JK9: 0.5 | JL9: 0 | JM9: 0 | JN9: 0 | JO9: 0 | JP9: 3 | JQ9: 10 | JR9: 5.5 | JS9: 1.5 | JT9: 0 | JU9: 0 | JV9: 6.5 | JW9: 7 | JX9: 0 | JY9: 3.5 | JZ9: 0 | KA9: 0 | KB9: 0 | KC9: 2.5 | KD9: 0.5 | KE9: 4 | KF9: 0 | KG9: 1.5 | KH9: 0 | KI9: 0 | KJ9: 0 | KK9: 0 | KL9: 0 | KM9: 0 | KN9: 0 | KO9: 0 | KP9: 0 | KQ9: 0 | KR9: 0 | KS9: 0 | KT9: 0 | KU9: 0 | KV9: 0 | KW9: 0 | KX9: 0 | KY9: 0 | KZ9: 0 | LA9: 0 | LB9: 0
A10: 43279.083 | B10: 1 | C10: 0 | D10: 0 | E10: 0 | F10: 0 | G10: 0 | H10: 0 | I10: 0 | J10: 0 | K10: 0 | L10: 0 | M10: 0 | N10: 0 | O10: 0 | P10: 0 | Q10: 0 | R10: 0 | S10: 0 | T10: 0 | U10: 0 | V10: 0 | W10: 0.5 | X10: 0 | Y10: 0 | Z10: 0 | AA10: 0 | AB10: 0 | AC10: 0 | AD10: 0 | AE10: 0 | AF10: 0 | AG10: 0 | AH10: 0 | AI10: 0 | AJ10: 0 | AK10: 0 | AL10: 0 | AM10: 0 | AN10: 0.5 | AO10: 0 | AP10: 0 | AQ10: 0 | AR10: 0 | AS10: 0 | AT10: 0 | AU10: 0 | AV10: 0 | AW10: 0 | AX10: 0 | AY10: 0 | AZ10: 6 | BA10: 0.5 | BB10: 3 | BC10: 12 | BD10: 0 | BE10: 0 | BF10: 8 | BG10: 0 | BH10: 0 | BI10: 0 | BJ10: 0 | BK10: 0 | BL10: 0 | BM10: 0 | BN10: 0 | BO10: 0 | BP10: 6.5 | BQ10: 3.5 | BR10: 0 | BS10: 0 | BT10: 0 | BU10: 0 | BV10: 5 | BW10: 21 | BX10: 0.5 | BY10: 0 | CA10: 0 | CB10: 0 | CC10: 7.5 | CD10: 0 | CE10: 0 | CF10: 0 | CG10: 0 | CH10: 3.5 | CI10: 1.5 | CJ10: 2 | CK10: 0.5 | CL10: 0 | CM10: 0 | CN10: 0 | CO10: 0 | CP10: 0 | CQ10: 0 | CR10: 3.5 | CS10: 0 | CT10: 1 | CU10: 0.5 | CV10: 2 | CW10: 0 | CX10: 0 | CY10: 6.5 | CZ10: 9.5 | DA10: 16 | DB10: 10.5 | DC10: 9.5 | DD10: 0.5 | DE10: 1.5 | DF10: 0 | DG10: 0 | DH10: 0 | DI10: 0 | DJ10: 0 | DK10: 0 | DL10: 0 | DM10: 8 | DN10: 5 | DO10: 0.5 | DP10: 2 | DQ10: 0.5 | DR10: 0 | DS10: 1 | DT10: 0 | DU10: 9 | DV10: 3 | DW10: 2.5 | DX10: 4.5 | DY10: 0 | DZ10: 1.5 | EA10: 5 | EB10: 5.5 | EC10: 4 | ED10: 13 | EE10: 1 | EF10: 0 | EG10: 0 | EH10: 0 | EI10: 0 | EJ10: 0 | EK10: 0 | EL10: 8.5 | EM10: 0.5 | EN10: 11.5 | EO10: 0 | EP10: 0 | EQ10: 2 | ER10: 0 | ES10: 0 | ET10: 0 | EU10: 0 | EV10: 2.5 | EW10: 3.5 | EX10: 0.5 | EY10: 1 | EZ10: 0 | FA10: 0.5 | FB10: 0 | FC10: 1 | FD10: 0 | FE10: 2 | FF10: 0 | FG10: 0 | FH10: 1 | FI10: 2.5 | FJ10: 2 | FK10: 5.5 | FL10: 0.5 | FM10: 0.5 | FN10: 3 | FO10: 1 | FP10: 1 | FQ10: 7 | FR10: 2 | FS10: 6.5 | FT10: 0 | FU10: 0 | FV10: 0 | FW10: 0 | FX10: 0 | FY10: 0 | FZ10: 0 | GA10: 1.5 | GB10: 0 | GC10: 0 | GD10: 4.5 | GE10: 8.5 | GF10: 1 | GG10: 0 | GH10: 0 | GI10: 7 | GJ10: 3 | GK10: 0 | GL10: 0 | GM10: 5 | GN10: 4 | GO10: 1 | GP10: 2.5 | GQ10: 4.5 | GR10: 10 | GS10: 0 | GT10: 0 | GU10: 0 | GV10: 0 | GW10: 0 | GX10: 0 | GY10: 0 | GZ10: 0 | HA10: 0 | HB10: 0 | HC10: 0 | HD10: 0 | HE10: 0 | HF10: 0 | HG10: 0 | HH10: 0 | HI10: 0 | HJ10: 0 | HK10: 0 | HL10: 0 | HM10: 0 | HN10: 0 | HO10: 0 | HP10: 0 | HQ10: 0 | HR10: 0 | HS10: 0 | HT10: 0 | HU10: 0 | HV10: 0 | HW10: 0 | HX10: 0 | HY10: 0 | HZ10: 0 | IA10: 0 | IB10: 0 | IC10: 0 | ID10: 0 | IE10: 0 | IF10: 0 | IG10: 0 | IH10: 0 | II10: 0 | IJ10: 0 | IK10: 0 | IL10: 0 | IM10: 0 | IN10: 0 | IO10: 0 | IP10: 0 | IQ10: 0 | IR10: 0 | IS10: 0 | IT10: 0 | IU10: 0 | IV10: 0.5 | IW10: 0 | IX10: 0 | IY10: 0 | IZ10: 0 | JA10: 0 | JB10: 2 | JC10: 0 | JD10: 0 | JE10: 0 | JF10: 0 | JG10: 1 | JH10: 2 | JI10: 9 | JJ10: 0.5 | JK10: 0.5 | JL10: 1.5 | JM10: 8.5 | JN10: 6.5 | JO10: 5 | JP10: 17 | JQ10: 14 | JR10: 22.5 | JS10: 4 | JT10: 3.5 | JU10: 6.5 | JV10: 12 | JW10: 12.5 | JX10: 1 | JY10: 32.5 | JZ10: 16 | KA10: 0 | KB10: 1.5 | KC10: 15.5 | KD10: 33 | KE10: 8.5 | KF10: 0 | KG10: 7 | KH10: 0 | KI10: 0.5 | KJ10: 0 | KK10: 0 | KL10: 0 | KM10: 0 | KN10: 0 | KO10: 0 | KP10: 0 | KQ10: 0 | KR10: 0 | KS10: 0 | KT10: 0 | KU10: 0 | KV10: 0 | KW10: 0 | KX10: 0 | KY10: 0 | KZ10: 0 | LA10: 0 | LB10: 0
A11: 43279.125 | B11: 0 | C11: 0 | D11: 0 | E11: 0 | F11: 0 | G11: 0 | H11: 0 | I11: 0 | J11: 0.5 | K11: 0 | L11: 0 | M11: 0 | N11: 0 | O11: 0 | P11: 0 | Q11: 0 | R11: 0 | S11: 0 | T11: 0 | U11: 0 | V11: 0 | W11: 0 | X11: 0 | Y11: 0 | Z11: 0 | AA11: 0 | AB11: 0 | AC11: 0 | AD11: 0 | AE11: 0 | AF11: 0 | AG11: 0 | AH11: 0 | AI11: 0 | AJ11: 0 | AK11: 0 | AL11: 0 | AM11: 0 | AN11: 0 | AO11: 0 | AP11: 0 | AQ11: 0 | AR11: 0 | AS11: 0 | AT11: 0 | AU11: 0 | AV11: 0 | AW11: 0 | AX11: 0 | AY11: 0 | AZ11: 13.5 | BA11: 14.5 | BB11: 9 | BC11: 12 | BD11: 15 | BE11: 0 | BF11: 19.5 | BG11: 0 | BH11: 0 | BI11: 0 | BJ11: 0 | BK11: 0 | BL11: 0 | BM11: 0.5 | BN11: 0 | BO11: 0 | BP11: 16.5 | BQ11: 2.5 | BR11: 7 | BS11: 4.5 | BT11: 0 | BU11: 0 | BV11: 12.5 | BW11: 7 | BX11: 1.5 | BY11: 0 | BZ11: 0 | CA11: 0.5 | CB11: 15.5 | CC11: 8.5 | CD11: 10.5 | CE11: 0.5 | CF11: 0 | CG11: 2.5 | CH11: 2 | CI11: 0.5 | CJ11: 0 | CK11: 2 | CL11: 3.5 | CM11: 8 | CN11: 1.5 | CO11: 2 | CP11: 1 | CQ11: 1.5 | CR11: 8.5 | CS11: 2 | CT11: 6 | CU11: 3 | CV11: 0.5 | CW11: 0 | CX11: 0 | CY11: 14.5 | CZ11: 16.5 | DA11: 15.5 | DB11: 0 | DC11: 0.5 | DD11: 0 | DE11: 0.5 | DF11: 0 | DG11: 0 | DH11: 0 | DI11: 0 | DJ11: 0 | DK11: 0 | DL11: 0 | DM11: 0.5 | DN11: 20.5 | DO11: 7.5 | DP11: 16 | DQ11: 3 | DR11: 0 | DS11: 17.5 | DT11: 0 | DU11: 0 | DV11: 0 | DW11: 2 | DX11: 5 | DY11: 0 | DZ11: 1 | EA11: 5 | EB11: 6 | EC11: 6 | ED11: 5 | EE11: 5.5 | EF11: 0 | EG11: 0 | EH11: 0 | EI11: 0 | EJ11: 0 | EK11: 0 | EL11: 3.5 | EM11: 1 | EN11: 0.5 | EO11: 0 | EP11: 0 | EQ11: 2 | ER11: 0 | ES11: 0 | ET11: 0 | EU11: 0 | EV11: 7 | EW11: 3 | EX11: 2.5 | EY11: 4 | EZ11: 10.5 | FA11: 0.5 | FB11: 0 | FC11: 13.5 | FD11: 5 | FE11: 7 | FF11: 0 | FG11: 4.5 | FH11: 10.5 | FI11: 12.5 | FJ11: 6 | FK11: 5.5 | FL11: 1.5 | FM11: 2.5 | FN11: 0.5 | FO11: 1 | FP11: 8.5 | FQ11: 10 | FR11: 5 | FS11: 1 | FT11: 0 | FU11: 0.5 | FV11: 0 | FW11: 0 | FX11: 4.5 | FY11: 3.5 | FZ11: 0 | GA11: 0.5 | GB11: 0 | GC11: 1 | GD11: 7.5 | GE11: 6.5 | GF11: 3.5 | GG11: 0.5 | GH11: 1 | GI11: 4 | GJ11: 2.5 | GK11: 2 | GL11: 0.5 | GM11: 4 | GN11: 11.5 | GO11: 2 | GP11: 7.5 | GQ11: 0.5 | GR11: 4 | GS11: 0 | GT11: 0 | GU11: 0 | GV11: 0 | GW11: 0 | GX11: 0 | GY11: 0 | GZ11: 0 | HA11: 0 | HB11: 0 | HC11: 0 | HD11: 0 | HE11: 0 | HF11: 0 | HG11: 0 | HH11: 0 | HI11: 0 | HJ11: 0 | HK11: 0 | HL11: 0 | HM11: 0 | HN11: 0 | HO11: 0 | HP11: 0 | HQ11: 0 | HR11: 0 | HS11: 0 | HT11: 0 | HU11: 0 | HV11: 0 | HW11: 0 | HX11: 0 | HY11: 0 | HZ11: 0 | IA11: 0 | IB11: 0 | IC11: 0 | ID11: 0 | IE11: 0 | IF11: 0 | IG11: 0 | IH11: 0 | II11: 0 | IJ11: 0 | IK11: 0 | IL11: 0 | IM11: 0 | IN11: 0 | IO11: 0 | IP11: 0 | IQ11: 0 | IR11: 0.5 | IS11: 0 | IT11: 0 | IU11: 0 | IV11: 0.5 | IW11: 0 | IX11: 0 | IY11: 0 | IZ11: 0 | JA11: 0 | JB11: 0 | JC11: 0 | JD11: 0 | JE11: 0 | JF11: 0 | JG11: 0 | JH11: 0.5 | JI11: 2 | JJ11: 1 | JK11: 3 | JL11: 4 | JM11: 1.5 | JN11: 2 | JO11: 9 | JP11: 3 | JQ11: 7.5 | JR11: 7 | JS11: 2.5 | JT11: 1 | JU11: 2 | JV11: 4 | JW11: 7.5 | JX11: 4 | JY11: 7.5 | JZ11: 12 | KA11: 1 | KB11: 1 | KC11: 4 | KD11: 10 | KE11: 1.5 | KF11: 0 | KG11: 2.5 | KH11: 0 | KI11: 1.5 | KJ11: 0.5 | KK11: 0 | KL11: 0 | KM11: 0 | KN11: 0 | KO11: 0 | KP11: 0 | KQ11: 0 | KR11: 0 | KS11: 0 | KT11: 0 | KU11: 0 | KV11: 0 | KW11: 0 | KX11: 0 | KY11: 0 | KZ11: 0 | LA11: 0 | LB11: 0
A12: 43279.167 | B12: 0 | C12: 0 | D12: 0 | E12: 0 | F12: 0 | G12: 0 | H12: 1 | I12: 0 | J12: 0 | K12: 0 | L12: 0 | M12: 0 | N12: 0 | O12: 0 | P12: 0 | Q12: 0 | R12: 3.5 | S12: 0 | T12: 0 | U12: 0 | V12: 0 | W12: 0 | X12: 0 | Y12: 0 | Z12: 0 | AA12: 0 | AB12: 0 | AC12: 0 | AD12: 0 | AE12: 0 | AF12: 0 | AG12: 0 | AH12: 0 | AI12: 0 | AJ12: 0 | AK12: 0 | AL12: 0 | AM12: 0 | AN12: 0.5 | AO12: 0 | AP12: 0 | AQ12: 0 | AR12: 0 | AS12: 0 | AT12: 0 | AU12: 0 | AV12: 0 | AW12: 0 | AX12: 0 | AY12: 0 | AZ12: 5 | BA12: 3 | BB12: 3.5 | BC12: 2 | BD12: 0 | BE12: 3.5 | BF12: 0 | BG12: 0 | BH12: 0 | BI12: 0 | BJ12: 0 | BK12: 0 | BL12: 0 | BM12: 0 | BN12: 0 | BO12: 0 | BP12: 2.5 | BQ12: 6 | BR12: 2 | BS12: 0 | BT12: 0.5 | BU12: 0 | BV12: 2.5 | BW12: 0.5 | BX12: 8 | BY12: 0 | BZ12: 0 | CA12: 0 | CB12: 1.5 | CC12: 4 | CD12: 1.5 | CE12: 0 | CF12: 0 | CG12: 5 | CH12: 6 | CI12: 6.5 | CJ12: 6 | CK12: 1.5 | CL12: 4.5 | CM12: 3 | CN12: 5.5 | CO12: 2.5 | CP12: 4 | CQ12: 2 | CR12: 3 | CS12: 5.5 | CT12: 3 | CU12: 10.5 | CV12: 5 | CW12: 0 | CX12: 6.5 | CY12: 10 | CZ12: 5 | DA12: 7.5 | DB12: 3.5 | DC12: 2.5 | DD12: 8.5 | DE12: 4.5 | DF12: 0 | DG12: 1 | DH12: 0 | DI12: 0 | DJ12: 0 | DK12: 0 | DL12: 0 | DM12: 4 | DN12: 12.5 | DO12: 5.5 | DP12: 5.5 | DQ12: 7.5 | DR12: 1 | DS12: 7 | DT12: 6 | DU12: 2 | DV12: 3 | DW12: 5.5 | DX12: 2 | DY12: 3 | DZ12: 2 | EA12: 6 | EB12: 1.5 | EC12: 3.5 | ED12: 1 | EE12: 0 | EF12: 0 | EG12: 0 | EH12: 0 | EI12: 0 | EJ12: 0 | EK12: 0 | EL12: 0 | EM12: 3 | EN12: 0 | EO12: 0 | EP12: 0 | EQ12: 3 | ER12: 0 | ES12: 0 | ET12: 0 | EU12: 0 | EV12: 1 | EW12: 2 | EX12: 2 | EY12: 9.5 | EZ12: 1 | FA12: 0.5 | FB12: 0 | FC12: 2.5 | FD12: 0 | FE12: 4 | FF12: 0 | FG12: 2.5 | FH12: 3 | FI12: 3 | FJ12: 2 | FK12: 3.5 | FL12: 3 | FM12: 4.5 | FN12: 0 | FO12: 2 | FP12: 37 | FQ12: 33 | FR12: 4 | FS12: 0 | FT12: 0 | FU12: 0.5 | FV12: 0 | FW12: 0 | FX12: 7 | FY12: 2.5 | FZ12: 4 | GA12: 0 | GB12: 0 | GC12: 5 | GD12: 2.5 | GE12: 1.5 | GF12: 6.5 | GG12: 2.5 | GH12: 1 | GI12: 1 | GJ12: 1 | GK12: 5.5 | GL12: 0 | GM12: 0 | GN12: 2.5 | GO12: 3 | GP12: 2.5 | GQ12: 0.5 | GR12: 23.5 | GS12: 0 | GT12: 0 | GU12: 0 | GV12: 0 | GW12: 0 | GX12: 0 | GY12: 0 | GZ12: 0 | HA12: 0 | HB12: 0 | HC12: 0 | HD12: 0 | HE12: 0 | HF12: 0 | HG12: 0 | HH12: 0 | HI12: 0 | HJ12: 0 | HK12: 0 | HL12: 0 | HM12: 0 | HN12: 0 | HO12: 0 | HP12: 0 | HQ12: 0 | HR12: 0 | HS12: 0 | HT12: 0 | HU12: 0 | HV12: 0 | HW12: 0 | HX12: 0 | HY12: 0 | HZ12: 0 | IA12: 0 | IB12: 0 | IC12: 0 | ID12: 0 | IE12: 0 | IF12: 0 | IG12: 0 | IH12: 0 | II12: 0 | IJ12: 0 | IK12: 0 | IL12: 0 | IM12: 0 | IN12: 0 | IO12: 0 | IP12: 0 | IQ12: 0 | IR12: 0 | IS12: 0 | IT12: 0 | IU12: 0 | IV12: 0 | IW12: 0 | IX12: 0 | IY12: 0 | IZ12: 0 | JA12: 0 | JB12: 0 | JC12: 0 | JD12: 0 | JE12: 0 | JF12: 0 | JG12: 0 | JH12: 0 | JI12: 0 | JJ12: 1 | JK12: 0 | JL12: 0 | JM12: 5.5 | JN12: 1.5 | JO12: 1 | JP12: 8 | JQ12: 2.5 | JR12: 1 | JS12: 0 | JT12: 0 | JU12: 1.5 | JV12: 6.5 | JW12: 3 | JX12: 1 | JY12: 3 | JZ12: 0 | KA12: 0 | KB12: 1.5 | KC12: 7 | KD12: 3.5 | KE12: 5 | KF12: 0 | KG12: 0 | KH12: 0 | KI12: 3.5 | KJ12: 0.5 | KK12: 0 | KL12: 0 | KM12: 0 | KN12: 0 | KO12: 0 | KP12: 0 | KQ12: 0 | KR12: 0 | KS12: 0 | KT12: 0 | KU12: 0 | KV12: 0 | KW12: 0 | KX12: 0 | KY12: 0 | KZ12: 0 | LA12: 0 | LB12: 0
A13: 43279.208 | B13: 0 | C13: 0 | D13: 0 | E13: 0 | F13: 0 | G13: 0 | H13: 0 | I13: 0 | J13: 0 | K13: 0 | L13: 0 | M13: 0 | N13: 0 | O13: 0 | P13: 0 | Q13: 0 | R13: 30.5 | S13: 0 | T13: 0 | U13: 0 | V13: 0 | W13: 0 | X13: 0 | Y13: 0 | Z13: 1 | AA13: 0 | AB13: 0 | AC13: 0 | AD13: 0 | AE13: 0 | AF13: 0 | AG13: 0 | AH13: 0 | AI13: 0 | AJ13: 0 | AK13: 0 | AL13: 0 | AM13: 0 | AN13: 0 | AO13: 0 | AP13: 0 | AQ13: 0 | AR13: 0 | AS13: 0 | AT13: 0 | AU13: 0 | AV13: 0 | AW13: 0 | AX13: 0 | AY13: 0 | AZ13: 7.5 | BA13: 0 | BB13: 0.5 | BC13: 0 | BD13: 0 | BE13: 0 | BF13: 0 | BG13: 0 | BH13: 0 | BI13: 0 | BJ13: 0 | BK13: 0 | BL13: 0 | BM13: 0 | BN13: 0 | BO13: 0 | BP13: 7.5 | BQ13: 1 | BR13: 0 | BS13: 0 | BT13: 0 | BU13: 0 | BV13: 0 | BW13: 0 | BX13: 1 | BY13: 0 | BZ13: 0 | CA13: 0 | CB13: 0 | CC13: 2.5 | CD13: 0 | CE13: 0 | CF13: 0 | CG13: 10.5 | CH13: 1 | CI13: 1.5 | CJ13: 2.5 | CK13: 3.5 | CL13: 1 | CM13: 2.5 | CN13: 3.5 | CO13: 0.5 | CP13: 2 | CQ13: 4.5 | CR13: 7 | CS13: 3 | CT13: 3 | CU13: 2.5 | CV13: 1.5 | CW13: 0.5 | CX13: 1.5 | CY13: 1.5 | CZ13: 3 | DA13: 2 | DB13: 2.5 | DC13: 5.5 | DD13: 1 | DE13: 6.5 | DF13: 3.5 | DG13: 1.5 | DH13: 0 | DI13: 0 | DJ13: 0 | DK13: 0 | DL13: 0 | DM13: 2.5 | DN13: 1.5 | DO13: 4 | DP13: 3.5 | DQ13: 2 | DR13: 1.5 | DS13: 4.5 | DT13: 4.5 | DU13: 1 | DV13: 2 | DW13: 1.5 | DX13: 1.5 | DY13: 0.5 | DZ13: 2 | EA13: 4.5 | EB13: 0 | EC13: 2.5 | ED13: 2 | EE13: 0 | EF13: 1.5 | EG13: 0 | EH13: 0 | EI13: 0 | EJ13: 0 | EK13: 0 | EL13: 0 | EM13: 1 | EN13: 1 | EO13: 0 | EP13: 0 | EQ13: 1 | ER13: 0 | ES13: 0 | ET13: 0 | EU13: 0 | EV13: 3.5 | EW13: 3 | EX13: 2.5 | EY13: 7 | EZ13: 0 | FA13: 0 | FB13: 0 | FC13: 0 | FD13: 4 | FE13: 0.5 | FF13: 0 | FG13: 2.5 | FH13: 1 | FI13: 0 | FJ13: 6.5 | FK13: 0.5 | FL13: 2 | FM13: 2 | FN13: 4.5 | FO13: 7 | FP13: 31.5 | FQ13: 45.5 | FR13: 7.5 | FS13: 3 | FT13: 3 | FU13: 5.5 | FV13: 2 | FW13: 2 | FX13: 6 | FY13: 8 | FZ13: 6 | GA13: 4 | GB13: 2 | GC13: 7 | GD13: 8.5 | GE13: 12 | GF13: 4 | GG13: 1 | GH13: 3 | GI13: 2 | GJ13: 1 | GK13: 12.5 | GL13: 1 | GM13: 1 | GN13: 2 | GO13: 5.5 | GP13: 1 | GQ13: 6.5 | GR13: 17 | GS13: 0 | GT13: 0 | GU13: 0 | GV13: 0 | GW13: 0 | GX13: 0 | GY13: 0 | GZ13: 0 | HA13: 0 | HB13: 0 | HC13: 0 | HD13: 0 | HE13: 0 | HF13: 0 | HG13: 0 | HH13: 0 | HI13: 0 | HJ13: 0 | HK13: 0 | HL13: 0 | HM13: 0 | HN13: 0 | HO13: 0 | HP13: 0 | HQ13: 0 | HR13: 0 | HS13: 0 | HT13: 0 | HU13: 0 | HV13: 0 | HW13: 0 | HX13: 0 | HY13: 0 | HZ13: 0 | IA13: 0 | IB13: 0 | IC13: 0 | ID13: 0 | IE13: 0 | IF13: 0 | IG13: 0 | IH13: 0 | II13: 0 | IJ13: 0 | IK13: 0 | IL13: 0 | IM13: 0 | IN13: 0 | IO13: 0 | IP13: 0 | IQ13: 0 | IR13: 0 | IS13: 0 | IT13: 0 | IU13: 0 | IV13: 0 | IW13: 0 | IX13: 0 | IY13: 0 | IZ13: 0 | JA13: 0 | JB13: 0 | JC13: 0 | JD13: 0 | JE13: 0 | JF13: 0 | JG13: 0 | JH13: 0 | JI13: 0 | JJ13: 12 | JK13: 8.5 | JL13: 4.5 | JM13: 8.5 | JN13: 3.5 | JO13: 6.5 | JP13: 0.5 | JQ13: 0.5 | JR13: 0 | JS13: 0 | JT13: 0 | JU13: 3.5 | JV13: 0.5 | JW13: 0 | JX13: 2.5 | JY13: 0 | JZ13: 0 | KA13: 0 | KB13: 10 | KC13: 4 | KD13: 0 | KE13: 4 | KF13: 0 | KG13: 0 | KH13: 0 | KI13: 8.5 | KJ13: 0 | KK13: 0 | KL13: 0 | KM13: 0 | KN13: 0 | KO13: 0 | KP13: 0 | KQ13: 0 | KR13: 0 | KS13: 0 | KT13: 0 | KU13: 0 | KV13: 0 | KW13: 0 | KX13: 0 | KY13: 0 | KZ13: 0 | LA13: 0 | LB13: 0
A14: 43279.25 | B14: 0 | C14: 0 | D14: 0 | E14: 0 | F14: 0 | G14: 0.5 | H14: 0 | I14: 0 | J14: 0.5 | K14: 0 | L14: 0 | M14: 0 | N14: 0 | O14: 0 | P14: 0 | Q14: 0 | R14: 8.5 | S14: 0 | T14: 0 | U14: 0 | V14: 0 | W14: 0 | X14: 0 | Y14: 0 | Z14: 0.5 | AA14: 0 | AB14: 0 | AC14: 0 | AD14: 0 | AE14: 0 | AF14: 0 | AG14: 0 | AH14: 0 | AI14: 0 | AJ14: 0 | AK14: 0 | AL14: 0 | AM14: 0 | AN14: 0 | AO14: 0 | AP14: 0 | AQ14: 0 | AR14: 0 | AS14: 0 | AT14: 0 | AU14: 0 | AV14: 0 | AW14: 0 | AX14: 0 | AY14: 0 | AZ14: 0 | BA14: 0 | BB14: 0 | BC14: 0 | BD14: 0 | BE14: 0 | BF14: 0 | BG14: 0 | BH14: 0 | BI14: 0 | BJ14: 0 | BK14: 0 | BL14: 0 | BM14: 0 | BN14: 0 | BO14: 0 | BP14: 0 | BQ14: 0 | BR14: 0 | BS14: 0 | BT14: 0 | BU14: 0 | BV14: 0 | BW14: 0.5 | BX14: 0 | BY14: 0 | BZ14: 0 | CA14: 0 | CB14: 0 | CC14: 0 | CD14: 0 | CE14: 0 | CF14: 0 | CG14: 8.5 | CH14: 9.5 | CI14: 2.5 | CJ14: 6.5 | CK14: 14.5 | CL14: 8 | CM14: 9 | CN14: 1 | CO14: 4.5 | CP14: 1.5 | CQ14: 7.5 | CR14: 1.5 | CS14: 2.5 | CT14: 6.5 | CU14: 5.5 | CV14: 11.5 | CW14: 0 | CX14: 0.5 | CY14: 1 | CZ14: 5 | DA14: 1.5 | DB14: 0.5 | DC14: 1 | DD14: 0.5 | DE14: 0.5 | DF14: 1 | DG14: 0 | DH14: 0 | DI14: 0 | DJ14: 0 | DK14: 0 | DL14: 0 | DM14: 1 | DN14: 1.5 | DO14: 5.5 | DP14: 2 | DQ14: 4.5 | DR14: 0 | DS14: 4 | DT14: 0.5 | DU14: 1.5 | DV14: 5.5 | DW14: 1.5 | DX14: 0.5 | DY14: 0 | DZ14: 0 | EA14: 0 | EB14: 0.5 | EC14: 0.5 | ED14: 2 | EE14: 0.5 | EF14: 0.5 | EG14: 0 | EH14: 0 | EI14: 0 | EJ14: 0 | EK14: 0 | EL14: 0.5 | EM14: 0 | EN14: 2 | EO14: 0 | EP14: 0 | EQ14: 1 | ER14: 0 | ES14: 0 | ET14: 0 | EU14: 0 | EV14: 0 | EW14: 0 | EX14: 0.5 | EY14: 0 | EZ14: 0.5 | FA14: 0 | FB14: 0 | FC14: 0 | FD14: 0.5 | FE14: 0.5 | FF14: 0 | FG14: 2 | FH14: 0.5 | FI14: 0 | FJ14: 0.5 | FK14: 0 | FL14: 0 | FM14: 0.5 | FN14: 1 | FO14: 1.5 | FP14: 18 | FQ14: 1.5 | FR14: 1.5 | FS14: 1 | FT14: 2 | FU14: 1 | FV14: 2 | FW14: 2.5 | FX14: 0 | FY14: 0 | FZ14: 0 | GA14: 2.5 | GB14: 0.5 | GC14: 0 | GD14: 2.5 | GE14: 5.5 | GF14: 3 | GG14: 3 | GH14: 1 | GI14: 1.5 | GJ14: 1 | GK14: 8 | GL14: 2 | GM14: 3 | GN14: 1 | GO14: 3.5 | GP14: 1.5 | GQ14: 1 | GR14: 1 | GS14: 0 | GT14: 0 | GU14: 0 | GV14: 0 | GW14: 0 | GX14: 0 | GY14: 0 | GZ14: 0 | HA14: 0 | HB14: 0 | HC14: 0 | HD14: 0 | HE14: 0 | HF14: 0 | HG14: 0 | HH14: 0 | HI14: 0 | HJ14: 0 | HK14: 0 | HL14: 0 | HM14: 0 | HN14: 0 | HO14: 0 | HP14: 0 | HQ14: 0 | HR14: 0 | HS14: 0 | HT14: 0 | HU14: 0 | HV14: 0 | HW14: 0 | HX14: 0 | HY14: 0 | HZ14: 0 | IA14: 0 | IB14: 0 | IC14: 0 | ID14: 0 | IE14: 0 | IF14: 0 | IG14: 0 | IH14: 0 | II14: 0 | IJ14: 0 | IK14: 0 | IL14: 0 | IM14: 0 | IN14: 0 | IO14: 0 | IP14: 0 | IQ14: 0 | IR14: 0 | IS14: 0 | IT14: 0 | IU14: 0 | IV14: 0 | IW14: 0 | IX14: 0 | IY14: 0 | IZ14: 0 | JA14: 0 | JB14: 0 | JC14: 0 | JD14: 0 | JE14: 0 | JF14: 0 | JG14: 0 | JH14: 0 | JI14: 0 | JJ14: 19.5 | JK14: 15.5 | JL14: 15.5 | JM14: 3.5 | JN14: 1.5 | JO14: 0 | JP14: 0 | JQ14: 0 | JR14: 0 | JS14: 0 | JT14: 0 | JU14: 3.5 | JV14: 0 | JW14: 0 | JX14: 3.5 | JY14: 0 | JZ14: 0 | KA14: 4 | KB14: 19 | KC14: 0 | KD14: 0 | KE14: 0 | KF14: 0.5 | KG14: 0 | KH14: 0 | KI14: 4.5 | KJ14: 0 | KK14: 0 | KL14: 0 | KM14: 0 | KN14: 0 | KO14: 0 | KP14: 0 | KQ14: 0 | KR14: 0 | KS14: 0 | KT14: 0 | KU14: 0 | KV14: 0 | KW14: 0 | KX14: 0 | KY14: 0 | KZ14: 0 | LA14: 0 | LB14: 0
A15: 43279.292 | B15: 0 | C15: 0 | D15: 0 | E15: 0 | F15: 0 | G15: 0.5 | H15: 1.5 | I15: 0 | J15: 0 | K15: 0 | L15: 0 | M15: 0 | N15: 0 | O15: 0 | P15: 0 | Q15: 0 | R15: 0.5 | S15: 0 | T15: 0 | U15: 0 | V15: 0 | W15: 0 | X15: 0 | Y15: 0 | Z15: 1 | AA15: 1.5 | AB15: 0 | AC15: 0 | AD15: 0 | AE15: 0.5 | AF15: 0 | AG15: 0 | AH15: 0 | AI15: 0 | AJ15: 0 | AK15: 0 | AL15: 0 | AM15: 0 | AN15: 0 | AO15: 0 | AP15: 0 | AQ15: 0 | AR15: 0 | AS15: 0 | AT15: 0 | AU15: 0 | AV15: 0 | AW15: 0 | AX15: 0 | AY15: 0 | AZ15: 0 | BA15: 0 | BB15: 0 | BC15: 0 | BD15: 0 | BE15: 0 | BF15: 0 | BG15: 0 | BH15: 0 | BI15: 0 | BJ15: 0 | BK15: 0 | BL15: 0 | BM15: 0 | BN15: 0 | BO15: 0 | BP15: 0 | BQ15: 0 | BR15: 0 | BS15: 0 | BT15: 0 | BU15: 0 | BV15: 0 | BW15: 0 | BX15: 0 | BY15: 0 | BZ15: 0 | CA15: 0 | CB15: 0 | CC15: 0 | CD15: 0 | CE15: 0 | CF15: 0 | CG15: 7 | CH15: 20 | CI15: 8 | CJ15: 10.5 | CK15: 8.5 | CL15: 14.5 | CM15: 5.5 | CN15: 1.5 | CO15: 4 | CP15: 3 | CQ15: 9 | CR15: 0 | CS15: 3 | CT15: 2 | CU15: 7 | CV15: 11 | CW15: 0 | CX15: 0 | CY15: 0 | CZ15: 0 | DA15: 0 | DB15: 0 | DC15: 0 | DD15: 0 | DE15: 0 | DF15: 0 | DG15: 0 | DH15: 0 | DI15: 0 | DJ15: 0 | DK15: 0 | DL15: 0 | DM15: 0 | DN15: 0 | DO15: 2.5 | DP15: 0 | DQ15: 1.5 | DR15: 0 | DS15: 0 | DT15: 0 | DU15: 0 | DV15: 4.5 | DW15: 6 | DX15: 1.5 | DY15: 0.5 | DZ15: 1 | EA15: 0.5 | EB15: 0.5 | EC15: 1 | ED15: 0 | EE15: 0 | EF15: 0 | EG15: 0 | EH15: 0 | EI15: 0 | EJ15: 0 | EK15: 0 | EL15: 0 | EM15: 2.5 | EN15: 0 | EO15: 0 | EP15: 0 | EQ15: 3.5 | ER15: 0 | ES15: 0 | ET15: 0 | EU15: 0 | EV15: 2 | EW15: 0.5 | EX15: 1 | EY15: 0.5 | EZ15: 0 | FA15: 0 | FB15: 0 | FC15: 0 | FD15: 5 | FE15: 0.5 | FF15: 0 | FG15: 0 | FH15: 0.5 | FI15: 0.5 | FJ15: 0.5 | FK15: 0.5 | FL15: 1 | FM15: 2.5 | FN15: 0.5 | FO15: 2 | FP15: 8.5 | FQ15: 7 | FR15: 0 | FS15: 1.5 | FT15: 0.5 | FU15: 0 | FV15: 0.5 | FW15: 0 | FX15: 0 | FY15: 0 | FZ15: 0 | GA15: 0.5 | GB15: 0 | GC15: 0 | GD15: 4.5 | GE15: 0.5 | GF15: 0 | GG15: 0 | GH15: 1.5 | GI15: 7 | GJ15: 6 | GK15: 1.5 | GL15: 0.5 | GM15: 1 | GN15: 3.5 | GO15: 1 | GP15: 4.5 | GQ15: 3.5 | GR15: 4 | GS15: 0 | GT15: 0 | GU15: 0 | GV15: 0 | GW15: 0 | GX15: 0 | GY15: 0 | GZ15: 0 | HA15: 0 | HB15: 0 | HC15: 0 | HD15: 0 | HE15: 0 | HF15: 0 | HG15: 0 | HH15: 0 | HI15: 0 | HJ15: 0 | HK15: 0 | HL15: 0 | HM15: 0 | HN15: 0 | HO15: 0 | HP15: 0 | HQ15: 0 | HR15: 0 | HS15: 0 | HT15: 0 | HU15: 0 | HV15: 0 | HW15: 0 | HX15: 0 | HY15: 0 | HZ15: 0 | IA15: 0 | IB15: 0 | IC15: 0 | ID15: 0 | IE15: 0 | IF15: 0 | IG15: 0 | IH15: 0 | II15: 0 | IJ15: 0 | IK15: 0 | IL15: 0 | IM15: 0 | IN15: 0 | IO15: 0 | IP15: 0 | IQ15: 0 | IR15: 0 | IS15: 0 | IT15: 0 | IU15: 0 | IV15: 0 | IW15: 0 | IX15: 0 | IY15: 0 | IZ15: 0 | JA15: 0 | JB15: 0 | JC15: 0 | JD15: 0 | JE15: 0 | JF15: 0 | JG15: 0 | JH15: 0 | JI15: 0 | JJ15: 14 | JK15: 12 | JL15: 0 | JM15: 2.5 | JN15: 0 | JO15: 0 | JP15: 0 | JQ15: 0 | JR15: 0 | JS15: 0 | JT15: 0 | JU15: 0 | JV15: 0.5 | JW15: 0 | JX15: 3 | JY15: 0 | JZ15: 0 | KA15: 11.5 | KB15: 4.5 | KC15: 0 | KD15: 0 | KE15: 1 | KF15: 9 | KG15: 0 | KH15: 0 | KI15: 7 | KJ15: 11 | KK15: 0 | KL15: 0 | KM15: 0 | KN15: 0 | KO15: 0 | KP15: 0 | KQ15: 0 | KR15: 0 | KS15: 0 | KT15: 0 | KU15: 0 | KV15: 0 | KW15: 0 | KX15: 0 | KY15: 0 | KZ15: 0 | LA15: 0 | LB15: 0
A16: 43279.333 | B16: 0 | C16: 0 | D16: 0 | E16: 0 | F16: 0 | G16: 0 | H16: 2 | I16: 0 | J16: 0 | K16: 0 | L16: 0 | M16: 0 | N16: 0 | O16: 0 | P16: 0 | Q16: 0 | R16: 1.5 | S16: 0 | T16: 0 | U16: 0 | V16: 0 | W16: 0 | X16: 0 | Y16: 0 | Z16: 3.5 | AA16: 2 | AB16: 0 | AC16: 0 | AD16: 0 | AE16: 0.5 | AF16: 0 | AG16: 0 | AH16: 0 | AI16: 0 | AJ16: 0 | AK16: 0 | AL16: 0 | AM16: 0 | AN16: 0 | AO16: 0 | AP16: 0 | AQ16: 0 | AR16: 0 | AS16: 0 | AT16: 0 | AU16: 0 | AV16: 0 | AW16: 0 | AX16: 0 | AY16: 0 | AZ16: 0 | BA16: 0 | BB16: 0 | BC16: 0 | BD16: 0 | BE16: 0 | BF16: 0 | BG16: 0 | BH16: 0 | BI16: 0 | BJ16: 0 | BK16: 0 | BL16: 0 | BM16: 0 | BN16: 0 | BO16: 0 | BP16: 0 | BQ16: 0 | BR16: 0 | BS16: 0 | BT16: 0 | BU16: 0 | BV16: 0 | BW16: 0 | BX16: 0 | BY16: 0 | BZ16: 0 | CA16: 0 | CB16: 0 | CC16: 0 | CD16: 0 | CE16: 0 | CF16: 0 | CG16: 6 | CH16: 1.5 | CI16: 0.5 | CJ16: 2 | CK16: 0 | CL16: 0 | CM16: 0 | CN16: 0 | CO16: 0 | CP16: 0 | CQ16: 0.5 | CR16: 0 | CS16: 0 | CT16: 0 | CU16: 0.5 | CV16: 1.5 | CW16: 0 | CX16: 0 | CY16: 0 | CZ16: 0 | DA16: 0 | DB16: 0 | DC16: 0 | DD16: 0 | DE16: 0 | DF16: 0 | DG16: 0 | DH16: 0 | DI16: 0 | DJ16: 0 | DK16: 0 | DL16: 0 | DM16: 0 | DN16: 0 | DO16: 0 | DP16: 0 | DQ16: 0 | DR16: 0 | DS16: 0 | DT16: 0 | DU16: 0 | DV16: 4 | DW16: 1.5 | DX16: 2.5 | DY16: 0 | DZ16: 0 | EA16: 0 | EB16: 0 | EC16: 0 | ED16: 0 | EE16: 0 | EF16: 0 | EG16: 0 | EH16: 0 | EI16: 0 | EJ16: 0 | EK16: 0 | EL16: 0 | EM16: 0 | EN16: 0 | EO16: 0 | EP16: 0 | EQ16: 0 | ER16: 0 | ES16: 0 | ET16: 0 | EU16: 0 | EV16: 3 | EW16: 0.5 | EX16: 2.5 | EY16: 0 | EZ16: 0 | FA16: 0 | FB16: 0 | FC16: 0 | FD16: 3 | FE16: 1 | FF16: 0 | FG16: 1 | FH16: 1 | FI16: 0 | FJ16: 1 | FK16: 0.5 | FL16: 2 | FM16: 1 | FN16: 0 | FO16: 8 | FP16: 1 | FQ16: 0 | FR16: 0 | FS16: 0 | FT16: 0 | FU16: 0 | FV16: 0 | FW16: 0 | FX16: 0 | FY16: 0 | FZ16: 0 | GA16: 0 | GB16: 0 | GC16: 0 | GD16: 1 | GE16: 0 | GF16: 20 | GG16: 0 | GH16: 3 | GI16: 0.5 | GJ16: 2 | GK16: 6.5 | GL16: 0 | GM16: 0 | GN16: 0 | GO16: 1 | GP16: 0 | GQ16: 0 | GR16: 0 | GS16: 0 | GT16: 0 | GU16: 0 | GV16: 0 | GW16: 0 | GX16: 0 | GY16: 0 | GZ16: 0 | HA16: 0 | HB16: 0 | HC16: 0 | HD16: 0 | HE16: 0 | HF16: 0 | HG16: 0 | HH16: 0 | HI16: 0 | HJ16: 0 | HK16: 0 | HL16: 0 | HM16: 0 | HN16: 0 | HO16: 0 | HP16: 0 | HQ16: 0 | HR16: 0 | HS16: 0 | HT16: 0 | HU16: 0 | HV16: 0 | HW16: 0 | HX16: 0 | HY16: 0 | HZ16: 0 | IA16: 0 | IB16: 0 | IC16: 0 | ID16: 0 | IE16: 0 | IF16: 0 | IG16: 0 | IH16: 0 | II16: 0 | IJ16: 0 | IL16: 0 | IM16: 0 | IN16: 0 | IO16: 0 | IP16: 0 | IQ16: 0 | IR16: 0 | IS16: 0 | IT16: 0 | IU16: 0 | IV16: 0 | IW16: 0 | IX16: 0 | IY16: 0 | IZ16: 0 | JA16: 0 | JB16: 0 | JC16: 0 | JD16: 0 | JE16: 0 | JF16: 0 | JG16: 0 | JH16: 0 | JI16: 0 | JJ16: 5 | JK16: 3.5 | JL16: 0.5 | JM16: 1 | JN16: 1 | JO16: 0.5 | JP16: 0 | JQ16: 3 | JR16: 0.5 | JS16: 0 | JT16: 0 | JU16: 0 | JV16: 4 | JW16: 0 | JX16: 0 | JY16: 0 | JZ16: 0 | KA16: 7 | KB16: 3.5 | KC16: 0 | KD16: 0 | KE16: 1 | KF16: 7 | KG16: 0 | KH16: 0 | KI16: 7 | KJ16: 8 | KK16: 0 | KL16: 0 | KM16: 0 | KN16: 0 | KO16: 0 | KP16: 0 | KQ16: 0 | KR16: 0 | KS16: 0 | KT16: 0 | KU16: 0 | KV16: 0 | KW16: 0 | KX16: 0 | KY16: 0 | KZ16: 0 | LA16: 0 | LB16: 0
A17: 43279.375 | B17: 0 | C17: 0 | D17: 0 | E17: 0 | F17: 0.5 | G17: 0 | H17: 8 | I17: 0 | J17: 0 | K17: 0 | L17: 0 | M17: 0.5 | N17: 0 | O17: 0 | P17: 0 | Q17: 0 | R17: 8 | S17: 0 | T17: 0 | U17: 0 | V17: 0 | W17: 0 | X17: 0 | Y17: 0 | Z17: 4 | AA17: 0 | AB17: 0 | AC17: 0 | AD17: 0 | AE17: 0.5 | AF17: 0 | AG17: 0 | AH17: 0 | AI17: 0 | AJ17: 0 | AK17: 0 | AL17: 0 | AM17: 0.5 | AN17: 0 | AO17: 0 | AP17: 0 | AQ17: 0 | AR17: 0 | AS17: 0 | AT17: 0 | AU17: 0 | AV17: 0 | AW17: 0 | AX17: 0 | AY17: 0 | AZ17: 0 | BA17: 0 | BB17: 0 | BC17: 0 | BD17: 0 | BE17: 0 | BF17: 0 | BG17: 0 | BH17: 0 | BI17: 0 | BJ17: 0 | BK17: 0 | BL17: 0 | BM17: 0 | BN17: 0 | BO17: 0 | BP17: 0 | BQ17: 0 | BR17: 0 | BS17: 0 | BT17: 0 | BU17: 0 | BV17: 0 | BW17: 0 | BX17: 0 | BY17: 0 | BZ17: 0 | CA17: 0 | CB17: 0 | CC17: 0 | CD17: 0 | CE17: 0 | CF17: 0 | CG17: 0 | CH17: 0 | CI17: 0 | CJ17: 0 | CK17: 0.5 | CL17: 0 | CM17: 0 | CN17: 0 | CO17: 0 | CP17: 0 | CQ17: 1.5 | CR17: 0 | CS17: 0 | CT17: 0 | CU17: 0 | CV17: 0 | CW17: 0 | CX17: 0 | CY17: 0 | CZ17: 0 | DA17: 0 | DB17: 0 | DC17: 0 | DD17: 0 | DE17: 0 | DF17: 0 | DG17: 0 | DH17: 0 | DI17: 0 | DJ17: 0 | DK17: 0 | DL17: 0 | DM17: 0 | DN17: 0 | DO17: 0 | DP17: 0 | DQ17: 0 | DR17: 0.5 | DS17: 0 | DT17: 0 | DU17: 0 | DV17: 0 | DW17: 0 | DX17: 0 | DY17: 0 | DZ17: 0 | EA17: 0 | EB17: 0 | EC17: 0 | ED17: 0 | EE17: 0 | EF17: 0 | EG17: 0 | EH17: 0 | EI17: 0 | EJ17: 0 | EK17: 0 | EL17: 0 | EM17: 0 | EN17: 0 | EO17: 0 | EP17: 0 | EQ17: 0 | ER17: 0 | ES17: 0 | ET17: 0 | EU17: 0 | EV17: 0 | EW17: 0 | EX17: 0 | EY17: 0 | EZ17: 0 | FA17: 0 | FB17: 0 | FC17: 0 | FD17: 0 | FE17: 0 | FF17: 0 | FG17: 0 | FH17: 0 | FI17: 0 | FJ17: 0 | FK17: 0 | FL17: 0 | FM17: 2 | FN17: 4.5 | FO17: 3.5 | FP17: 0 | FQ17: 0 | FR17: 0 | FS17: 0 | FT17: 0 | FU17: 0 | FV17: 0 | FW17: 0 | FX17: 0 | FY17: 0 | FZ17: 0 | GA17: 0 | GB17: 0 | GC17: 0 | GD17: 10.5 | GE17: 0 | GF17: 1 | GG17: 0 | GH17: 4 | GI17: 7 | GJ17: 0.5 | GK17: 0.5 | GL17: 0 | GM17: 0 | GN17: 0.5 | GO17: 2 | GP17: 0 | GQ17: 9 | GR17: 0.5 | GS17: 0 | GT17: 0 | GU17: 0 | GV17: 0 | GW17: 0 | GX17: 0 | GY17: 0 | GZ17: 0 | HA17: 0 | HB17: 0 | HC17: 0 | HD17: 0 | HE17: 0 | HF17: 0 | HG17: 0 | HH17: 0 | HI17: 0 | HJ17: 0 | HK17: 0 | HL17: 0 | HM17: 0 | HN17: 0 | HO17: 0 | HP17: 0 | HQ17: 0 | HR17: 0 | HS17: 0 | HT17: 0 | HU17: 0 | HV17: 0 | HW17: 0 | HX17: 0 | HY17: 0 | HZ17: 0 | IA17: 0 | IB17: 0 | IC17: 0 | ID17: 0 | IE17: 0 | IF17: 0 | IG17: 1 | IH17: 0 | II17: 0 | IJ17: 0 | IK17: 7 | IL17: 0 | IM17: 0 | IN17: 0 | IO17: 0 | IP17: 0 | IQ17: 0 | IR17: 0 | IS17: 0 | IT17: 0 | IU17: 0 | IV17: 0 | IW17: 0 | IX17: 0 | IY17: 0 | IZ17: 0 | JA17: 0 | JB17: 0 | JC17: 0 | JD17: 0 | JE17: 0 | JF17: 0 | JG17: 0 | JH17: 0 | JI17: 0 | JJ17: 3.5 | JK17: 1 | JL17: 0.5 | JM17: 6.5 | JN17: 0.5 | JO17: 0 | JP17: 0 | JQ17: 0 | JR17: 0 | JS17: 0 | JT17: 0 | JU17: 1 | JV17: 0 | JW17: 0 | JX17: 1 | JY17: 0 | JZ17: 0 | KA17: 2 | KB17: 5 | KC17: 0 | KD17: 0 | KE17: 2.5 | KF17: 2 | KG17: 0 | KH17: 0 | KI17: 2.5 | KJ17: 2 | KK17: 0 | KL17: 0 | KM17: 0 | KN17: 0 | KO17: 0 | KP17: 0 | KQ17: 0 | KR17: 0 | KS17: 0 | KT17: 0 | KU17: 0 | KV17: 0 | KW17: 0 | KX17: 0 | KY17: 0 | KZ17: 0 | LA17: 0 | LB17: 0
A18: 43279.417 | B18: 0 | C18: 0.5 | D18: 0 | E18: 0 | F18: 0 | G18: 0.5 | H18: 4.5 | I18: 0 | J18: 0 | K18: 0 | L18: 0 | M18: 0 | N18: 0 | O18: 0 | P18: 0 | Q18: 0 | R18: 10 | S18: 0 | T18: 0 | U18: 0 | V18: 0 | W18: 0.5 | X18: 0 | Y18: 0 | Z18: 2.5 | AA18: 2 | AB18: 0 | AC18: 0 | AD18: 0 | AE18: 0 | AF18: 0 | AG18: 0 | AH18: 0 | AI18: 0 | AJ18: 0 | AK18: 0 | AL18: 0 | AM18: 0 | AN18: 0 | AO18: 0 | AP18: 0 | AQ18: 0 | AR18: 0 | AS18: 0 | AT18: 0 | AU18: 0 | AV18: 0 | AW18: 0 | AX18: 0 | AY18: 0 | AZ18: 0 | BA18: 0 | BB18: 0 | BC18: 0 | BD18: 0 | BE18: 0 | BF18: 0 | BG18: 0 | BH18: 0 | BI18: 0 | BJ18: 0 | BK18: 0 | BL18: 0 | BM18: 0 | BN18: 0 | BO18: 0 | BP18: 0 | BQ18: 0 | BR18: 0 | BS18: 0 | BT18: 0 | BU18: 0 | BV18: 0 | BW18: 0 | BX18: 0 | BY18: 0 | BZ18: 0 | CA18: 0 | CB18: 0 | CC18: 0 | CD18: 0 | CE18: 0 | CF18: 0 | CG18: 1 | CH18: 0 | CI18: 0 | CJ18: 0 | CK18: 0 | CL18: 0 | CM18: 0 | CN18: 0 | CO18: 0 | CP18: 0 | CQ18: 0 | CR18: 0 | CS18: 0 | CT18: 0 | CU18: 0 | CV18: 0 | CW18: 0 | CX18: 0 | CY18: 0 | CZ18: 0 | DA18: 0 | DB18: 0 | DC18: 0 | DD18: 0 | DE18: 0 | DF18: 0 | DG18: 0 | DH18: 0 | DI18: 0 | DJ18: 0 | DK18: 0 | DL18: 0 | DM18: 0 | DN18: 0 | DO18: 0 | DP18: 0 | DQ18: 0 | DR18: 0 | DS18: 0 | DT18: 0 | DU18: 0 | DV18: 0 | DW18: 0.5 | DX18: 0 | DY18: 0 | DZ18: 0 | EA18: 0 | EB18: 0 | EC18: 0 | ED18: 0 | EE18: 0 | EF18: 0 | EG18: 0 | EH18: 0 | EI18: 0 | EJ18: 0 | EK18: 0 | EL18: 0 | EM18: 0 | EN18: 0 | EO18: 0 | EP18: 0 | EQ18: 0 | ER18: 0 | ES18: 0 | ET18: 0 | EU18: 0 | EV18: 0 | EW18: 0 | EX18: 0 | EY18: 0 | EZ18: 0 | FA18: 0 | FB18: 0 | FC18: 0 | FD18: 0.5 | FE18: 0 | FF18: 0 | FG18: 0 | FH18: 0 | FI18: 0 | FJ18: 0 | FK18: 0 | FL18: 0 | FM18: 2 | FN18: 0.5 | FO18: 9.5 | FP18: 0 | FQ18: 0 | FR18: 0 | FS18: 0 | FT18: 0 | FU18: 0 | FV18: 0 | FW18: 0 | FX18: 0 | FY18: 0 | FZ18: 0 | GA18: 0 | GB18: 0 | GC18: 0 | GD18: 16.5 | GE18: 1 | GF18: 2 | GG18: 0 | GH18: 2.5 | GI18: 19 | GJ18: 10 | GK18: 0 | GL18: 0 | GM18: 0 | GN18: 3 | GO18: 3.5 | GP18: 1.5 | GQ18: 7 | GR18: 0 | GS18: 0 | GT18: 0 | GU18: 0 | GV18: 0 | GW18: 0 | GX18: 0 | GY18: 0 | GZ18: 0 | HA18: 0 | HB18: 0 | HC18: 0 | HD18: 0 | HE18: 0 | HF18: 0 | HG18: 0 | HH18: 0 | HI18: 0 | HJ18: 0 | HK18: 0 | HL18: 0 | HM18: 0 | HN18: 0 | HO18: 0 | HP18: 0 | HQ18: 0 | HR18: 0 | HS18: 0 | HT18: 0 | HU18: 0 | HV18: 0 | HW18: 0 | HX18: 0 | HY18: 0 | HZ18: 0 | IA18: 0 | IB18: 0 | IC18: 0 | ID18: 0 | IE18: 0 | IF18: 0 | IG18: 0 | IH18: 0 | II18: 0 | IJ18: 0 | IK18: 0.5 | IL18: 0 | IM18: 0 | IN18: 0 | IO18: 0 | IP18: 0 | IQ18: 0 | IR18: 0 | IS18: 0 | IT18: 0 | IU18: 0 | IV18: 0 | IW18: 0 | IX18: 0 | IY18: 0 | IZ18: 0 | JA18: 0 | JB18: 0 | JC18: 0 | JD18: 0 | JE18: 0 | JF18: 0 | JG18: 0 | JH18: 0 | JI18: 0 | JJ18: 1 | JK18: 1 | JL18: 0 | JM18: 0 | JN18: 0 | JO18: 0 | JP18: 0 | JQ18: 0 | JR18: 0 | JS18: 0 | JT18: 0 | JU18: 0 | JV18: 0 | JW18: 0 | JX18: 0 | JY18: 0 | JZ18: 0 | KA18: 1.5 | KB18: 0 | KC18: 0 | KD18: 0 | KE18: 0 | KF18: 1.5 | KG18: 0 | KH18: 0 | KI18: 1.5 | KJ18: 1.5 | KK18: 0 | KL18: 0 | KM18: 0 | KN18: 0 | KO18: 0 | KP18: 0 | KQ18: 0 | KR18: 0 | KS18: 0 | KT18: 0 | KU18: 0 | KV18: 0 | KW18: 0 | KX18: 0 | KY18: 0 | KZ18: 0 | LA18: 0.5 | LB18: 0
A19: 43279.458 | B19: 0.5 | C19: 0 | D19: 1.5 | E19: 0 | F19: 0 | G19: 0 | H19: 0.5 | I19: 0 | J19: 0 | K19: 0 | L19: 0 | M19: 0 | N19: 0 | O19: 0 | P19: 0 | Q19: 0 | R19: 22.5 | S19: 0 | T19: 0 | U19: 0 | V19: 0 | W19: 3 | X19: 0 | Y19: 0 | Z19: 1 | AA19: 0 | AB19: 0 | AC19: 0.5 | AD19: 0 | AE19: 0 | AF19: 0 | AG19: 0 | AH19: 0 | AI19: 0 | AJ19: 0 | AK19: 1 | AL19: 0 | AM19: 0 | AN19: 0.5 | AO19: 0 | AP19: 0 | AQ19: 0 | AR19: 0 | AS19: 0 | AT19: 0 | AU19: 0 | AV19: 0 | AW19: 0 | AX19: 0 | AY19: 0 | AZ19: 0 | BA19: 0 | BB19: 0 | BC19: 0 | BD19: 0 | BE19: 0 | BF19: 0 | BG19: 0 | BH19: 0 | BI19: 0 | BJ19: 0 | BK19: 0 | BL19: 0 | BM19: 0 | BN19: 0 | BO19: 0 | BP19: 0 | BQ19: 0 | BR19: 0 | BS19: 0 | BT19: 0 | BU19: 0 | BV19: 0 | BW19: 0 | BX19: 0 | BY19: 0 | BZ19: 0 | CA19: 0 | CB19: 0 | CC19: 0 | CD19: 0 | CE19: 0 | CF19: 0 | CG19: 0 | CH19: 0 | CI19: 0 | CJ19: 0 | CK19: 0 | CL19: 0 | CM19: 0 | CN19: 0 | CO19: 0 | CP19: 0 | CQ19: 0 | CR19: 0 | CS19: 0 | CT19: 0 | CU19: 0 | CV19: 0 | CW19: 0 | CX19: 0 | CY19: 0 | CZ19: 0 | DA19: 0 | DB19: 0 | DC19: 0 | DD19: 0 | DE19: 0 | DF19: 0 | DG19: 0 | DH19: 0 | DI19: 0 | DJ19: 0 | DK19: 0 | DL19: 0 | DM19: 0 | DN19: 0 | DO19: 0 | DP19: 0 | DQ19: 0 | DR19: 0 | DS19: 0 | DT19: 0 | DU19: 0 | DV19: 0 | DW19: 0 | DX19: 0 | DY19: 0 | DZ19: 0 | EA19: 0 | EB19: 0 | EC19: 0 | ED19: 0 | EE19: 0 | EF19: 0 | EG19: 0 | EH19: 0 | EI19: 0 | EJ19: 0 | EK19: 0 | EL19: 0 | EM19: 0 | EN19: 0 | EO19: 0 | EP19: 0 | EQ19: 0 | ER19: 0 | ES19: 0 | ET19: 0 | EU19: 0 | EV19: 0 | EW19: 0 | EX19: 0 | EY19: 0 | EZ19: 0 | FA19: 0 | FB19: 0 | FC19: 0 | FD19: 0 | FE19: 0 | FF19: 0 | FG19: 0 | FH19: 0 | FI19: 0 | FJ19: 0 | FK19: 0 | FL19: 0 | FM19: 0.5 | FN19: 0 | FO19: 0 | FP19: 0 | FQ19: 0 | FR19: 0 | FS19: 0 | FT19: 0 | FU19: 0 | FV19: 0 | FW19: 0 | FX19: 0 | FY19: 0 | FZ19: 0 | GA19: 0 | GB19: 0 | GC19: 0 | GD19: 1.5 | GE19: 0 | GF19: 0 | GG19: 0 | GH19: 0 | GI19: 0 | GJ19: 1 | GK19: 0 | GL19: 0 | GM19: 0 | GN19: 0 | GO19: 0 | GP19: 0 | GQ19: 0 | GR19: 0 | GS19: 0 | GT19: 0 | GU19: 0 | GV19: 0 | GW19: 0 | GX19: 0 | GY19: 0 | GZ19: 0 | HA19: 0 | HB19: 0 | HC19: 0 | HD19: 0 | HE19: 0 | HF19: 0 | HG19: 0 | HH19: 0 | HI19: 0 | HJ19: 0 | HK19: 0 | HL19: 0 | HM19: 0 | HN19: 0 | HO19: 0 | HP19: 0 | HQ19: 0 | HR19: 0 | HS19: 0 | HT19: 0 | HU19: 0 | HV19: 0 | HW19: 0 | HX19: 0 | HY19: 0 | HZ19: 0 | IA19: 0 | IB19: 0 | IC19: 0 | ID19: 0 | IE19: 0 | IF19: 0 | IG19: 0 | IH19: 0 | II19: 0 | IJ19: 0 | IK19: 0 | IL19: 0 | IM19: 0 | IN19: 0 | IO19: 0 | IP19: 0 | IQ19: 0 | IR19: 0 | IS19: 0 | IT19: 0 | IU19: 0 | IV19: 0 | IW19: 0 | IX19: 0 | IY19: 0 | IZ19: 0 | JA19: 0 | JB19: 0 | JC19: 0 | JD19: 0 | JE19: 0 | JF19: 0 | JG19: 0 | JH19: 0 | JI19: 0 | JJ19: 0 | JK19: 0 | JL19: 0 | JM19: 0 | JN19: 0 | JO19: 0 | JP19: 0 | JQ19: 0 | JR19: 0 | JS19: 0 | JT19: 0 | JU19: 0 | JV19: 0 | JW19: 0 | JX19: 0 | JY19: 0 | JZ19: 0 | KA19: 5 | KB19: 0 | KC19: 0 | KD19: 0 | KE19: 0 | KF19: 3 | KG19: 0 | KH19: 0 | KI19: 0 | KJ19: 2.5 | KK19: 0 | KL19: 0 | KM19: 0 | KN19: 0 | KO19: 0 | KP19: 0 | KQ19: 0 | KR19: 0 | KS19: 0 | KT19: 0 | KU19: 0 | KV19: 0 | KW19: 0 | KX19: 0 | KY19: 0 | KZ19: 0 | LA19: 0 | LB19: 0
A20: 43279.5 | B20: 2.5 | C20: 0 | D20: 0 | E20: 0 | F20: 0 | G20: 0.5 | H20: 0 | I20: 0 | J20: 0 | K20: 0 | L20: 0 | M20: 0 | N20: 0 | O20: 0 | P20: 0 | Q20: 0 | R20: 7.5 | S20: 0 | T20: 0 | U20: 0 | V20: 0 | W20: 2 | X20: 0 | Y20: 0 | Z20: 4 | AA20: 0 | AB20: 0 | AC20: 0 | AD20: 0 | AE20: 0 | AF20: 0 | AG20: 0 | AH20: 0 | AI20: 0 | AJ20: 0 | AK20: 0 | AL20: 0 | AM20: 0 | AN20: 0 | AO20: 0 | AP20: 0 | AQ20: 0 | AR20: 0 | AS20: 0 | AT20: 0.5 | AU20: 0 | AV20: 0 | AW20: 1 | AX20: 0 | AY20: 0 | AZ20: 0 | BA20: 0 | BB20: 0 | BC20: 0 | BD20: 0 | BE20: 0 | BF20: 0 | BG20: 0 | BH20: 0 | BI20: 0 | BJ20: 0 | BK20: 0 | BL20: 0 | BM20: 0 | BN20: 0 | BO20: 0 | BP20: 0 | BQ20: 0 | BR20: 0 | BS20: 0 | BT20: 0 | BU20: 0 | BV20: 0 | BW20: 0 | BX20: 0 | BY20: 0 | BZ20: 0 | CA20: 0 | CB20: 0 | CC20: 0 | CD20: 0 | CE20: 0 | CF20: 0 | CG20: 0 | CH20: 0 | CI20: 0 | CJ20: 0 | CK20: 0 | CL20: 0 | CM20: 0 | CN20: 0 | CO20: 0 | CP20: 0 | CQ20: 0 | CR20: 0 | CS20: 0 | CT20: 0 | CU20: 0 | CV20: 0 | CW20: 0 | CX20: 0 | CY20: 0 | CZ20: 0 | DA20: 0 | DB20: 0 | DC20: 0 | DD20: 0 | DE20: 0 | DF20: 0 | DG20: 0 | DH20: 0 | DI20: 0 | DJ20: 0 | DK20: 0 | DL20: 0 | DM20: 0 | DN20: 0 | DO20: 0 | DP20: 0 | DQ20: 0 | DR20: 0 | DS20: 0 | DT20: 0 | DU20: 0 | DV20: 0 | DW20: 0 | DX20: 0 | DY20: 0 | DZ20: 0 | EA20: 0 | EB20: 0 | EC20: 0 | ED20: 0 | EE20: 0 | EF20: 0 | EG20: 0 | EH20: 0 | EI20: 0 | EJ20: 0 | EK20: 0 | EL20: 0 | EM20: 0 | EN20: 0 | EO20: 0 | EP20: 0 | EQ20: 0 | ER20: 0 | ES20: 0 | ET20: 0 | EU20: 0 | EV20: 0 | EW20: 0 | EX20: 0 | EY20: 0 | EZ20: 0 | FA20: 0 | FB20: 0 | FC20: 0 | FD20: 0 | FE20: 0 | FF20: 0 | FG20: 0 | FH20: 0 | FI20: 0 | FJ20: 0 | FK20: 0 | FL20: 0 | FM20: 0 | FN20: 0 | FO20: 0 | FP20: 0 | FQ20: 0 | FR20: 0 | FS20: 0 | FT20: 0 | FU20: 0 | FV20: 0 | FW20: 0 | FX20: 0 | FY20: 0 | FZ20: 0 | GA20: 0 | GB20: 0 | GC20: 0 | GD20: 0 | GE20: 0 | GF20: 0 | GG20: 0 | GH20: 0 | GI20: 0 | GJ20: 0 | GK20: 0 | GL20: 0 | GM20: 0 | GN20: 0 | GO20: 0 | GP20: 0 | GQ20: 0 | GR20: 0 | GS20: 0 | GT20: 0 | GU20: 0 | GV20: 0 | GW20: 0 | GX20: 0 | GY20: 0 | GZ20: 0 | HA20: 0 | HB20: 0 | HC20: 0 | HD20: 0 | HE20: 0 | HF20: 0 | HG20: 0 | HH20: 0 | HI20: 0 | HJ20: 0 | HK20: 0 | HL20: 0 | HM20: 0 | HN20: 0 | HO20: 0 | HP20: 0 | HQ20: 0 | HR20: 0 | HS20: 0 | HT20: 0 | HU20: 0 | HV20: 0 | HW20: 0 | HX20: 0 | HY20: 0 | HZ20: 0 | IA20: 0 | IB20: 0 | IC20: 0 | ID20: 0 | IE20: 0 | IF20: 0 | IG20: 0 | IH20: 0 | II20: 0 | IJ20: 0 | IK20: 0 | IL20: 0 | IM20: 0 | IN20: 0 | IO20: 0 | IP20: 0 | IQ20: 0 | IR20: 0 | IS20: 0 | IT20: 0 | IU20: 0 | IV20: 0.5 | IW20: 0 | IX20: 0 | IY20: 0 | IZ20: 0 | JA20: 0 | JB20: 0 | JC20: 0 | JD20: 0 | JE20: 0 | JF20: 0 | JG20: 0 | JH20: 0 | JI20: 0 | JJ20: 0 | JK20: 0 | JL20: 0 | JM20: 0 | JN20: 0 | JO20: 0 | JP20: 0 | JQ20: 0 | JR20: 0 | JS20: 0 | JT20: 0 | JU20: 0 | JV20: 0 | JW20: 0 | JX20: 0 | JY20: 0 | JZ20: 0 | KA20: 10.5 | KB20: 0 | KC20: 0 | KD20: 0 | KE20: 0 | KF20: 7 | KG20: 0 | KH20: 0 | KI20: 0 | KJ20: 8 | KK20: 0 | KL20: 0 | KM20: 0 | KN20: 0 | KO20: 0 | KP20: 0 | KQ20: 0 | KR20: 0 | KS20: 0 | KT20: 0 | KU20: 0 | KV20: 0 | KW20: 0 | KX20: 0 | KY20: 0 | KZ20: 0 | LA20: 0 | LB20: 0
A21: 43279.542 | B21: 3.5 | C21: 0 | D21: 0 | E21: 0 | F21: 0 | G21: 1 | H21: 0 | I21: 0 | J21: 0 | K21: 0 | L21: 0 | M21: 0 | N21: 0 | O21: 0 | P21: 0 | Q21: 0 | R21: 4 | S21: 0 | T21: 0 | U21: 0 | V21: 0 | W21: 0.5 | X21: 0 | Y21: 0 | Z21: 7 | AA21: 0 | AB21: 0 | AC21: 0 | AD21: 0 | AE21: 3 | AF21: 0 | AG21: 0 | AH21: 0 | AI21: 0 | AJ21: 0 | AK21: 0 | AL21: 0 | AM21: 0 | AN21: 0 | AO21: 0 | AP21: 0 | AQ21: 0 | AR21: 0 | AS21: 0 | AT21: 0 | AU21: 0 | AV21: 0 | AW21: 2.5 | AX21: 0 | AY21: 0 | AZ21: 0 | BA21: 0 | BB21: 0 | BC21: 0 | BD21: 0 | BE21: 0 | BF21: 0 | BG21: 0 | BH21: 0 | BI21: 0 | BJ21: 0 | BK21: 0 | BL21: 0 | BM21: 0 | BN21: 0 | BO21: 0 | BP21: 0 | BQ21: 0 | BR21: 0 | BS21: 0 | BT21: 0 | BU21: 0 | BV21: 0 | BW21: 0 | BX21: 0 | BY21: 0 | BZ21: 0 | CA21: 0 | CB21: 0 | CC21: 0 | CD21: 0 | CE21: 0 | CF21: 0 | CG21: 0 | CH21: 0 | CI21: 0 | CJ21: 0 | CK21: 0 | CL21: 0 | CM21: 0 | CN21: 0 | CO21: 0 | CP21: 0 | CQ21: 0 | CR21: 0 | CS21: 0 | CT21: 0 | CU21: 0 | CV21: 0 | CW21: 0 | CX21: 0 | CY21: 0 | CZ21: 0 | DA21: 0 | DB21: 0 | DC21: 0 | DD21: 0 | DE21: 0 | DF21: 0 | DG21: 0 | DH21: 0 | DI21: 0 | DJ21: 0 | DK21: 0 | DL21: 0 | DM21: 0 | DN21: 0 | DO21: 0 | DP21: 0 | DQ21: 0 | DR21: 0 | DS21: 0 | DT21: 0 | DU21: 0 | DV21: 0 | DW21: 0 | DX21: 0 | DY21: 0 | DZ21: 0 | EA21: 0 | EB21: 0 | EC21: 0 | ED21: 0 | EE21: 0 | EF21: 0 | EG21: 0 | EH21: 0 | EI21: 0 | EJ21: 0 | EK21: 0 | EL21: 0 | EM21: 0 | EN21: 0 | EO21: 0 | EP21: 0 | EQ21: 0 | ER21: 0 | ES21: 0 | ET21: 0 | EU21: 0 | EV21: 0 | EW21: 0 | EX21: 0 | EY21: 0 | EZ21: 0 | FA21: 0 | FB21: 0 | FC21: 0 | FD21: 0 | FE21: 0 | FF21: 0 | FG21: 0 | FH21: 0 | FI21: 0 | FJ21: 0 | FK21: 0 | FL21: 0 | FM21: 0 | FN21: 0 | FO21: 0 | FP21: 0 | FQ21: 0 | FR21: 0 | FS21: 0 | FT21: 0 | FU21: 0 | FV21: 0 | FW21: 0 | FX21: 0 | FY21: 0 | FZ21: 0 | GA21: 0 | GB21: 0 | GC21: 0 | GD21: 0 | GE21: 0 | GF21: 0 | GG21: 0 | GH21: 0 | GI21: 0 | GJ21: 0 | GK21: 0 | GL21: 0 | GM21: 0 | GN21: 0 | GO21: 0 | GP21: 0 | GQ21: 0 | GR21: 0 | GS21: 0 | GT21: 0 | GU21: 0 | GV21: 0 | GW21: 0 | GX21: 0 | GY21: 0 | GZ21: 0 | HA21: 0 | HB21: 0 | HC21: 0 | HD21: 0 | HE21: 0 | HF21: 0 | HG21: 0 | HH21: 0 | HI21: 0 | HJ21: 0 | HK21: 0 | HL21: 0 | HM21: 0 | HN21: 0 | HO21: 0 | HP21: 0 | HQ21: 0 | HR21: 0 | HS21: 0 | HT21: 0 | HU21: 0 | HV21: 0 | HW21: 0 | HX21: 0 | HY21: 0 | HZ21: 0 | IA21: 0 | IB21: 0 | IC21: 0 | ID21: 0 | IE21: 0 | IF21: 0 | IG21: 0 | IH21: 0 | II21: 0 | IJ21: 0 | IK21: 0 | IL21: 0 | IM21: 0 | IN21: 0 | IO21: 0 | IP21: 0 | IQ21: 0 | IR21: 0 | IS21: 0 | IT21: 0 | IU21: 0 | IV21: 0 | IW21: 0 | IX21: 0 | IY21: 0 | IZ21: 0 | JA21: 0 | JB21: 0 | JC21: 0 | JD21: 0 | JE21: 0 | JF21: 0 | JG21: 0 | JH21: 0 | JI21: 0 | JJ21: 0 | JK21: 0 | JL21: 0 | JM21: 0 | JN21: 0 | JO21: 0 | JP21: 0 | JQ21: 0 | JR21: 0 | JS21: 0 | JT21: 0 | JU21: 0 | JV21: 0 | JW21: 0 | JX21: 0 | JY21: 0 | JZ21: 0 | KA21: 1.5 | KB21: 0 | KC21: 0 | KD21: 0 | KE21: 0 | KF21: 1.5 | KG21: 0 | KH21: 0 | KI21: 0 | KJ21: 1.5 | KK21: 0 | KL21: 0 | KM21: 0 | KN21: 0 | KO21: 0 | KP21: 0 | KQ21: 0 | KR21: 0 | KS21: 0 | KT21: 0 | KU21: 0 | KV21: 0 | KW21: 0 | KX21: 0 | KY21: 0 | KZ21: 0 | LA21: 0 | LB21: 0
A22: 43279.583 | B22: 1 | C22: 0 | D22: 0 | E22: 0 | F22: 0 | G22: 0 | H22: 0 | I22: 0 | J22: 0 | K22: 0 | L22: 0 | M22: 0.5 | N22: 0 | O22: 0 | P22: 0 | Q22: 0 | R22: 1 | S22: 0 | T22: 0 | U22: 0 | V22: 0 | W22: 4.5 | X22: 0 | Y22: 0 | Z22: 1 | AA22: 0 | AB22: 0 | AC22: 0 | AD22: 0 | AE22: 0 | AF22: 0 | AG22: 0 | AH22: 4 | AI22: 0 | AJ22: 0 | AK22: 0 | AL22: 1 | AM22: 0 | AN22: 1.5 | AO22: 0 | AP22: 0 | AQ22: 0 | AR22: 0 | AS22: 0 | AT22: 0.5 | AU22: 0 | AV22: 0 | AW22: 0.5 | AX22: 0.5 | AY22: 0 | AZ22: 0 | BA22: 0 | BB22: 0 | BC22: 0 | BD22: 0 | BE22: 0 | BF22: 0 | BG22: 0 | BH22: 0 | BI22: 0 | BJ22: 0 | BK22: 0 | BL22: 0 | BM22: 0 | BN22: 0 | BO22: 0 | BP22: 0 | BQ22: 0 | BR22: 0 | BS22: 0 | BT22: 0 | BU22: 0 | BV22: 0 | BW22: 0 | BX22: 0 | BY22: 0 | BZ22: 0 | CA22: 0 | CB22: 0 | CC22: 0 | CD22: 0 | CE22: 0 | CF22: 0 | CG22: 0 | CH22: 0 | CI22: 0 | CJ22: 0 | CK22: 0 | CL22: 0 | CM22: 0 | CN22: 0 | CO22: 0 | CP22: 0 | CQ22: 0 | CR22: 0 | CS22: 0 | CT22: 0 | CU22: 0 | CV22: 0 | CW22: 0 | CX22: 0 | CY22: 0 | CZ22: 0 | DA22: 0 | DB22: 0 | DC22: 0 | DD22: 0 | DE22: 0 | DF22: 0 | DG22: 0 | DH22: 0 | DI22: 0 | DJ22: 0 | DK22: 0 | DL22: 0 | DM22: 0 | DN22: 0 | DO22: 0 | DP22: 0 | DQ22: 0 | DR22: 0 | DS22: 0 | DT22: 0 | DU22: 0 | DV22: 0 | DW22: 0 | DX22: 0 | DY22: 0 | DZ22: 0 | EA22: 0 | EB22: 0 | EC22: 0 | ED22: 0 | EE22: 0 | EF22: 0 | EG22: 0 | EH22: 0 | EI22: 0 | EJ22: 0 | EK22: 0 | EL22: 0 | EM22: 0 | EN22: 0 | EO22: 0 | EP22: 0 | EQ22: 0 | ER22: 0 | ES22: 0 | ET22: 0 | EU22: 0 | EV22: 0 | EW22: 0 | EX22: 0 | EY22: 0 | EZ22: 0 | FA22: 0 | FB22: 0 | FC22: 0 | FD22: 0 | FE22: 0 | FF22: 0 | FG22: 0 | FH22: 0 | FI22: 0 | FJ22: 0 | FK22: 0 | FL22: 0 | FM22: 0 | FN22: 0 | FO22: 0 | FP22: 0 | FQ22: 0 | FR22: 0 | FS22: 0 | FT22: 0 | FU22: 0 | FV22: 0 | FW22: 0 | FX22: 0 | FY22: 0 | FZ22: 0 | GA22: 0 | GB22: 0.5 | GC22: 0 | GD22: 0 | GE22: 0 | GF22: 0 | GG22: 0 | GH22: 0 | GI22: 0 | GJ22: 0 | GK22: 0 | GL22: 0 | GM22: 0 | GN22: 0 | GO22: 0 | GP22: 0 | GQ22: 0 | GR22: 0 | GS22: 0 | GT22: 0 | GU22: 0 | GV22: 0 | GW22: 0 | GX22: 0 | GY22: 0 | GZ22: 0 | HA22: 0 | HB22: 0 | HC22: 0 | HD22: 0 | HE22: 0 | HF22: 0 | HG22: 0 | HH22: 0 | HI22: 0 | HJ22: 0 | HK22: 0 | HL22: 0 | HM22: 0 | HN22: 0 | HO22: 0 | HP22: 0 | HQ22: 0 | HR22: 0 | HS22: 0 | HT22: 0 | HU22: 0 | HV22: 0 | HW22: 0 | HX22: 0 | HY22: 0 | HZ22: 0 | IA22: 0 | IB22: 0 | IC22: 0 | ID22: 0 | IE22: 0 | IF22: 0 | IG22: 0 | IH22: 0 | II22: 0 | IJ22: 0 | IK22: 0 | IL22: 0 | IM22: 0 | IN22: 0 | IO22: 0 | IP22: 0 | IQ22: 0 | IR22: 0 | IS22: 0 | IT22: 0 | IU22: 0 | IV22: 0 | IW22: 0 | IX22: 0 | IY22: 0 | IZ22: 0 | JA22: 0 | JB22: 0 | JC22: 0 | JD22: 0 | JE22: 0 | JF22: 0 | JG22: 0 | JH22: 0 | JI22: 0 | JJ22: 0 | JK22: 0 | JL22: 0 | JM22: 0 | JN22: 0 | JO22: 0 | JP22: 0 | JQ22: 0 | JR22: 0 | JS22: 0 | JT22: 0 | JU22: 0 | JV22: 0 | JW22: 0 | JX22: 0 | JY22: 0 | JZ22: 0 | KA22: 4.5 | KB22: 0 | KC22: 0 | KD22: 0 | KE22: 0 | KF22: 1 | KG22: 0 | KH22: 0 | KI22: 0 | KJ22: 2.5 | KK22: 0 | KL22: 0 | KM22: 0 | KN22: 0 | KO22: 0 | KP22: 0 | KQ22: 0 | KR22: 0 | KS22: 0 | KT22: 0 | KU22: 0 | KV22: 0 | KW22: 0 | KX22: 0 | KY22: 0 | KZ22: 0 | LA22: 0 | LB22: 0
A23: 43279.625 | B23: 32.5 | C23: 0 | D23: 0 | E23: 0 | F23: 0 | G23: 0 | H23: 0 | I23: 0 | J23: 0 | K23: 0 | L23: 0 | M23: 0 | N23: 0 | O23: 0 | P23: 0 | Q23: 0 | R23: 2.5 | S23: 0 | T23: 0 | U23: 0 | V23: 0 | W23: 18 | X23: 0 | Y23: 0 | Z23: 1 | AA23: 0 | AB23: 0 | AC23: 0 | AD23: 0 | AE23: 0 | AF23: 0 | AG23: 0 | AH23: 1 | AI23: 0 | AJ23: 0 | AK23: 0 | AL23: 2.5 | AM23: 0 | AN23: 0 | AO23: 0 | AP23: 0 | AQ23: 0 | AR23: 0 | AS23: 0 | AT23: 0 | AU23: 0 | AV23: 0 | AW23: 0 | AX23: 0.5 | AY23: 0 | AZ23: 0 | BA23: 0 | BB23: 0 | BC23: 0 | BD23: 0 | BE23: 0 | BF23: 0 | BG23: 0 | BH23: 0 | BI23: 0 | BJ23: 0 | BK23: 0 | BL23: 0 | BM23: 0 | BN23: 0 | BO23: 0 | BP23: 0 | BQ23: 0 | BR23: 0 | BS23: 0 | BT23: 0 | BU23: 0 | BV23: 0 | BW23: 0 | BX23: 0 | BY23: 0 | BZ23: 0 | CA23: 0 | CB23: 0 | CC23: 0 | CD23: 0 | CE23: 0 | CF23: 0 | CG23: 0 | CH23: 0 | CI23: 0 | CJ23: 0 | CK23: 0 | CL23: 0 | CM23: 0 | CN23: 0 | CO23: 0 | CP23: 0 | CQ23: 0 | CR23: 0 | CS23: 0 | CT23: 0 | CU23: 0 | CV23: 0 | CW23: 0 | CX23: 0 | CY23: 0 | CZ23: 0 | DA23: 0 | DB23: 0 | DC23: 0 | DD23: 0 | DE23: 0 | DF23: 0 | DG23: 0 | DH23: 0 | DI23: 0 | DJ23: 0 | DK23: 0 | DL23: 0 | DM23: 0 | DN23: 0 | DO23: 0 | DP23: 0 | DQ23: 0 | DR23: 0 | DS23: 0 | DT23: 0 | DU23: 0 | DV23: 0 | DW23: 0 | DX23: 0 | DY23: 0 | DZ23: 0 | EA23: 0 | EB23: 0 | EC23: 0 | ED23: 0 | EE23: 0 | EF23: 0 | EG23: 0 | EH23: 0 | EI23: 0 | EJ23: 0 | EK23: 0 | EL23: 0 | EM23: 0 | EN23: 0 | EO23: 0 | EP23: 0 | EQ23: 0 | ER23: 0 | ES23: 0 | ET23: 0 | EU23: 0 | EV23: 0 | EW23: 0 | EX23: 0 | EY23: 0 | EZ23: 0 | FA23: 0 | FB23: 0 | FC23: 0 | FD23: 0 | FE23: 0 | FF23: 0 | FG23: 0 | FH23: 0 | FI23: 0 | FJ23: 0 | FK23: 0 | FL23: 0 | FM23: 0 | FN23: 0 | FO23: 0 | FP23: 0 | FQ23: 0 | FR23: 0 | FS23: 0 | FT23: 0 | FU23: 0 | FV23: 0 | FW23: 0 | FX23: 0 | FY23: 0 | FZ23: 0 | GA23: 0 | GB23: 0 | GC23: 0 | GD23: 0 | GE23: 0 | GF23: 0 | GG23: 0 | GH23: 0 | GI23: 0 | GJ23: 0 | GK23: 0 | GL23: 0 | GM23: 0 | GN23: 0 | GO23: 0 | GP23: 0 | GQ23: 0.5 | GR23: 0 | GS23: 0 | GT23: 0 | GU23: 0 | GV23: 0 | GW23: 0 | GX23: 0 | GY23: 0 | GZ23: 0 | HA23: 0 | HB23: 0 | HC23: 0 | HD23: 0 | HE23: 0 | HF23: 0 | HG23: 0 | HH23: 0 | HI23: 0 | HJ23: 0 | HK23: 0 | HL23: 0 | HM23: 0 | HN23: 0 | HO23: 0 | HP23: 0 | HQ23: 0 | HR23: 0 | HS23: 0 | HT23: 0 | HU23: 0 | HV23: 0 | HW23: 0 | HX23: 0 | HY23: 0 | HZ23: 0 | IA23: 0 | IB23: 0 | IC23: 0 | ID23: 0 | IE23: 0 | IF23: 0 | IG23: 0 | IH23: 0 | II23: 0 | IJ23: 0 | IK23: 0 | IL23: 0 | IM23: 0 | IN23: 0 | IO23: 0 | IP23: 0 | IQ23: 0 | IR23: 0 | IS23: 0 | IT23: 0 | IU23: 0 | IV23: 0 | IW23: 0 | IX23: 0 | IY23: 0 | IZ23: 0 | JA23: 0 | JB23: 0 | JC23: 0 | JD23: 0 | JE23: 0 | JF23: 0 | JG23: 0 | JH23: 0 | JI23: 0 | JJ23: 0 | JK23: 0 | JL23: 0 | JM23: 0 | JN23: 0 | JO23: 0 | JP23: 0 | JQ23: 0 | JR23: 0 | JS23: 0 | JT23: 0 | JU23: 0 | JV23: 0 | JW23: 0 | JX23: 0 | JY23: 0 | JZ23: 0 | KA23: 0 | KB23: 0 | KC23: 0 | KD23: 0 | KE23: 0 | KF23: 4.5 | KG23: 0 | KH23: 0 | KI23: 0 | KJ23: 1.5 | KK23: 0 | KL23: 0 | KM23: 0 | KN23: 0 | KO23: 0 | KP23: 0 | KQ23: 0 | KR23: 0 | KS23: 0 | KT23: 0 | KU23: 0 | KV23: 0 | KW23: 0 | KX23: 0 | KY23: 0 | KZ23: 0 | LA23: 0 | LB23: 0
A24: 43279.667 | B24: 18.5 | C24: 0 | D24: 0 | E24: 0 | F24: 0 | G24: 0 | H24: 0 | I24: 0 | J24: 0 | K24: 0 | L24: 0 | M24: 0 | N24: 0 | O24: 0 | P24: 0 | Q24: 0 | R24: 1.5 | S24: 0 | T24: 0 | U24: 0 | V24: 0 | W24: 7 | X24: 0 | Y24: 0 | Z24: 0 | AA24: 0 | AB24: 0 | AC24: 0 | AD24: 0 | AE24: 0 | AF24: 0 | AG24: 0 | AH24: 0 | AI24: 0 | AJ24: 0 | AK24: 0 | AL24: 0 | AM24: 0 | AN24: 0 | AO24: 0 | AP24: 0 | AQ24: 0 | AR24: 0 | AS24: 0 | AT24: 0 | AU24: 0 | AV24: 0 | AW24: 0 | AX24: 0 | AY24: 0 | AZ24: 0 | BA24: 0 | BB24: 0 | BC24: 0 | BD24: 0 | BE24: 0 | BF24: 0 | BG24: 0 | BH24: 0 | BI24: 0 | BJ24: 0 | BK24: 0 | BL24: 0 | BM24: 0 | BN24: 0 | BO24: 0 | BP24: 0 | BQ24: 0 | BR24: 0 | BS24: 0 | BT24: 0 | BU24: 0 | BV24: 0 | BW24: 0 | BX24: 0 | BY24: 0 | BZ24: 0 | CA24: 0 | CB24: 0 | CC24: 0 | CD24: 0 | CE24: 0 | CF24: 0 | CG24: 0 | CH24: 0 | CI24: 0 | CJ24: 0 | CK24: 0 | CL24: 0 | CM24: 0 | CN24: 0 | CO24: 0 | CP24: 0 | CQ24: 0 | CR24: 0 | CS24: 0 | CT24: 0 | CU24: 0 | CV24: 0 | CW24: 0 | CX24: 0 | CY24: 0 | CZ24: 0 | DA24: 0 | DB24: 0 | DC24: 0 | DD24: 0 | DE24: 0 | DF24: 0 | DG24: 0 | DH24: 0 | DI24: 0 | DJ24: 0 | DK24: 0 | DL24: 0 | DM24: 0 | DN24: 0 | DO24: 0 | DP24: 0 | DQ24: 0 | DR24: 0 | DS24: 0 | DT24: 0 | DU24: 0 | DV24: 0 | DW24: 0 | DX24: 0 | DY24: 0 | DZ24: 0 | EA24: 0 | EB24: 0 | EC24: 0 | ED24: 0 | EE24: 0 | EF24: 0 | EG24: 0 | EH24: 0 | EI24: 0 | EJ24: 0 | EK24: 0 | EL24: 0 | EM24: 0 | EN24: 0 | EO24: 0 | EP24: 0 | EQ24: 0 | ER24: 0 | ES24: 0 | ET24: 0 | EU24: 0 | EV24: 0 | EW24: 0 | EX24: 0 | EY24: 0 | EZ24: 0 | FA24: 0 | FB24: 0 | FC24: 0 | FD24: 0 | FE24: 0 | FF24: 0 | FG24: 0 | FH24: 0 | FI24: 0 | FJ24: 0 | FK24: 0 | FL24: 0 | FM24: 0 | FN24: 0 | FO24: 0 | FP24: 0 | FQ24: 0 | FR24: 0 | FS24: 0 | FT24: 0 | FU24: 0 | FV24: 0 | FW24: 0 | FX24: 0 | FY24: 0 | FZ24: 0 | GA24: 0 | GB24: 0 | GC24: 0 | GD24: 0 | GE24: 0 | GF24: 0 | GG24: 0 | GH24: 0 | GI24: 0 | GJ24: 0 | GK24: 0 | GL24: 0 | GM24: 0 | GN24: 0 | GO24: 0 | GP24: 0 | GQ24: 0 | GR24: 0 | GS24: 0 | GT24: 0 | GU24: 0 | GV24: 0 | GW24: 0 | GX24: 0 | GY24: 0 | GZ24: 0 | HA24: 0 | HB24: 0 | HC24: 0 | HD24: 0 | HE24: 0 | HF24: 0 | HG24: 0 | HH24: 0 | HI24: 0 | HJ24: 0 | HK24: 0 | HL24: 0 | HM24: 0 | HN24: 0 | HO24: 0 | HP24: 0 | HQ24: 0 | HR24: 0 | HS24: 0 | HT24: 0 | HU24: 0 | HV24: 0 | HW24: 0 | HX24: 0 | HY24: 0 | HZ24: 0 | IA24: 0 | IB24: 0 | IC24: 0 | ID24: 0 | IE24: 0 | IF24: 0 | IG24: 0 | IH24: 0 | II24: 0 | IJ24: 0 | IK24: 0 | IL24: 0 | IM24: 0 | IN24: 0 | IO24: 0 | IP24: 0.5 | IQ24: 0 | IR24: 0 | IS24: 0 | IT24: 0 | IU24: 0 | IV24: 0 | IW24: 0 | IX24: 0 | IY24: 0 | IZ24: 0 | JA24: 0 | JB24: 0 | JC24: 0 | JD24: 0 | JE24: 0 | JF24: 0 | JG24: 0 | JH24: 0 | JI24: 0 | JJ24: 0 | JK24: 0 | JL24: 0 | JM24: 0 | JN24: 0 | JO24: 0 | JP24: 0 | JQ24: 0 | JR24: 0 | JS24: 0 | JT24: 0 | JU24: 0 | JV24: 0 | JW24: 0 | JX24: 0 | JY24: 0 | JZ24: 0 | KA24: 0 | KB24: 0 | KC24: 0 | KD24: 0 | KE24: 0 | KF24: 0 | KG24: 0 | KH24: 0 | KI24: 0 | KJ24: 0 | KK24: 0 | KL24: 0 | KM24: 0 | KN24: 0 | KO24: 0 | KP24: 0 | KQ24: 0 | KR24: 0 | KS24: 0 | KT24: 0 | KU24: 0 | KV24: 0 | KW24: 0 | KX24: 0 | KY24: 0 | KZ24: 0 | LA24: 0 | LB24: 0
A25: 43279.708 | B25: 0 | C25: 0 | D25: 0 | E25: 0 | F25: 0 | G25: 0 | H25: 0 | I25: 0 | J25: 0 | K25: 0 | L25: 0 | M25: 0 | N25: 0 | O25: 0 | P25: 1.5 | Q25: 0 | R25: 0.5 | S25: 0 | T25: 0 | U25: 0.5 | V25: 0 | W25: 0 | X25: 0 | Y25: 0 | Z25: 0 | AA25: 0 | AB25: 0 | AC25: 0 | AD25: 0 | AE25: 0 | AF25: 0 | AG25: 0 | AH25: 0 | AI25: 0 | AJ25: 0 | AK25: 0 | AL25: 0 | AM25: 0 | AN25: 0 | AO25: 0 | AP25: 0 | AQ25: 0 | AR25: 0 | AS25: 0 | AT25: 0 | AU25: 0 | AV25: 0 | AW25: 0 | AX25: 0 | AY25: 0 | AZ25: 0 | BA25: 0 | BB25: 0 | BC25: 0 | BD25: 0 | BE25: 0 | BF25: 0 | BG25: 0 | BH25: 0 | BI25: 0 | BJ25: 0 | BK25: 0 | BL25: 0 | BM25: 0 | BN25: 0 | BO25: 0 | BP25: 0 | BQ25: 0 | BR25: 0 | BS25: 0 | BT25: 0 | BU25: 0 | BV25: 0 | BW25: 0 | BX25: 0 | BY25: 0 | BZ25: 0 | CA25: 0 | CB25: 0 | CC25: 0 | CD25: 0 | CE25: 0 | CF25: 0 | CG25: 0 | CH25: 0 | CI25: 0 | CJ25: 0 | CK25: 0 | CL25: 0 | CM25: 0 | CN25: 0 | CO25: 0 | CP25: 0 | CQ25: 0 | CR25: 0 | CS25: 0 | CT25: 0 | CU25: 0 | CV25: 0 | CW25: 0 | CX25: 0 | CY25: 0 | CZ25: 0 | DA25: 0 | DB25: 0 | DC25: 0 | DD25: 0 | DE25: 0 | DF25: 0 | DG25: 0 | DH25: 0 | DI25: 0 | DJ25: 0 | DK25: 0 | DL25: 0 | DM25: 0 | DN25: 0 | DO25: 0 | DP25: 0 | DQ25: 0 | DR25: 0 | DS25: 0 | DT25: 0 | DU25: 0 | DV25: 0 | DW25: 0 | DX25: 0 | DY25: 0 | DZ25: 0 | EA25: 0 | EB25: 0 | EC25: 0 | ED25: 0 | EE25: 0 | EF25: 0 | EG25: 0 | EH25: 0 | EI25: 0 | EJ25: 0 | EK25: 0 | EL25: 0 | EM25: 0 | EN25: 0 | EO25: 0 | EP25: 0 | EQ25: 0 | ER25: 0 | ES25: 0 | ET25: 0 | EU25: 0 | EV25: 0 | EW25: 0.5 | EX25: 0 | EY25: 0 | EZ25: 0 | FA25: 0 | FB25: 0 | FC25: 0 | FD25: 0 | FE25: 0 | FF25: 0 | FG25: 0 | FH25: 0 | FI25: 0 | FJ25: 0 | FK25: 0 | FL25: 0 | FM25: 0 | FN25: 0 | FO25: 0 | FP25: 4 | FQ25: 0 | FR25: 0 | FS25: 0 | FT25: 0 | FU25: 0 | FV25: 0 | FW25: 0 | FX25: 0 | FY25: 0 | FZ25: 0 | GA25: 0 | GB25: 0 | GC25: 0 | GD25: 0 | GE25: 0 | GF25: 0 | GG25: 0 | GH25: 0 | GI25: 0 | GJ25: 0 | GK25: 0 | GL25: 0 | GM25: 0 | GN25: 0 | GO25: 0 | GP25: 0 | GQ25: 0 | GR25: 1.5 | GS25: 0 | GT25: 0 | GU25: 0 | GV25: 0 | GW25: 0 | GX25: 0 | GY25: 0 | GZ25: 0 | HA25: 0 | HB25: 0 | HC25: 0 | HD25: 0 | HE25: 0 | HF25: 0 | HG25: 0 | HH25: 0 | HI25: 0 | HJ25: 0 | HK25: 0 | HL25: 0 | HM25: 0 | HN25: 0 | HO25: 0 | HP25: 0 | HQ25: 0 | HR25: 0 | HS25: 0 | HT25: 0 | HU25: 0 | HV25: 0 | HW25: 0 | HX25: 0 | HY25: 0 | HZ25: 0 | IA25: 0 | IB25: 0 | IC25: 0 | ID25: 0 | IE25: 0 | IF25: 0 | IG25: 0 | IH25: 0 | II25: 0 | IJ25: 0 | IK25: 0 | IL25: 0 | IM25: 0 | IN25: 0 | IO25: 0 | IP25: 0 | IQ25: 0 | IR25: 0 | IS25: 0 | IT25: 0 | IU25: 0 | IV25: 0 | IW25: 0 | IX25: 0 | IY25: 0 | IZ25: 0 | JA25: 0 | JB25: 0 | JC25: 0 | JD25: 0 | JE25: 0 | JF25: 0 | JG25: 0 | JH25: 0 | JI25: 0 | JJ25: 0 | JK25: 0 | JL25: 0 | JM25: 0 | JN25: 0 | JO25: 0 | JP25: 0 | JQ25: 0 | JR25: 0 | JS25: 0 | JT25: 0 | JU25: 0 | JV25: 0 | JW25: 0 | JX25: 0 | JY25: 0 | JZ25: 0 | KA25: 0 | KB25: 0 | KC25: 0 | KD25: 0 | KE25: 0 | KF25: 0 | KG25: 0 | KH25: 0 | KI25: 0 | KJ25: 0 | KK25: 0 | KL25: 0 | KM25: 0 | KN25: 0 | KO25: 0 | KP25: 0 | KQ25: 0 | KR25: 0 | KS25: 0 | KT25: 0 | KU25: 0 | KV25: 0 | KW25: 0 | KX25: 0 | KY25: 0 | KZ25: 0 | LA25: 0 | LB25: 0
A26: 43279.75 | B26: 0 | C26: 0 | D26: 0 | E26: 0 | F26: 0 | G26: 0 | H26: 0 | I26: 0 | J26: 0 | K26: 0 | L26: 0 | M26: 0 | N26: 0 | O26: 0 | P26: 7 | Q26: 0 | R26: 0 | S26: 10 | T26: 0 | U26: 0 | V26: 0 | W26: 0 | X26: 0 | Y26: 0 | Z26: 0 | AA26: 0 | AB26: 0 | AC26: 0 | AD26: 0 | AE26: 0 | AF26: 0 | AG26: 0 | AH26: 0 | AI26: 0 | AJ26: 0 | AK26: 0 | AL26: 0 | AM26: 0 | AN26: 0 | AO26: 0 | AP26: 0 | AQ26: 0 | AR26: 0 | AS26: 0 | AT26: 0 | AU26: 0 | AV26: 0 | AW26: 0 | AX26: 0 | AY26: 7.5 | AZ26: 0 | BA26: 0 | BB26: 0 | BC26: 0 | BD26: 0 | BE26: 0 | BF26: 0 | BG26: 0 | BH26: 0 | BI26: 0 | BJ26: 0 | BK26: 0 | BL26: 0 | BM26: 0 | BN26: 0 | BO26: 0 | BP26: 0 | BQ26: 0 | BR26: 0 | BS26: 0 | BT26: 0 | BU26: 0 | BV26: 0 | BW26: 0 | BX26: 0 | BY26: 0 | BZ26: 0 | CA26: 0 | CB26: 0 | CC26: 0 | CD26: 0 | CE26: 0 | CF26: 0 | CG26: 0 | CH26: 0 | CI26: 0 | CJ26: 0 | CK26: 0 | CL26: 0 | CM26: 0 | CN26: 0 | CO26: 0 | CP26: 0 | CQ26: 0 | CR26: 0 | CS26: 0 | CT26: 0 | CU26: 0 | CV26: 0 | CW26: 0 | CX26: 0 | CY26: 0 | CZ26: 0 | DA26: 0 | DB26: 0 | DC26: 0 | DD26: 0 | DE26: 0 | DF26: 0 | DG26: 0 | DH26: 0 | DI26: 0 | DJ26: 0 | DK26: 0 | DL26: 0 | DM26: 0 | DN26: 0 | DO26: 0 | DP26: 0 | DQ26: 0 | DR26: 0 | DS26: 0 | DT26: 0 | DU26: 0 | DV26: 0 | DW26: 0 | DX26: 0 | DY26: 0 | DZ26: 0 | EA26: 0 | EB26: 0 | EC26: 0 | ED26: 0 | EE26: 0 | EF26: 0 | EG26: 0 | EH26: 0 | EI26: 0 | EJ26: 0 | EK26: 0 | EL26: 0 | EM26: 0 | EN26: 0 | EO26: 0 | EP26: 0 | EQ26: 0 | ER26: 0 | ES26: 0 | ET26: 0 | EU26: 0 | EV26: 0 | EW26: 0 | EX26: 0 | EY26: 0 | EZ26: 0 | FA26: 0 | FB26: 0 | FC26: 0 | FD26: 0 | FE26: 0 | FF26: 0 | FG26: 0 | FH26: 0 | FI26: 0 | FJ26: 0 | FK26: 0 | FL26: 0 | FM26: 0 | FN26: 0 | FO26: 0.5 | FP26: 0 | FQ26: 0 | FR26: 0 | FS26: 0 | FT26: 0 | FU26: 0 | FV26: 0 | FW26: 0 | FX26: 0 | FY26: 0 | FZ26: 0 | GA26: 0 | GB26: 0 | GC26: 0 | GD26: 0 | GE26: 0 | GF26: 0 | GG26: 0 | GH26: 0 | GI26: 0 | GJ26: 0 | GK26: 0 | GL26: 0 | GM26: 0 | GN26: 0 | GO26: 0 | GP26: 0 | GQ26: 0 | GR26: 1.5 | GS26: 0 | GT26: 0 | GU26: 0 | GV26: 0 | GW26: 0 | GX26: 0 | GY26: 0 | GZ26: 0 | HA26: 0 | HB26: 0 | HC26: 0 | HD26: 0 | HE26: 0 | HF26: 0 | HG26: 0 | HH26: 0 | HI26: 0 | HJ26: 0 | HK26: 0 | HL26: 0 | HM26: 0 | HN26: 0 | HO26: 0 | HP26: 0 | HQ26: 0 | HR26: 0 | HS26: 0 | HT26: 0 | HU26: 0 | HV26: 0 | HW26: 0 | HX26: 0 | HY26: 0 | HZ26: 0 | IA26: 0 | IB26: 0 | IC26: 0 | ID26: 0 | IE26: 0 | IF26: 0 | IG26: 0 | IH26: 0 | II26: 0 | IJ26: 0 | IK26: 0 | IL26: 0 | IM26: 0 | IN26: 0 | IO26: 0 | IP26: 0 | IQ26: 0 | IR26: 0 | IS26: 0 | IT26: 0 | IU26: 0 | IV26: 0 | IW26: 0 | IX26: 0 | IY26: 0 | IZ26: 0 | JA26: 0 | JB26: 0 | JC26: 0 | JD26: 0 | JE26: 0 | JF26: 0 | JG26: 0 | JH26: 0 | JI26: 0 | JJ26: 0 | JK26: 0 | JL26: 0 | JM26: 0 | JN26: 0 | JO26: 0 | JP26: 0 | JQ26: 0 | JR26: 0 | JS26: 0 | JT26: 0 | JU26: 0 | JV26: 0 | JW26: 0 | JX26: 0 | JY26: 0 | JZ26: 0 | KA26: 0 | KB26: 0 | KC26: 0 | KD26: 0 | KE26: 0 | KF26: 0 | KG26: 0 | KH26: 0 | KI26: 0 | KJ26: 0 | KK26: 0 | KL26: 0 | KM26: 0 | KN26: 0 | KO26: 0 | KP26: 0 | KQ26: 0 | KR26: 0 | KS26: 0 | KT26: 0 | KU26: 0 | KV26: 0 | KW26: 0 | KX26: 0 | KY26: 0 | KZ26: 0 | LA26: 0 | LB26: 0
A27: 43279.792 | B27: 0 | C27: 3.5 | D27: 0 | E27: 0 | F27: 0 | G27: 0 | H27: 0 | I27: 0 | J27: 0 | K27: 0 | L27: 0 | M27: 0 | N27: 0 | O27: 0 | P27: 43.5 | Q27: 0 | R27: 0 | S27: 8 | T27: 0 | U27: 0 | V27: 1 | W27: 0 | X27: 0 | Y27: 0 | Z27: 1.5 | AA27: 0 | AB27: 0 | AC27: 0 | AD27: 0 | AE27: 0 | AF27: 0 | AG27: 0 | AH27: 0 | AI27: 0 | AJ27: 0 | AK27: 0 | AL27: 0 | AM27: 0 | AN27: 0 | AO27: 0 | AP27: 0 | AQ27: 0 | AR27: 0 | AS27: 0 | AT27: 0 | AU27: 0 | AV27: 0 | AW27: 0 | AX27: 0 | AY27: 25.5 | AZ27: 0 | BA27: 0 | BB27: 0 | BC27: 0 | BD27: 0 | BE27: 0 | BF27: 0 | BG27: 0 | BH27: 0 | BI27: 0 | BJ27: 0 | BK27: 0 | BL27: 0 | BM27: 0 | BN27: 0 | BO27: 0 | BP27: 0 | BQ27: 0 | BR27: 0 | BS27: 0 | BT27: 0 | BU27: 0 | BV27: 0 | BW27: 0 | BX27: 0 | BY27: 0 | BZ27: 0 | CA27: 0 | CB27: 0 | CC27: 0 | CD27: 0 | CE27: 0 | CF27: 0 | CG27: 0 | CH27: 0 | CI27: 0 | CJ27: 0 | CK27: 0 | CL27: 0 | CM27: 0 | CN27: 0 | CO27: 0 | CP27: 0 | CQ27: 0 | CR27: 0 | CS27: 0 | CT27: 0 | CU27: 0 | CV27: 0 | CW27: 0 | CX27: 0 | CY27: 0 | CZ27: 0 | DA27: 0 | DB27: 0 | DC27: 0 | DD27: 0 | DE27: 0 | DF27: 0 | DG27: 0 | DH27: 0 | DI27: 0 | DJ27: 0 | DK27: 0 | DL27: 0 | DM27: 0 | DN27: 0 | DO27: 0 | DP27: 0 | DQ27: 0 | DR27: 0 | DS27: 0 | DT27: 0 | DU27: 0 | DV27: 0 | DW27: 0 | DX27: 0 | DY27: 0 | DZ27: 0 | EA27: 0 | EB27: 0 | EC27: 0 | ED27: 0 | EE27: 0 | EF27: 0 | EG27: 0 | EH27: 0 | EI27: 0 | EJ27: 0 | EK27: 0 | EL27: 0 | EM27: 0 | EN27: 0 | EO27: 0 | EP27: 0 | EQ27: 0 | ER27: 0 | ES27: 0 | ET27: 0 | EU27: 0 | EV27: 0 | EW27: 0 | EX27: 0 | EY27: 0 | EZ27: 0 | FA27: 0 | FB27: 0 | FC27: 0 | FD27: 0 | FE27: 0 | FF27: 0 | FG27: 0 | FH27: 0 | FI27: 0 | FJ27: 0 | FK27: 0 | FL27: 0 | FM27: 0 | FN27: 0 | FO27: 0 | FP27: 0 | FQ27: 0 | FR27: 0 | FS27: 0.5 | FT27: 0 | FU27: 0 | FV27: 0 | FW27: 0 | FX27: 0 | FY27: 0 | FZ27: 0 | GA27: 0 | GB27: 0 | GC27: 0 | GD27: 0 | GE27: 0.5 | GF27: 0 | GG27: 0 | GH27: 0 | GI27: 0 | GJ27: 0 | GK27: 0 | GL27: 0 | GM27: 0 | GN27: 0 | GO27: 0 | GP27: 0 | GQ27: 0 | GR27: 0.5 | GS27: 0 | GT27: 0 | GU27: 0 | GV27: 0 | GW27: 0 | GX27: 0 | GY27: 0 | GZ27: 0 | HA27: 0 | HB27: 0 | HC27: 0 | HD27: 0 | HE27: 0 | HF27: 0 | HG27: 0 | HH27: 0 | HI27: 0 | HJ27: 0 | HK27: 0 | HL27: 0 | HM27: 0 | HN27: 0 | HO27: 0 | HP27: 0 | HQ27: 0 | HR27: 0 | HS27: 0 | HT27: 0 | HU27: 0 | HV27: 0 | HW27: 0 | HX27: 0 | HY27: 0 | HZ27: 0 | IA27: 0 | IB27: 0 | IC27: 0 | ID27: 0 | IE27: 0 | IF27: 0 | IG27: 0 | IH27: 0 | II27: 0 | IJ27: 0 | IK27: 0.5 | IL27: 0 | IM27: 0 | IN27: 0 | IO27: 0 | IP27: 0 | IQ27: 0 | IR27: 0.5 | IS27: 0 | IT27: 0 | IU27: 0 | IV27: 1 | IW27: 0 | IX27: 0 | IY27: 0 | IZ27: 0 | JA27: 0 | JB27: 0 | JC27: 0 | JD27: 0 | JE27: 0 | JF27: 0 | JG27: 0 | JH27: 0 | JI27: 0 | JJ27: 1.5 | JK27: 1 | JL27: 0 | JM27: 0 | JN27: 0 | JO27: 0 | JP27: 0 | JQ27: 0 | JR27: 0 | JS27: 0 | JT27: 0 | JU27: 0 | JV27: 0 | JW27: 0 | JX27: 0 | JY27: 0 | JZ27: 0 | KA27: 10 | KB27: 3 | KC27: 0 | KD27: 0 | KE27: 0 | KF27: 8.5 | KG27: 0 | KH27: 0 | KI27: 5 | KJ27: 6.5 | KK27: 0 | KL27: 0 | KM27: 0 | KN27: 0 | KO27: 0 | KP27: 0 | KQ27: 0 | KR27: 0 | KS27: 0 | KT27: 0 | KU27: 0 | KV27: 0 | KW27: 0 | KX27: 0 | KY27: 0 | KZ27: 0 | LA27: 0 | LB27: 0
A28: 43279.833 | B28: 0 | C28: 1.5 | D28: 0 | E28: 0 | F28: 0 | G28: 0 | H28: 4 | I28: 0 | J28: 0 | K28: 0 | L28: 0 | M28: 0 | N28: 0 | O28: 0 | P28: 19.5 | Q28: 0 | R28: 0 | S28: 0 | T28: 0 | U28: 0 | V28: 0 | W28: 0 | X28: 0 | Y28: 0 | Z28: 1.5 | AA28: 0.5 | AB28: 0 | AC28: 0 | AD28: 0 | AE28: 0 | AF28: 0 | AG28: 0 | AH28: 0 | AI28: 0 | AJ28: 0 | AK28: 0 | AL28: 0 | AM28: 0 | AN28: 0 | AO28: 0 | AP28: 0 | AQ28: 0 | AR28: 0 | AS28: 0 | AT28: 0 | AU28: 0 | AV28: 0 | AW28: 0 | AX28: 0 | AY28: 0.5 | AZ28: 0 | BA28: 0 | BB28: 0 | BC28: 0 | BD28: 0 | BE28: 0 | BF28: 0 | BG28: 0 | BH28: 0 | BI28: 0 | BJ28: 0 | BK28: 0 | BL28: 0 | BM28: 0 | BN28: 0 | BO28: 0 | BP28: 0 | BQ28: 0 | BR28: 0 | BS28: 0 | BT28: 0 | BU28: 0 | BV28: 0 | BW28: 0 | BX28: 0 | BY28: 0 | BZ28: 0 | CA28: 0 | CB28: 0 | CC28: 0 | CD28: 0 | CE28: 0 | CF28: 0 | CG28: 0 | CH28: 0 | CI28: 0 | CJ28: 0 | CK28: 0 | CL28: 0 | CM28: 0 | CN28: 0 | CO28: 0 | CP28: 0 | CQ28: 0 | CR28: 0 | CS28: 0 | CT28: 0 | CU28: 0 | CV28: 0 | CW28: 0 | CX28: 0 | CY28: 0 | CZ28: 0 | DA28: 0 | DB28: 0 | DC28: 0 | DD28: 0 | DE28: 0 | DF28: 0 | DG28: 0 | DH28: 0 | DI28: 0 | DJ28: 0 | DK28: 0 | DL28: 0 | DM28: 0 | DN28: 0 | DO28: 0 | DP28: 0 | DQ28: 0 | DR28: 0 | DS28: 0 | DT28: 0 | DU28: 0 | DV28: 0 | DW28: 0 | DX28: 0 | DY28: 0 | DZ28: 0 | EA28: 0 | EB28: 0 | EC28: 0 | ED28: 0 | EE28: 0 | EF28: 0 | EG28: 0 | EH28: 0 | EI28: 0 | EJ28: 0 | EK28: 0 | EL28: 0 | EM28: 0 | EN28: 0 | EO28: 0 | EP28: 0 | EQ28: 0 | ER28: 0 | ES28: 0 | ET28: 0 | EU28: 0 | EV28: 0 | EW28: 0 | EX28: 0 | EY28: 0 | EZ28: 0 | FA28: 0 | FB28: 0 | FC28: 0 | FD28: 0 | FE28: 0 | FF28: 0 | FG28: 0 | FH28: 0 | FI28: 0 | FJ28: 0 | FK28: 0 | FL28: 0 | FM28: 0 | FN28: 0 | FO28: 0 | FP28: 0 | FQ28: 0 | FR28: 0 | FS28: 0 | FT28: 0 | FU28: 0 | FV28: 0 | FW28: 0 | FX28: 0 | FY28: 0 | FZ28: 0 | GA28: 0 | GB28: 0 | GC28: 0 | GD28: 0 | GE28: 0 | GF28: 0 | GG28: 0 | GH28: 0 | GI28: 0 | GJ28: 0 | GK28: 0 | GL28: 0 | GM28: 0 | GN28: 0 | GO28: 0 | GP28: 0 | GQ28: 0 | GR28: 0 | GS28: 0 | GT28: 0 | GU28: 0 | GV28: 0 | GW28: 0 | GX28: 0 | GY28: 0 | GZ28: 0 | HA28: 0 | HB28: 0 | HC28: 0 | HD28: 0 | HE28: 0 | HF28: 0 | HG28: 0 | HH28: 0 | HI28: 0 | HJ28: 0 | HK28: 0 | HL28: 0 | HM28: 0 | HN28: 0 | HO28: 0 | HP28: 0 | HQ28: 0 | HR28: 0 | HS28: 0 | HT28: 0 | HU28: 0 | HV28: 0 | HW28: 0 | HX28: 0 | HY28: 0 | HZ28: 0 | IA28: 0 | IB28: 0 | IC28: 0 | ID28: 0 | IE28: 0 | IF28: 0 | IG28: 0.5 | IH28: 0 | II28: 0 | IJ28: 0 | IK28: 1 | IL28: 0 | IM28: 0 | IN28: 0 | IO28: 0 | IP28: 0 | IQ28: 0 | IR28: 0 | IS28: 0 | IT28: 0 | IU28: 0 | IV28: 11.5 | IW28: 0 | IX28: 0 | IY28: 0 | IZ28: 0 | JA28: 0 | JB28: 0 | JC28: 0 | JD28: 0 | JE28: 0 | JF28: 0 | JG28: 0 | JH28: 1.5 | JI28: 2.5 | JJ28: 0 | JK28: 0 | JL28: 0 | JM28: 0 | JN28: 0 | JO28: 0 | JP28: 0 | JQ28: 0 | JR28: 0 | JS28: 0 | JT28: 0 | JU28: 0 | JV28: 0 | JW28: 0 | JX28: 0 | JY28: 0 | JZ28: 0 | KA28: 0 | KB28: 0 | KC28: 0 | KD28: 0 | KE28: 0 | KF28: 0 | KG28: 0 | KH28: 0 | KI28: 0 | KJ28: 0 | KK28: 0 | KL28: 0 | KM28: 0 | KN28: 0 | KO28: 0 | KP28: 0 | KQ28: 0 | KR28: 0 | KS28: 0 | KT28: 0 | KU28: 0 | KV28: 0 | KW28: 0 | KX28: 0 | KY28: 0 | KZ28: 0 | LA28: 0 | LB28: 0
... A114: 43283.417 | B114: 0 | C114: 0 | D114: 0 | E114: 0 | F114: 0 | G114: 0 | H114: 0 | I114: 0 | J114: 0 | K114: 0 | L114: 0 | M114: 0 | N114: 0 | O114: 0 | P114: 0 | Q114: 0 | R114: 0 | S114: 0 | T114: 0 | U114: 0 | V114: 0 | W114: 0 | X114: 0 | Y114: 0 | Z114: 0 | AA114: 0 | AB114: 0 | AC114: 0 | AD114: 0 | AE114: 0 | AF114: 0 | AG114: 0 | AH114: 0 | AI114: 0 | AJ114: 0 | AK114: 0 | AL114: 0 | AM114: 0 | AN114: 0 | AO114: 0 | AP114: 0 | AQ114: 0 | AR114: 0 | AS114: 0 | AT114: 0 | AU114: 0 | AV114: 0 | AW114: 0 | AX114: 0 | AY114: 0 | AZ114: 0 | BA114: 0 | BB114: 0 | BC114: 0 | BD114: 0 | BE114: 0 | BF114: 0 | BG114: 0 | BH114: 0 | BI114: 0 | BJ114: 0 | BK114: 0 | BL114: 0 | BM114: 0 | BN114: 0 | BO114: 0 | BP114: 0 | BQ114: 0 | BR114: 0 | BS114: 0 | BT114: 0 | BU114: 0 | BV114: 0 | BW114: 0 | BX114: 0 | BY114: 0 | BZ114: 0 | CA114: 0 | CB114: 0 | CC114: 0 | CD114: 0 | CE114: 0 | CF114: 0 | CG114: 0 | CH114: 0 | CI114: 0 | CJ114: 0 | CK114: 0 | CL114: 0 | CM114: 0 | CN114: 0 | CO114: 0 | CP114: 0 | CQ114: 0 | CR114: 0 | CS114: 0 | CT114: 0 | CU114: 0 | CV114: 0 | CW114: 0 | CX114: 0 | CY114: 0 | CZ114: 0 | DA114: 0 | DB114: 0 | DC114: 0 | DD114: 0 | DE114: 0 | DF114: 0 | DG114: 0 | DH114: 0 | DI114: 0 | DJ114: 0 | DK114: 0 | DL114: 0 | DM114: 0 | DN114: 0 | DO114: 0 | DP114: 0 | DQ114: 0 | DR114: 0 | DS114: 0 | DT114: 0 | DU114: 0 | DV114: 0 | DW114: 0 | DX114: 0 | DY114: 0 | DZ114: 0 | EA114: 0 | EB114: 0 | EC114: 0 | ED114: 0 | EE114: 0 | EF114: 0 | EG114: 0 | EH114: 0 | EI114: 0 | EJ114: 0 | EK114: 0 | EL114: 0 | EM114: 0 | EN114: 0 | EO114: 0 | EP114: 0 | EQ114: 0.5 | ER114: 0 | ES114: 0 | ET114: 0 | EU114: 0 | EV114: 0 | EW114: 0 | EX114: 0 | EY114: 0 | EZ114: 0 | FA114: 0 | FB114: 0 | FC114: 0 | FD114: 0 | FE114: 0 | FF114: 0 | FG114: 0 | FH114: 0 | FI114: 0 | FJ114: 0 | FK114: 0 | FL114: 0 | FM114: 0 | FN114: 0 | FO114: 0 | FP114: 0 | FQ114: 0 | FR114: 0 | FS114: 0 | FT114: 0 | FU114: 0 | FV114: 0 | FW114: 0 | FX114: 0 | FY114: 0 | FZ114: 0 | GA114: 0 | GB114: 0 | GC114: 0 | GD114: 0 | GE114: 0 | GF114: 0 | GG114: 0 | GH114: 0 | GI114: 0 | GJ114: 0 | GK114: 0 | GL114: 0 | GM114: 0 | GN114: 0 | GO114: 0 | GP114: 0 | GQ114: 0 | GR114: 0 | GS114: 0 | GT114: 0 | GU114: 0 | GV114: 0 | GW114: 0 | GX114: 0 | GY114: 1 | GZ114: 0 | HA114: 0 | HB114: 0 | HC114: 0 | HD114: 0 | HE114: 0 | HF114: 2 | HG114: 0 | HH114: 0 | HI114: 0 | HJ114: 0 | HK114: 0 | HL114: 0.5 | HM114: 0 | HN114: 0 | HO114: 1 | HP114: 0 | HQ114: 0.5 | HR114: 3 | HS114: 1 | HT114: 1.5 | HU114: 0 | HV114: 0.5 | HW114: 0.5 | HX114: 0.5 | HY114: 3.5 | HZ114: 0.5 | IA114: 2 | IB114: 8 | IC114: 0.5 | ID114: 0.5 | IE114: 0 | IF114: 1 | IG114: 0.5 | IH114: 0 | II114: 3.5 | IJ114: 1.5 | IK114: 0.5 | IL114: 6 | IM114: 1.5 | IN114: 3 | IO114: 0 | IP114: 0 | IQ114: 0 | IR114: 0 | IS114: 0 | IT114: 0 | IU114: 0 | IV114: 0 | IW114: 0 | IX114: 0 | IY114: 0 | IZ114: 0 | JA114: 0 | JB114: 0 | JC114: 0 | JD114: 0 | JE114: 0 | JF114: 0 | JG114: 0 | JH114: 0 | JI114: 0 | JJ114: 0 | JK114: 0 | JL114: 0 | JM114: 0 | JN114: 0 | JO114: 0 | JP114: 0 | JQ114: 0 | JR114: 0 | JS114: 0 | JT114: 0 | JU114: 0 | JV114: 0 | JW114: 0 | JX114: 0 | JY114: 0 | JZ114: 0 | KA114: 0 | KB114: 0 | KC114: 0 | KD114: 0 | KE114: 0 | KF114: 0 | KG114: 0 | KH114: 0 | KI114: 0 | KJ114: 0 | KK114: 0 | KL114: 0 | KM114: 0 | KN114: 0 | KO114: 0 | KP114: 0 | KQ114: 0 | KR114: 0 | KS114: 0 | KT114: 0 | KU114: 0 | KV114: 0 | KW114: 6.5 | KX114: 0 | KY114: 0 | KZ114: 0 | LA114: 3 | LB114: 0
A115: 43283.458 | B115: 0 | C115: 0 | D115: 0 | E115: 0 | F115: 0 | G115: 0 | H115: 0 | I115: 0 | J115: 0 | K115: 0 | L115: 0 | M115: 0 | N115: 0 | O115: 0 | P115: 0 | Q115: 0 | R115: 0 | S115: 0 | T115: 0 | U115: 0 | V115: 0 | W115: 0 | X115: 0 | Y115: 0 | Z115: 0 | AA115: 0 | AB115: 0 | AC115: 0 | AD115: 0 | AE115: 0 | AF115: 0 | AG115: 0 | AH115: 0 | AI115: 0 | AJ115: 0 | AK115: 0 | AL115: 0 | AM115: 0 | AN115: 0 | AO115: 0 | AP115: 0 | AQ115: 0 | AR115: 0 | AS115: 0 | AT115: 0 | AU115: 0 | AV115: 0 | AW115: 0 | AX115: 0 | AY115: 0 | AZ115: 0 | BA115: 0 | BB115: 0 | BC115: 0 | BD115: 0 | BE115: 0 | BF115: 0 | BG115: 0 | BH115: 0 | BI115: 0 | BJ115: 0 | BK115: 0 | BL115: 0 | BM115: 0 | BN115: 0 | BO115: 0 | BP115: 0 | BQ115: 0 | BR115: 0 | BS115: 0 | BT115: 0 | BU115: 0 | BV115: 0 | BW115: 0 | BX115: 0 | BY115: 0 | BZ115: 0 | CA115: 0 | CB115: 0 | CC115: 0 | CD115: 0 | CE115: 0 | CF115: 0 | CG115: 0 | CH115: 0 | CI115: 0 | CJ115: 0 | CK115: 0 | CL115: 0 | CM115: 0 | CN115: 0 | CO115: 0 | CP115: 0 | CQ115: 0 | CR115: 0 | CS115: 0 | CT115: 0 | CU115: 0 | CV115: 0 | CW115: 0 | CX115: 0 | CY115: 0 | CZ115: 0 | DA115: 0 | DB115: 0 | DC115: 0 | DD115: 0 | DE115: 0 | DF115: 0 | DG115: 0 | DH115: 0 | DI115: 0 | DJ115: 0 | DK115: 0 | DL115: 0 | DM115: 0 | DN115: 0 | DO115: 0 | DP115: 0 | DQ115: 0 | DR115: 0 | DS115: 0 | DT115: 0 | DU115: 0 | DV115: 0 | DW115: 0 | DX115: 0 | DY115: 0 | DZ115: 0 | EA115: 0 | EB115: 0 | EC115: 0 | ED115: 0 | EE115: 0 | EF115: 0 | EG115: 0 | EH115: 0 | EI115: 0 | EJ115: 0 | EK115: 0 | EL115: 0 | EM115: 0 | EN115: 0 | EO115: 0 | EP115: 0 | EQ115: 0 | ER115: 0 | ES115: 0 | ET115: 0 | EU115: 0 | EV115: 0 | EW115: 0 | EX115: 0 | EY115: 0 | EZ115: 0 | FA115: 0 | FB115: 0 | FC115: 0 | FD115: 0 | FE115: 0 | FF115: 0 | FG115: 0 | FH115: 0 | FI115: 0 | FJ115: 0 | FK115: 0 | FL115: 0 | FM115: 0 | FN115: 0 | FO115: 0 | FP115: 0 | FQ115: 0 | FR115: 0 | FS115: 0 | FT115: 0 | FU115: 0 | FV115: 0 | FW115: 0 | FX115: 0 | FY115: 0 | FZ115: 0 | GA115: 0 | GB115: 0 | GC115: 0 | GD115: 0 | GE115: 0 | GF115: 0 | GG115: 0 | GH115: 0 | GI115: 0 | GJ115: 0 | GK115: 0 | GL115: 0 | GM115: 0 | GN115: 0 | GO115: 0 | GP115: 0 | GR115: 0 | GS115: 0 | GT115: 0 | GU115: 0 | GV115: 0 | GW115: 0 | GX115: 0 | GY115: 0 | GZ115: 0 | HA115: 0 | HB115: 0 | HC115: 0 | HD115: 0 | HE115: 0 | HF115: 0 | HG115: 0 | HH115: 0 | HI115: 0 | HJ115: 0 | HK115: 2 | HL115: 1.5 | HM115: 0 | HN115: 0 | HO115: 7.5 | HP115: 4 | HQ115: 2 | HR115: 2 | HS115: 6 | HT115: 0 | HU115: 0 | HV115: 0.5 | HW115: 0 | HX115: 0.5 | HY115: 1.5 | HZ115: 1 | IA115: 0 | IB115: 0 | IC115: 0 | ID115: 0.5 | IE115: 0.5 | IF115: 1.5 | IG115: 0.5 | IH115: 0.5 | II115: 1.5 | IJ115: 1 | IK115: 10 | IL115: 2.5 | IM115: 0 | IN115: 0 | IO115: 0 | IP115: 0 | IQ115: 0 | IR115: 0 | IS115: 0 | IT115: 0 | IU115: 0 | IV115: 0 | IW115: 0 | IX115: 0 | IY115: 0 | IZ115: 0 | JA115: 0 | JB115: 0 | JC115: 0 | JD115: 0 | JE115: 0 | JF115: 0 | JG115: 0 | JH115: 0 | JI115: 0 | JJ115: 0 | JK115: 0 | JL115: 0 | JM115: 0 | JN115: 0 | JO115: 0 | JP115: 0 | JQ115: 0 | JR115: 0 | JS115: 0 | JT115: 0 | JU115: 0 | JV115: 0 | JW115: 0 | JX115: 0 | JY115: 0 | JZ115: 0 | KA115: 0 | KB115: 0 | KC115: 0 | KD115: 0 | KE115: 0 | KF115: 0 | KG115: 0 | KH115: 0 | KI115: 0 | KJ115: 0 | KK115: 0 | KL115: 0 | KM115: 0 | KN115: 0 | KO115: 0 | KP115: 0 | KQ115: 0 | KR115: 0 | KS115: 0 | KT115: 0 | KU115: 0 | KV115: 0 | KW115: 2 | KX115: 0 | KY115: 0 | KZ115: 0 | LA115: 2 | LB115: 3
A116: 43283.5 | B116: 0 | C116: 0 | D116: 0 | E116: 0 | F116: 0 | G116: 0 | H116: 0 | I116: 0 | J116: 0 | K116: 0 | L116: 0 | M116: 0 | N116: 0 | O116: 0 | P116: 0 | Q116: 0 | R116: 0 | S116: 0 | T116: 0 | U116: 0 | V116: 0 | W116: 0 | X116: 0 | Y116: 0 | Z116: 0 | AA116: 0 | AB116: 0 | AC116: 0 | AD116: 0 | AE116: 0 | AF116: 0 | AG116: 0 | AH116: 0 | AI116: 0 | AJ116: 0 | AK116: 0 | AL116: 0 | AM116: 0 | AN116: 0 | AO116: 0 | AP116: 0 | AQ116: 0.5 | AR116: 0.5 | AS116: 0 | AT116: 0 | AU116: 0 | AV116: 0 | AW116: 0 | AX116: 0 | AY116: 0 | AZ116: 0 | BA116: 0 | BB116: 0 | BC116: 0 | BD116: 0 | BE116: 0 | BF116: 0 | BG116: 0 | BH116: 0 | BI116: 0 | BJ116: 0 | BK116: 0 | BL116: 0 | BM116: 0 | BN116: 0 | BO116: 0 | BP116: 0 | BQ116: 0 | BR116: 0 | BS116: 0 | BT116: 0 | BU116: 0 | BV116: 0 | BW116: 0 | BX116: 0 | BY116: 0 | BZ116: 0 | CA116: 0 | CB116: 0 | CC116: 0 | CD116: 0 | CE116: 0 | CF116: 0 | CG116: 0 | CH116: 0 | CI116: 0 | CJ116: 0 | CK116: 0 | CL116: 0 | CM116: 0 | CN116: 0 | CO116: 0 | CP116: 0 | CQ116: 0 | CR116: 0 | CS116: 0 | CT116: 0 | CU116: 0 | CV116: 0 | CW116: 0 | CX116: 0 | CY116: 0 | CZ116: 0 | DA116: 0 | DB116: 0 | DC116: 0 | DD116: 0 | DE116: 0 | DF116: 0 | DG116: 0 | DH116: 0 | DI116: 0 | DJ116: 0 | DK116: 0 | DL116: 0 | DM116: 0 | DN116: 0 | DO116: 0 | DP116: 0 | DQ116: 0 | DR116: 0 | DS116: 0 | DT116: 0 | DU116: 0 | DV116: 0 | DW116: 0 | DX116: 0 | DY116: 0 | DZ116: 0 | EA116: 0.5 | EB116: 0 | EC116: 0 | ED116: 0 | EE116: 0 | EF116: 0 | EG116: 0 | EH116: 0 | EI116: 0 | EJ116: 0 | EK116: 0 | EL116: 0 | EM116: 0 | EN116: 0 | EO116: 0 | EP116: 0 | EQ116: 0 | ER116: 0 | ES116: 0 | ET116: 0 | EU116: 0 | EV116: 0 | EW116: 0 | EX116: 0 | EY116: 0 | EZ116: 0 | FA116: 0 | FB116: 0 | FC116: 0 | FD116: 0 | FE116: 0 | FF116: 0 | FG116: 0 | FH116: 0 | FI116: 0 | FJ116: 0 | FK116: 0 | FL116: 0 | FM116: 0 | FN116: 0 | FO116: 0 | FP116: 0 | FQ116: 0 | FR116: 0 | FS116: 0 | FT116: 0 | FU116: 0 | FV116: 0 | FW116: 0 | FX116: 0 | FY116: 0 | FZ116: 0 | GA116: 0 | GB116: 0 | GC116: 0 | GD116: 0 | GE116: 0 | GF116: 0 | GG116: 0 | GH116: 0 | GI116: 0 | GJ116: 0 | GK116: 0 | GL116: 0 | GM116: 0 | GN116: 0 | GO116: 0 | GP116: 0 | GR116: 0 | GS116: 0 | GT116: 0 | GU116: 0.5 | GV116: 0 | GW116: 0 | GX116: 0 | GY116: 1 | GZ116: 0 | HA116: 0 | HB116: 0 | HC116: 0 | HD116: 0 | HE116: 0 | HF116: 0 | HG116: 0 | HH116: 0 | HI116: 0 | HJ116: 0 | HK116: 1 | HL116: 0 | HM116: 0 | HN116: 0 | HO116: 3.5 | HP116: 0 | HQ116: 0 | HR116: 0 | HS116: 6.5 | HT116: 4.5 | HU116: 0 | HV116: 0 | HW116: 0 | HX116: 0 | HY116: 0 | HZ116: 0 | IA116: 0.5 | IB116: 0 | IC116: 0 | ID116: 2 | IE116: 0 | IF116: 0.5 | IG116: 1.5 | IH116: 0 | II116: 0.5 | IJ116: 0 | IK116: 1.5 | IL116: 7 | IM116: 0 | IN116: 0 | IO116: 1.5 | IP116: 0 | IQ116: 0 | IR116: 0 | IS116: 0 | IT116: 0 | IU116: 0 | IV116: 0 | IW116: 0 | IX116: 0 | IY116: 0 | IZ116: 0 | JA116: 0 | JB116: 0 | JC116: 0 | JD116: 0 | JE116: 0 | JF116: 0 | JG116: 0 | JH116: 0 | JI116: 0 | JJ116: 0 | JK116: 0 | JL116: 0 | JM116: 0 | JN116: 0 | JO116: 0 | JP116: 0 | JQ116: 0 | JR116: 0 | JS116: 0 | JT116: 0 | JU116: 0 | JV116: 0 | JW116: 0 | JX116: 0 | JY116: 0 | JZ116: 0 | KA116: 0 | KB116: 0 | KC116: 0 | KD116: 0 | KE116: 0 | KF116: 0 | KG116: 0 | KH116: 0 | KI116: 0 | KJ116: 0 | KK116: 0 | KL116: 0 | KM116: 0 | KN116: 0 | KO116: 0 | KP116: 1 | KQ116: 0 | KR116: 0 | KS116: 0 | KT116: 0 | KU116: 0 | KV116: 4.5 | KW116: 1 | KX116: 0 | KY116: 1 | KZ116: 0 | LA116: 11.5 | LB116: 0.5
A117: 43283.542 | B117: 0 | C117: 0 | D117: 0 | E117: 0 | F117: 0 | G117: 0 | H117: 0 | I117: 0 | J117: 0.5 | K117: 0 | L117: 0 | M117: 0 | N117: 0 | O117: 0 | P117: 0 | Q117: 0 | R117: 0 | S117: 0 | T117: 0 | U117: 0 | V117: 0 | W117: 0 | X117: 1 | Y117: 0 | Z117: 0 | AA117: 0 | AB117: 0.5 | AC117: 0 | AD117: 0 | AE117: 0.5 | AF117: 0 | AG117: 0 | AH117: 0 | AI117: 0 | AJ117: 0 | AK117: 0 | AL117: 0.5 | AM117: 0 | AN117: 0 | AO117: 0 | AP117: 0 | AQ117: 0 | AR117: 0 | AS117: 0 | AT117: 0 | AU117: 0 | AV117: 0 | AW117: 1 | AX117: 0 | AY117: 0 | AZ117: 0 | BA117: 0 | BB117: 0 | BC117: 0 | BD117: 0 | BE117: 0 | BF117: 0 | BG117: 0 | BH117: 0 | BI117: 0 | BJ117: 0 | BK117: 0 | BL117: 0 | BM117: 0 | BN117: 0 | BO117: 0 | BP117: 0 | BQ117: 0 | BR117: 0 | BS117: 0 | BT117: 0 | BU117: 0 | BV117: 0 | BW117: 0 | BX117: 0 | BY117: 0 | BZ117: 0 | CA117: 0 | CB117: 0 | CC117: 0 | CD117: 0 | CE117: 0 | CF117: 0 | CG117: 0 | CH117: 0 | CI117: 0 | CJ117: 0 | CK117: 0 | CL117: 0 | CM117: 0 | CN117: 0 | CO117: 0 | CP117: 0 | CQ117: 0 | CR117: 0 | CS117: 0 | CT117: 0 | CU117: 0 | CV117: 0 | CW117: 0 | CX117: 0 | CY117: 0 | CZ117: 0 | DA117: 0 | DB117: 0 | DC117: 0 | DD117: 0 | DE117: 0 | DF117: 0 | DG117: 0 | DH117: 0 | DI117: 0 | DJ117: 0 | DK117: 0 | DL117: 0 | DM117: 0 | DN117: 0 | DO117: 0 | DP117: 0 | DQ117: 0 | DR117: 0 | DS117: 0 | DT117: 0 | DU117: 0 | DV117: 0 | DW117: 0 | DX117: 0 | DY117: 0 | DZ117: 0 | EA117: 0 | EB117: 0 | EC117: 0 | ED117: 0 | EE117: 0 | EF117: 0 | EG117: 0 | EH117: 0 | EI117: 0 | EJ117: 0 | EK117: 0 | EL117: 0 | EM117: 0 | EN117: 0 | EO117: 0 | EP117: 0 | EQ117: 0 | ER117: 0 | ES117: 0 | ET117: 0 | EU117: 0 | EV117: 0 | EW117: 0 | EX117: 0 | EY117: 0 | EZ117: 0 | FA117: 0 | FB117: 0 | FC117: 0 | FD117: 0 | FE117: 0 | FF117: 0 | FG117: 0 | FH117: 0 | FI117: 0 | FJ117: 0 | FK117: 0 | FL117: 0 | FM117: 0 | FN117: 0 | FO117: 0 | FP117: 0 | FQ117: 0 | FR117: 0 | FS117: 0 | FT117: 0 | FU117: 0 | FV117: 0 | FW117: 0 | FX117: 0 | FY117: 0 | FZ117: 0 | GA117: 0 | GB117: 0 | GC117: 0 | GD117: 0 | GE117: 0 | GF117: 0 | GG117: 0 | GH117: 0 | GI117: 0 | GJ117: 0 | GK117: 0 | GL117: 0 | GM117: 0 | GN117: 0 | GO117: 0 | GP117: 0 | GR117: 0 | GS117: 0 | GT117: 0.5 | GU117: 0 | GV117: 0 | GW117: 0 | GX117: 0 | GY117: 0.5 | GZ117: 0 | HA117: 0 | HB117: 0 | HC117: 0 | HD117: 0 | HE117: 0 | HF117: 0 | HG117: 0 | HH117: 0 | HI117: 0 | HJ117: 0 | HK117: 0 | HL117: 0.5 | HM117: 0 | HN117: 0 | HO117: 8.5 | HP117: 0 | HQ117: 1 | HR117: 0 | HS117: 2 | HT117: 0.5 | HU117: 0 | HV117: 0 | HW117: 0 | HX117: 0.5 | HY117: 0 | HZ117: 0 | IA117: 0 | IB117: 0 | IC117: 0 | ID117: 0.5 | IE117: 0 | IF117: 0 | IG117: 0.5 | IH117: 0 | II117: 0 | IJ117: 0 | IK117: 6.5 | IL117: 4 | IM117: 0 | IN117: 0 | IO117: 0 | IP117: 0 | IQ117: 0 | IR117: 0 | IS117: 0 | IT117: 0 | IU117: 0 | IV117: 0 | IW117: 0 | IX117: 0 | IY117: 0 | IZ117: 0 | JA117: 0 | JB117: 0 | JC117: 0 | JD117: 0 | JE117: 0 | JF117: 0 | JG117: 0 | JH117: 0 | JI117: 0 | JJ117: 0 | JK117: 0 | JL117: 0 | JM117: 0 | JN117: 0 | JO117: 0 | JP117: 0 | JQ117: 0 | JR117: 0 | JS117: 0 | JT117: 0 | JU117: 0 | JV117: 0 | JW117: 0 | JX117: 0 | JY117: 0 | JZ117: 0 | KA117: 0 | KB117: 0 | KC117: 0 | KD117: 0 | KE117: 0 | KF117: 0 | KG117: 0 | KH117: 0 | KI117: 0 | KJ117: 0 | KK117: 0 | KL117: 0 | KM117: 0 | KN117: 0 | KO117: 0 | KP117: 1.5 | KQ117: 0 | KR117: 0 | KS117: 0 | KT117: 0 | KU117: 0 | KV117: 0.5 | KW117: 0.5 | KX117: 0 | KY117: 1 | KZ117: 0 | LA117: 2.5 | LB117: 1
A118: 43283.583 | B118: 0 | C118: 0 | D118: 0 | E118: 0 | F118: 0 | G118: 0 | H118: 0 | I118: 0 | J118: 0 | K118: 0 | L118: 0 | M118: 0 | N118: 0 | O118: 0 | P118: 0 | Q118: 0 | R118: 0 | S118: 0 | T118: 0 | U118: 0 | V118: 0 | W118: 0 | X118: 0 | Y118: 0 | Z118: 0 | AA118: 0 | AB118: 0 | AC118: 0 | AD118: 0 | AE118: 0.5 | AF118: 0 | AG118: 0 | AH118: 0 | AI118: 1 | AJ118: 0 | AK118: 0 | AL118: 0 | AM118: 0 | AN118: 0 | AO118: 0 | AP118: 0 | AQ118: 0 | AR118: 0 | AS118: 0 | AT118: 0 | AU118: 0 | AV118: 0 | AW118: 0 | AX118: 0 | AY118: 0 | AZ118: 0 | BA118: 0 | BB118: 0 | BC118: 0 | BD118: 0 | BE118: 0 | BF118: 0 | BG118: 0 | BH118: 0 | BI118: 0 | BJ118: 0 | BK118: 0 | BL118: 0 | BM118: 0 | BN118: 0 | BO118: 0 | BP118: 0 | BQ118: 0 | BR118: 0 | BS118: 0 | BT118: 0 | BU118: 0 | BV118: 0 | BW118: 0 | BX118: 0 | BY118: 0 | BZ118: 0 | CA118: 0 | CB118: 0 | CC118: 0 | CD118: 0 | CE118: 0 | CF118: 0 | CG118: 0 | CH118: 0 | CI118: 0 | CJ118: 0 | CK118: 0 | CL118: 0 | CM118: 0 | CN118: 0 | CO118: 0 | CP118: 0 | CQ118: 0 | CR118: 0 | CS118: 0 | CT118: 0 | CU118: 0 | CV118: 0 | CW118: 0 | CX118: 0 | CY118: 0 | CZ118: 0 | DA118: 0 | DB118: 0 | DC118: 0 | DD118: 0 | DE118: 0 | DF118: 0 | DG118: 0 | DH118: 0 | DI118: 0 | DJ118: 0 | DK118: 0 | DL118: 0 | DM118: 0 | DN118: 0 | DO118: 0 | DP118: 0 | DQ118: 0 | DR118: 0 | DS118: 0 | DT118: 0 | DU118: 0 | DV118: 0 | DW118: 0 | DX118: 0 | DY118: 0 | DZ118: 0 | EA118: 0 | EB118: 0 | EC118: 0 | ED118: 0 | EE118: 0 | EF118: 0 | EG118: 0 | EH118: 0 | EI118: 0 | EJ118: 0 | EK118: 0 | EL118: 0 | EM118: 0 | EN118: 0 | EO118: 0 | EP118: 0 | EQ118: 0 | ER118: 0 | ES118: 0 | ET118: 0 | EU118: 0 | EV118: 0 | EW118: 0 | EX118: 0 | EY118: 0 | EZ118: 0 | FA118: 0 | FB118: 0 | FC118: 0 | FD118: 0 | FE118: 0 | FF118: 0 | FG118: 0 | FH118: 0 | FI118: 0 | FJ118: 0 | FK118: 0 | FL118: 0 | FM118: 0 | FN118: 0 | FO118: 0 | FP118: 0 | FQ118: 0 | FR118: 0 | FS118: 0 | FT118: 0 | FU118: 0 | FV118: 0 | FW118: 0 | FX118: 0 | FY118: 0 | FZ118: 0 | GA118: 0 | GB118: 0 | GC118: 0 | GD118: 0 | GE118: 0 | GF118: 0 | GG118: 0 | GH118: 0 | GI118: 0 | GJ118: 0 | GK118: 0 | GL118: 0 | GM118: 0 | GN118: 0 | GO118: 0 | GP118: 0 | GQ118: 0 | GR118: 0 | GS118: 0 | GT118: 0 | GU118: 0 | GV118: 0 | GW118: 0 | GX118: 0 | GY118: 0 | GZ118: 0 | HA118: 0 | HB118: 0 | HC118: 1 | HD118: 0 | HE118: 0 | HF118: 0 | HG118: 0 | HH118: 0 | HI118: 0 | HJ118: 0 | HK118: 0 | HL118: 0 | HM118: 0 | HN118: 0 | HO118: 0.5 | HP118: 0 | HQ118: 3 | HR118: 0 | HS118: 6 | HT118: 4 | HU118: 0 | HV118: 3.5 | HW118: 0 | HX118: 0.5 | HY118: 0 | HZ118: 1 | IA118: 0 | IB118: 0 | IC118: 0 | ID118: 0.5 | IE118: 0 | IF118: 0.5 | IG118: 0 | IH118: 0 | II118: 0 | IJ118: 0 | IK118: 2.5 | IL118: 6 | IM118: 0 | IN118: 0 | IO118: 0 | IP118: 0 | IQ118: 0 | IR118: 0 | IS118: 0 | IT118: 0 | IU118: 0 | IV118: 0 | IW118: 0 | IX118: 0 | IY118: 0 | IZ118: 0 | JA118: 0 | JB118: 0 | JC118: 0 | JD118: 0 | JE118: 0 | JF118: 0 | JG118: 0 | JH118: 0 | JI118: 0 | JJ118: 0 | JK118: 0 | JL118: 0 | JM118: 0 | JN118: 0 | JO118: 0 | JP118: 0 | JQ118: 0 | JR118: 0 | JS118: 0 | JT118: 0 | JU118: 0 | JV118: 0 | JW118: 0 | JX118: 0 | JY118: 0 | JZ118: 0 | KA118: 0 | KB118: 0 | KC118: 0 | KD118: 0 | KE118: 0 | KF118: 0 | KG118: 0 | KH118: 0 | KI118: 0 | KJ118: 0 | KK118: 0 | KL118: 0 | KM118: 0 | KN118: 0 | KO118: 0 | KP118: 0 | KQ118: 0 | KR118: 0 | KS118: 0 | KT118: 0 | KU118: 0 | KV118: 0 | KW118: 0.5 | KX118: 0 | KY118: 0.5 | KZ118: 0 | LA118: 2 | LB118: 0
A119: 43283.625 | B119: 0 | C119: 0 | D119: 0 | E119: 0 | F119: 0 | G119: 0 | H119: 0 | I119: 0 | J119: 0 | K119: 0 | L119: 0 | M119: 0 | N119: 0 | O119: 0 | P119: 0 | Q119: 0 | R119: 0 | S119: 0 | T119: 0 | U119: 0 | V119: 0 | W119: 0 | X119: 0 | Y119: 0 | Z119: 0 | AA119: 0 | AB119: 0 | AC119: 0 | AD119: 0 | AE119: 0 | AF119: 0 | AG119: 0 | AH119: 0 | AI119: 0 | AJ119: 0 | AK119: 0 | AL119: 0 | AM119: 0 | AN119: 0 | AO119: 0 | AP119: 0 | AQ119: 0 | AR119: 0 | AS119: 0 | AT119: 0 | AU119: 0 | AV119: 0 | AW119: 0 | AX119: 0 | AY119: 0.5 | AZ119: 0 | BA119: 0 | BB119: 0 | BC119: 0 | BD119: 0 | BE119: 0 | BF119: 0 | BG119: 0 | BH119: 0 | BI119: 0 | BJ119: 0 | BK119: 0 | BL119: 0 | BM119: 0 | BN119: 0 | BO119: 0 | BP119: 0 | BQ119: 0 | BR119: 0 | BS119: 0 | BT119: 0 | BU119: 0 | BV119: 0 | BW119: 0 | BX119: 0 | BY119: 0 | BZ119: 0 | CA119: 0 | CB119: 0 | CC119: 0 | CD119: 0 | CE119: 0 | CF119: 0 | CG119: 0 | CH119: 0 | CI119: 0 | CJ119: 0 | CK119: 0 | CL119: 0 | CM119: 0 | CN119: 0 | CO119: 0 | CP119: 0 | CQ119: 0 | CR119: 0 | CS119: 0 | CT119: 0 | CU119: 0 | CV119: 0 | CW119: 0 | CX119: 0 | CY119: 0.5 | CZ119: 0 | DA119: 0 | DB119: 0 | DC119: 0 | DD119: 0 | DE119: 0 | DF119: 0 | DG119: 0 | DH119: 0 | DI119: 0 | DJ119: 0 | DK119: 0 | DL119: 0 | DM119: 0 | DN119: 0 | DO119: 0 | DP119: 0 | DQ119: 0 | DR119: 0 | DS119: 0 | DT119: 0 | DU119: 0 | DV119: 0 | DW119: 0 | DX119: 0 | DY119: 0 | DZ119: 0 | EA119: 0 | EB119: 0 | EC119: 0 | ED119: 1 | EE119: 0 | EF119: 0 | EG119: 0 | EH119: 0 | EI119: 0 | EJ119: 0 | EK119: 0 | EL119: 0 | EM119: 0 | EN119: 0 | EO119: 0 | EP119: 0 | EQ119: 0 | ER119: 0 | ES119: 0 | ET119: 0 | EU119: 0 | EV119: 0 | EW119: 0 | EX119: 0 | EY119: 0 | EZ119: 0 | FA119: 0 | FB119: 0 | FC119: 0 | FD119: 0 | FE119: 0 | FF119: 23 | FG119: 0 | FH119: 0 | FI119: 0 | FJ119: 0 | FK119: 0 | FL119: 0 | FM119: 0 | FN119: 0 | FO119: 0 | FP119: 0 | FQ119: 0 | FR119: 0 | FS119: 0 | FT119: 0 | FU119: 0 | FV119: 0 | FW119: 0 | FX119: 0 | FY119: 0 | FZ119: 0 | GA119: 0 | GB119: 0 | GC119: 0 | GD119: 0 | GE119: 0 | GF119: 0 | GG119: 0 | GH119: 0 | GI119: 0 | GJ119: 0 | GK119: 0 | GL119: 0 | GM119: 0 | GN119: 0 | GO119: 0 | GP119: 0 | GQ119: 0 | GR119: 0 | GS119: 0 | GT119: 0 | GU119: 0 | GV119: 0 | GW119: 0 | GX119: 0 | GY119: 0.5 | GZ119: 0.5 | HA119: 0 | HB119: 0 | HC119: 0 | HD119: 0 | HE119: 0 | HF119: 0 | HG119: 0 | HH119: 0 | HI119: 0 | HJ119: 0 | HK119: 0 | HL119: 0 | HM119: 0 | HN119: 1 | HO119: 0 | HP119: 0 | HQ119: 1.5 | HR119: 0 | HS119: 4.5 | HT119: 1 | HU119: 0 | HV119: 0 | HW119: 0 | HX119: 0 | HY119: 0 | HZ119: 1 | IA119: 0 | IB119: 0 | IC119: 0 | ID119: 1 | IE119: 0 | IF119: 1 | IG119: 0 | IH119: 0 | II119: 0 | IJ119: 0 | IK119: 0.5 | IL119: 5.5 | IM119: 0 | IN119: 0 | IO119: 0 | IP119: 0 | IQ119: 0 | IR119: 0 | IS119: 0 | IT119: 0 | IU119: 0 | IV119: 0 | IW119: 0 | IX119: 0 | IY119: 0 | IZ119: 0 | JA119: 0 | JB119: 0 | JC119: 0 | JD119: 0 | JE119: 0 | JF119: 0 | JG119: 0 | JH119: 0 | JI119: 0 | JJ119: 0 | JK119: 0 | JL119: 0 | JM119: 0 | JN119: 0 | JO119: 0 | JP119: 0 | JQ119: 0 | JR119: 0 | JS119: 0 | JT119: 0 | JU119: 0 | JV119: 0 | JW119: 0 | JX119: 0 | JY119: 0 | JZ119: 0 | KA119: 0 | KB119: 0 | KC119: 0 | KD119: 0 | KE119: 0 | KF119: 0 | KG119: 0 | KH119: 0 | KI119: 0 | KJ119: 0 | KK119: 0 | KL119: 0 | KM119: 0 | KN119: 0 | KO119: 0 | KP119: 0 | KQ119: 0 | KR119: 0 | KS119: 0 | KT119: 0 | KU119: 0.5 | KV119: 0 | KW119: 1.5 | KX119: 0 | KY119: 0 | KZ119: 0 | LA119: 9.5 | LB119: 0
A120: 43283.667 | B120: 0 | C120: 0 | D120: 0 | E120: 0 | F120: 0 | G120: 0 | H120: 0 | I120: 0 | J120: 0 | K120: 0 | L120: 0 | M120: 0 | N120: 0 | O120: 0 | P120: 0 | Q120: 0 | R120: 0 | S120: 0 | T120: 0 | U120: 0 | V120: 0 | W120: 0 | X120: 0 | Y120: 0 | Z120: 0 | AA120: 0 | AB120: 0 | AC120: 0 | AD120: 0 | AE120: 0 | AF120: 0 | AG120: 0 | AH120: 0 | AI120: 0 | AJ120: 0 | AK120: 0 | AL120: 0 | AM120: 0 | AN120: 0 | AO120: 0 | AP120: 0 | AQ120: 0 | AR120: 0 | AS120: 0 | AT120: 0 | AU120: 0 | AV120: 0 | AW120: 0 | AX120: 0 | AY120: 0.5 | AZ120: 0 | BA120: 0 | BB120: 0 | BC120: 0 | BD120: 0 | BE120: 0 | BF120: 0 | BG120: 0 | BH120: 0 | BI120: 0 | BJ120: 0 | BK120: 0 | BL120: 0 | BM120: 0 | BN120: 2 | BO120: 0 | BP120: 0 | BQ120: 0 | BR120: 0 | BS120: 0 | BT120: 0 | BU120: 0 | BV120: 0 | BW120: 0 | BX120: 0 | BY120: 0 | BZ120: 0 | CA120: 0 | CB120: 0 | CC120: 0 | CD120: 0 | CE120: 0 | CF120: 0 | CG120: 0 | CH120: 0 | CI120: 0 | CJ120: 0 | CK120: 0 | CL120: 0 | CM120: 0 | CN120: 0 | CO120: 0 | CP120: 0 | CQ120: 0 | CR120: 0 | CS120: 0 | CT120: 0 | CU120: 0 | CV120: 0 | CW120: 0 | CX120: 0 | CY120: 0 | CZ120: 0 | DA120: 0 | DB120: 0 | DC120: 0 | DD120: 0 | DE120: 0 | DF120: 0 | DG120: 0 | DH120: 0 | DI120: 0 | DJ120: 0 | DK120: 0 | DL120: 0 | DM120: 0 | DN120: 0 | DO120: 0 | DP120: 0 | DQ120: 0 | DR120: 0 | DS120: 0 | DT120: 0 | DU120: 0 | DV120: 0 | DW120: 0 | DX120: 0 | DY120: 0 | DZ120: 0 | EA120: 0 | EB120: 0 | EC120: 0 | ED120: 0 | EE120: 0 | EF120: 0 | EG120: 0 | EH120: 0 | EI120: 0 | EJ120: 0 | EK120: 0 | EL120: 0 | EM120: 0 | EN120: 0 | EO120: 0 | EP120: 0 | EQ120: 0 | ER120: 0 | ES120: 0 | ET120: 0 | EU120: 0 | EV120: 0 | EW120: 0 | EX120: 0 | EY120: 0 | EZ120: 0 | FA120: 7 | FB120: 2.5 | FC120: 10 | FD120: 0 | FE120: 0 | FF120: 1.5 | FG120: 0 | FH120: 0 | FI120: 0 | FJ120: 0 | FK120: 0 | FL120: 0 | FM120: 0 | FN120: 0 | FO120: 0 | FP120: 0 | FQ120: 0 | FR120: 0 | FS120: 0 | FT120: 0 | FU120: 0 | FV120: 0 | FW120: 0 | FX120: 0 | FY120: 0 | FZ120: 0 | GA120: 0 | GB120: 0 | GC120: 0 | GD120: 0 | GE120: 0 | GF120: 0 | GG120: 0 | GH120: 0 | GI120: 0 | GJ120: 0 | GK120: 0 | GL120: 0 | GM120: 0 | GN120: 0 | GO120: 0 | GP120: 0 | GQ120: 0 | GR120: 0 | GS120: 0 | GT120: 0 | GU120: 0 | GV120: 0 | GW120: 0 | GX120: 0.5 | GY120: 0 | GZ120: 0 | HA120: 0 | HB120: 0 | HC120: 1.5 | HD120: 0.5 | HE120: 0 | HF120: 0 | HG120: 0 | HH120: 0 | HI120: 0 | HJ120: 0 | HK120: 0 | HL120: 0 | HM120: 0 | HN120: 0 | HO120: 1.5 | HP120: 0 | HQ120: 0 | HR120: 0 | HS120: 11.5 | HT120: 3 | HU120: 0 | HV120: 0.5 | HW120: 0 | HX120: 1 | HY120: 0 | HZ120: 1 | IA120: 0 | IB120: 0 | IC120: 0 | ID120: 1.5 | IE120: 0 | IF120: 0.5 | IG120: 0 | IH120: 0 | II120: 5.5 | IJ120: 0 | IK120: 0 | IL120: 1 | IM120: 0 | IN120: 0 | IO120: 0 | IP120: 0 | IQ120: 0 | IR120: 0 | IS120: 0 | IT120: 0 | IU120: 0 | IV120: 0 | IW120: 0 | IX120: 0 | IY120: 0 | IZ120: 0 | JA120: 0 | JB120: 0 | JC120: 0 | JD120: 0 | JE120: 0 | JF120: 0 | JG120: 0 | JH120: 0 | JI120: 0 | JJ120: 0 | JK120: 0 | JL120: 0 | JM120: 0 | JN120: 0 | JO120: 0 | JP120: 0 | JQ120: 0 | JR120: 0 | JS120: 0 | JT120: 0 | JU120: 0 | JV120: 0 | JW120: 0 | JX120: 0 | JY120: 0 | JZ120: 0 | KA120: 0 | KB120: 0 | KC120: 0 | KD120: 0 | KE120: 0 | KF120: 0 | KG120: 0 | KH120: 0 | KI120: 0 | KJ120: 0 | KK120: 0 | KL120: 0 | KM120: 0 | KN120: 0 | KO120: 0 | KP120: 0 | KQ120: 0 | KR120: 0 | KS120: 0 | KT120: 0 | KU120: 0 | KV120: 0 | KW120: 0 | KX120: 0 | KY120: 0 | KZ120: 0 | LA120: 0 | LB120: 0
A121: 43283.708 | B121: 0 | C121: 0 | D121: 0 | E121: 0 | F121: 0 | G121: 0 | H121: 0 | I121: 0 | J121: 0 | K121: 0 | L121: 0 | M121: 0 | N121: 0 | O121: 0 | P121: 0 | Q121: 0 | R121: 0 | S121: 0 | T121: 0 | U121: 0 | V121: 0 | W121: 0 | X121: 0 | Y121: 0 | Z121: 0 | AA121: 0 | AB121: 0 | AC121: 0 | AD121: 0 | AE121: 0 | AF121: 0 | AG121: 0 | AH121: 0 | AI121: 0 | AJ121: 0 | AK121: 0 | AL121: 0 | AM121: 0 | AN121: 0 | AO121: 0 | AP121: 0 | AQ121: 0 | AR121: 0 | AS121: 0 | AT121: 0 | AU121: 0 | AV121: 0 | AW121: 0 | AX121: 0 | AY121: 0 | AZ121: 0 | BA121: 0 | BB121: 0 | BC121: 0 | BD121: 0 | BE121: 0 | BF121: 0 | BG121: 0 | BH121: 0 | BI121: 0 | BJ121: 0 | BK121: 0 | BL121: 0 | BM121: 0 | BN121: 0 | BO121: 0 | BP121: 0 | BQ121: 0 | BR121: 0 | BS121: 0 | BT121: 0 | BU121: 0 | BV121: 0 | BW121: 0 | BX121: 0 | BY121: 0 | BZ121: 0 | CA121: 0 | CB121: 0 | CC121: 0 | CD121: 0 | CE121: 0 | CF121: 0 | CG121: 0 | CH121: 0 | CI121: 0 | CJ121: 0 | CK121: 0 | CL121: 0 | CM121: 0 | CN121: 0 | CO121: 0 | CP121: 0 | CQ121: 0 | CR121: 0 | CS121: 0 | CT121: 0 | CU121: 0 | CV121: 0 | CW121: 0 | CX121: 0 | CY121: 0 | CZ121: 0 | DA121: 0 | DB121: 0 | DC121: 0 | DD121: 0 | DE121: 0 | DF121: 0 | DG121: 0 | DH121: 0 | DI121: 0 | DJ121: 0 | DK121: 0 | DL121: 0 | DM121: 0 | DN121: 0 | DO121: 0 | DP121: 0 | DQ121: 0 | DR121: 0 | DS121: 0 | DT121: 0 | DU121: 0 | DV121: 0 | DW121: 0 | DX121: 0 | DY121: 0 | DZ121: 0 | EA121: 0 | EB121: 0 | EC121: 0 | ED121: 0 | EE121: 0 | EF121: 0 | EG121: 0 | EH121: 0 | EI121: 0 | EJ121: 0 | EK121: 0 | EL121: 0 | EM121: 0 | EN121: 0 | EO121: 0 | EP121: 0 | EQ121: 0 | ER121: 0 | ES121: 0 | ET121: 0 | EU121: 0 | EV121: 0 | EW121: 0 | EX121: 0 | EY121: 0 | EZ121: 0 | FA121: 0 | FB121: 0 | FC121: 2 | FD121: 0 | FE121: 0 | FF121: 0 | FG121: 0 | FH121: 0 | FI121: 0 | FJ121: 0 | FK121: 0 | FL121: 0 | FM121: 0 | FN121: 0 | FO121: 0 | FP121: 0 | FQ121: 0 | FR121: 0 | FS121: 0 | FT121: 0 | FU121: 0 | FV121: 0 | FW121: 0 | FX121: 0 | FY121: 0 | FZ121: 0 | GA121: 0 | GB121: 0 | GC121: 0 | GD121: 0 | GE121: 0 | GF121: 0 | GG121: 0 | GH121: 0 | GI121: 0 | GJ121: 0 | GK121: 0 | GL121: 0 | GM121: 0 | GN121: 0 | GO121: 0 | GP121: 0 | GQ121: 0 | GR121: 0 | GS121: 0 | GT121: 0 | GU121: 0 | GV121: 0 | GW121: 0 | GX121: 0 | GY121: 3 | GZ121: 0 | HA121: 0 | HB121: 0 | HC121: 3 | HD121: 0 | HE121: 0 | HF121: 0 | HG121: 0 | HH121: 0 | HI121: 0 | HJ121: 0 | HK121: 0 | HL121: 1 | HM121: 0 | HN121: 0 | HO121: 0 | HP121: 0 | HQ121: 1 | HR121: 0 | HS121: 8.5 | HT121: 5 | HU121: 0 | HV121: 0.5 | HW121: 0 | HX121: 0 | HY121: 0 | HZ121: 4 | IA121: 0 | IB121: 1.5 | IC121: 0 | ID121: 5.5 | IE121: 0 | IF121: 3 | IG121: 0 | IH121: 0 | II121: 5 | IJ121: 0 | IK121: 0 | IL121: 1.5 | IM121: 0 | IN121: 0 | IO121: 0 | IP121: 0 | IQ121: 0 | IR121: 0 | IS121: 6 | IT121: 1 | IU121: 0 | IV121: 0 | IW121: 0.5 | IX121: 0 | IY121: 0 | IZ121: 0 | JA121: 0 | JB121: 0 | JC121: 0 | JD121: 0 | JE121: 0 | JF121: 0 | JG121: 0 | JH121: 0 | JI121: 0 | JJ121: 0 | JK121: 0 | JL121: 0 | JM121: 0 | JN121: 0 | JO121: 0 | JP121: 0 | JQ121: 0 | JR121: 0 | JS121: 0 | JT121: 0 | JU121: 0 | JV121: 0 | JW121: 0 | JX121: 0 | JY121: 0 | JZ121: 0 | KA121: 0 | KB121: 0 | KC121: 0 | KD121: 0 | KE121: 0 | KF121: 0 | KG121: 0 | KH121: 0 | KI121: 0 | KJ121: 0 | KK121: 0 | KL121: 0 | KM121: 0 | KN121: 0 | KO121: 0 | KP121: 0 | KQ121: 0 | KR121: 0 | KS121: 0 | KT121: 0 | KU121: 0 | KV121: 0 | KW121: 0 | KX121: 0 | KY121: 0 | KZ121: 0 | LA121: 0 | LB121: 0
A122: 43283.75 | B122: 0 | C122: 0 | D122: 0 | E122: 0 | F122: 0 | G122: 0 | H122: 0 | I122: 0 | J122: 0 | K122: 0 | L122: 0 | M122: 0 | N122: 0 | O122: 0 | P122: 0 | Q122: 0 | R122: 0 | S122: 0 | T122: 0 | U122: 0 | V122: 0 | W122: 0 | X122: 0 | Y122: 0 | Z122: 0 | AA122: 0 | AB122: 0 | AC122: 0 | AD122: 0 | AE122: 0 | AF122: 0 | AG122: 0 | AH122: 0 | AI122: 0 | AJ122: 0 | AK122: 0 | AL122: 0 | AM122: 0 | AN122: 0 | AO122: 0 | AP122: 0 | AQ122: 0 | AR122: 0 | AS122: 0 | AT122: 0 | AU122: 0 | AV122: 0 | AW122: 0 | AX122: 0 | AY122: 0 | AZ122: 0 | BA122: 0 | BB122: 0 | BC122: 0 | BD122: 0 | BE122: 0 | BF122: 0 | BG122: 0 | BH122: 0 | BI122: 0 | BJ122: 0 | BK122: 0 | BL122: 0 | BM122: 0 | BN122: 0 | BO122: 0 | BP122: 0 | BQ122: 0 | BR122: 0 | BS122: 0 | BT122: 0 | BU122: 0 | BV122: 0 | BW122: 0 | BX122: 0 | BY122: 0 | BZ122: 0 | CA122: 0 | CB122: 0 | CC122: 0 | CD122: 0 | CE122: 0 | CF122: 0 | CG122: 0 | CH122: 0 | CI122: 0 | CJ122: 0 | CK122: 0 | CL122: 0 | CM122: 0 | CN122: 0 | CO122: 0 | CP122: 0 | CQ122: 0 | CR122: 0 | CS122: 0 | CT122: 0 | CU122: 0 | CV122: 0 | CW122: 0 | CX122: 0 | CY122: 0 | CZ122: 0 | DA122: 0 | DB122: 0 | DC122: 0 | DD122: 0 | DE122: 0 | DF122: 0 | DG122: 0 | DH122: 0 | DI122: 0 | DJ122: 0 | DK122: 0 | DL122: 0 | DM122: 0 | DN122: 0 | DO122: 0 | DP122: 0 | DQ122: 0 | DR122: 0 | DS122: 0 | DT122: 0 | DU122: 0 | DV122: 0 | DW122: 0 | DX122: 0 | DY122: 0 | DZ122: 0 | EA122: 0.5 | EB122: 0 | EC122: 0 | ED122: 0 | EE122: 0 | EF122: 0 | EG122: 0 | EH122: 0 | EI122: 0 | EJ122: 0 | EK122: 0 | EL122: 0 | EM122: 0 | EN122: 0 | EO122: 0 | EP122: 0 | EQ122: 0 | ER122: 0 | ES122: 0 | ET122: 0 | EU122: 0 | EV122: 0 | EW122: 0 | EX122: 0 | EY122: 0 | EZ122: 0 | FA122: 0 | FB122: 0 | FC122: 0 | FD122: 0 | FE122: 0 | FF122: 4.5 | FG122: 0 | FH122: 0 | FI122: 0 | FJ122: 0 | FK122: 0 | FL122: 0 | FM122: 0 | FN122: 0 | FO122: 0 | FP122: 0 | FQ122: 0 | FR122: 0 | FS122: 0 | FT122: 0 | FU122: 0 | FV122: 0 | FW122: 0 | FX122: 0 | FY122: 0 | FZ122: 0 | GA122: 0 | GB122: 0 | GC122: 0 | GD122: 0 | GE122: 0 | GF122: 0 | GG122: 0 | GH122: 0 | GI122: 0 | GJ122: 0 | GK122: 0 | GL122: 0 | GM122: 0 | GN122: 0 | GO122: 0 | GP122: 0 | GQ122: 0 | GR122: 0 | GS122: 0 | GT122: 0 | GU122: 0 | GV122: 0 | GW122: 0 | GX122: 0 | GY122: 7 | GZ122: 0 | HA122: 0 | HB122: 0 | HC122: 3 | HD122: 0 | HE122: 0 | HF122: 0 | HG122: 1.5 | HH122: 0 | HI122: 0 | HJ122: 0 | HK122: 0 | HL122: 0 | HM122: 0 | HN122: 0 | HO122: 0.5 | HP122: 0 | HQ122: 0 | HR122: 0 | HS122: 10.5 | HT122: 3.5 | HU122: 1 | HV122: 1 | HW122: 0 | HX122: 3.5 | HY122: 0 | HZ122: 0.5 | IA122: 0 | IB122: 0 | IC122: 0 | ID122: 6.5 | IE122: 0 | IF122: 9.5 | IG122: 0 | IH122: 0 | II122: 0 | IJ122: 0 | IK122: 0 | IL122: 0.5 | IM122: 0 | IN122: 0 | IO122: 0 | IP122: 0 | IQ122: 0 | IR122: 0 | IS122: 9 | IT122: 0 | IU122: 0 | IV122: 0 | IW122: 0 | IX122: 0 | IY122: 0 | IZ122: 0 | JA122: 0 | JB122: 0 | JC122: 0 | JD122: 0 | JE122: 0 | JF122: 0 | JG122: 0 | JH122: 0 | JI122: 0 | JJ122: 0 | JK122: 0 | JL122: 0 | JM122: 0 | JN122: 0 | JO122: 0 | JP122: 0 | JQ122: 0 | JR122: 0 | JS122: 0 | JT122: 0 | JU122: 0 | JV122: 0 | JW122: 0 | JX122: 0 | JY122: 0 | JZ122: 0 | KA122: 0 | KB122: 0 | KC122: 0 | KD122: 0 | KE122: 0 | KF122: 0 | KG122: 0 | KH122: 0 | KI122: 0 | KJ122: 0 | KK122: 0 | KL122: 0 | KM122: 0 | KN122: 0 | KO122: 0 | KP122: 0 | KQ122: 0 | KR122: 0 | KS122: 0 | KT122: 0 | KU122: 0 | KV122: 0 | KW122: 0 | KX122: 0 | KY122: 5.5 | KZ122: 0 | LA122: 0.5 | LB122: 0.5
A123: 43283.792 | B123: 0 | C123: 0 | D123: 0 | E123: 0 | F123: 0 | G123: 0 | H123: 0 | I123: 0 | J123: 0 | K123: 0 | L123: 0 | M123: 0 | N123: 0 | O123: 0 | P123: 0 | Q123: 0 | R123: 0 | S123: 0 | T123: 0 | U123: 0 | V123: 0 | W123: 0 | X123: 0 | Y123: 0 | Z123: 0 | AA123: 0 | AB123: 0 | AC123: 0 | AD123: 0 | AE123: 0 | AF123: 0 | AG123: 0 | AH123: 0 | AI123: 0 | AJ123: 0 | AK123: 0 | AL123: 0 | AM123: 0 | AN123: 0.5 | AO123: 0 | AP123: 0 | AQ123: 0 | AR123: 0 | AS123: 0 | AT123: 0 | AU123: 0 | AV123: 0 | AW123: 0 | AX123: 0 | AY123: 0 | AZ123: 0 | BA123: 0 | BB123: 0 | BC123: 0 | BD123: 0 | BE123: 0 | BF123: 0 | BG123: 0 | BH123: 0 | BI123: 0 | BJ123: 0 | BK123: 0 | BL123: 0 | BM123: 0 | BN123: 0 | BO123: 0 | BP123: 0 | BQ123: 0 | BR123: 0 | BS123: 0 | BT123: 0 | BU123: 0 | BV123: 0 | BW123: 0 | BX123: 0 | BY123: 0 | BZ123: 0 | CA123: 0 | CB123: 0 | CC123: 0 | CD123: 0 | CE123: 0 | CF123: 0 | CG123: 0 | CH123: 0 | CI123: 0 | CJ123: 0 | CK123: 0 | CL123: 0 | CM123: 0 | CN123: 0 | CO123: 0 | CP123: 0 | CQ123: 0 | CR123: 0 | CS123: 0 | CT123: 0 | CU123: 0 | CV123: 0 | CW123: 0 | CX123: 0 | CY123: 0 | CZ123: 0 | DA123: 0 | DB123: 0 | DC123: 0 | DD123: 0 | DE123: 0 | DF123: 0 | DG123: 0 | DH123: 0 | DI123: 0 | DJ123: 0 | DK123: 0 | DL123: 0 | DM123: 0 | DN123: 0 | DO123: 0 | DP123: 0 | DQ123: 0 | DR123: 0 | DS123: 0 | DT123: 0 | DU123: 0 | DV123: 0 | DW123: 0 | DX123: 0 | DY123: 0 | DZ123: 0 | EA123: 0 | EB123: 0 | EC123: 0 | ED123: 0 | EE123: 0 | EF123: 0 | EG123: 0 | EH123: 0 | EI123: 0 | EJ123: 0 | EK123: 0 | EL123: 0 | EM123: 0 | EN123: 0 | EO123: 0 | EP123: 0 | EQ123: 0 | ER123: 0 | ES123: 0 | ET123: 0 | EU123: 0 | EV123: 0 | EW123: 0 | EX123: 0 | EY123: 0 | EZ123: 0 | FA123: 0.5 | FB123: 0 | FC123: 0 | FD123: 0 | FE123: 0 | FF123: 0 | FG123: 0 | FH123: 0 | FI123: 0 | FJ123: 0 | FK123: 0 | FL123: 0 | FM123: 0 | FN123: 0 | FO123: 0 | FP123: 0 | FQ123: 0 | FR123: 0 | FS123: 0 | FT123: 0 | FU123: 0 | FV123: 0 | FW123: 0 | FX123: 0 | FY123: 0 | FZ123: 0 | GA123: 0 | GB123: 0 | GC123: 0 | GD123: 0 | GE123: 0 | GF123: 0 | GG123: 0 | GH123: 0 | GI123: 0 | GJ123: 0 | GK123: 0 | GL123: 0 | GM123: 0 | GN123: 0 | GO123: 0 | GP123: 0 | GQ123: 0 | GR123: 0 | GS123: 0 | GT123: 0 | GU123: 0 | GV123: 0 | GW123: 0 | GX123: 1.5 | GY123: 1 | GZ123: 0 | HA123: 0.5 | HB123: 0.5 | HC123: 0 | HD123: 0 | HE123: 0 | HF123: 0 | HG123: 0 | HH123: 0 | HI123: 0 | HJ123: 0 | HK123: 0 | HL123: 0 | HM123: 0 | HN123: 0 | HO123: 0.5 | HP123: 0 | HQ123: 0 | HR123: 0 | HS123: 10 | HT123: 4.5 | HU123: 3 | HV123: 0 | HW123: 2 | HX123: 0 | HY123: 0 | HZ123: 0.5 | IA123: 0.5 | IB123: 0 | IC123: 0 | ID123: 1.5 | IE123: 0.5 | IF123: 5.5 | IG123: 1 | IH123: 0 | II123: 0.5 | IJ123: 0 | IK123: 2 | IL123: 4.5 | IM123: 0 | IN123: 0 | IO123: 0 | IP123: 0 | IQ123: 0 | IR123: 0 | IS123: 0 | IT123: 0 | IU123: 0 | IV123: 0 | IW123: 0 | IX123: 0 | IY123: 0 | IZ123: 0 | JA123: 0 | JB123: 0 | JC123: 0 | JD123: 0 | JE123: 0 | JF123: 0 | JG123: 0 | JH123: 0 | JI123: 0 | JJ123: 0 | JK123: 0 | JL123: 0 | JM123: 0 | JN123: 0 | JO123: 0 | JP123: 0 | JQ123: 0 | JR123: 0 | JS123: 0 | JT123: 0 | JU123: 0 | JV123: 0 | JW123: 0 | JX123: 0 | JY123: 0 | JZ123: 0 | KA123: 0 | KB123: 0 | KC123: 0 | KD123: 0 | KE123: 0 | KF123: 0 | KG123: 0 | KH123: 0 | KI123: 0 | KJ123: 0 | KK123: 0 | KL123: 0 | KM123: 0 | KN123: 0 | KO123: 0 | KP123: 0 | KQ123: 0 | KR123: 0 | KS123: 0 | KT123: 0 | KU123: 0 | KV123: 0 | KW123: 1 | KX123: 0 | KY123: 0 | KZ123: 0 | LA123: 1.5 | LB123: 1.5
A124: 43283.833 | B124: 0 | C124: 0 | D124: 0 | E124: 0 | F124: 0 | G124: 0 | H124: 0 | I124: 1 | J124: 0 | K124: 0 | L124: 0 | M124: 0 | N124: 0 | O124: 0 | P124: 0 | Q124: 0 | R124: 0.5 | S124: 0 | T124: 0 | U124: 0 | V124: 0 | W124: 0 | X124: 0 | Y124: 0 | Z124: 0 | AA124: 0 | AB124: 0 | AC124: 0 | AD124: 0 | AE124: 0 | AF124: 0 | AG124: 0 | AH124: 0 | AI124: 0 | AJ124: 0 | AK124: 0 | AL124: 0 | AM124: 0 | AN124: 0 | AO124: 0 | AP124: 0 | AQ124: 0 | AR124: 0 | AS124: 0 | AT124: 0 | AU124: 0 | AV124: 0 | AW124: 0 | AX124: 0 | AY124: 0 | AZ124: 0 | BA124: 0 | BB124: 0 | BC124: 0 | BD124: 0 | BE124: 0 | BF124: 0 | BG124: 0 | BH124: 0 | BI124: 0 | BJ124: 0 | BK124: 0 | BL124: 0 | BM124: 0 | BN124: 0 | BO124: 0 | BP124: 0 | BQ124: 0 | BR124: 0 | BS124: 0 | BT124: 0 | BU124: 0 | BV124: 0 | BW124: 0 | BX124: 0 | BY124: 0 | BZ124: 0 | CA124: 0 | CB124: 0 | CC124: 0 | CD124: 0 | CE124: 0 | CF124: 0 | CG124: 0 | CH124: 0 | CI124: 0 | CJ124: 0 | CK124: 0 | CL124: 0 | CM124: 0 | CN124: 0 | CO124: 0 | CP124: 0 | CQ124: 0 | CR124: 0 | CS124: 0 | CT124: 0 | CU124: 0 | CV124: 0 | CW124: 0 | CX124: 0 | CY124: 0 | CZ124: 0 | DA124: 0 | DB124: 0 | DC124: 0 | DD124: 0 | DE124: 0 | DF124: 0 | DG124: 0 | DH124: 0 | DI124: 0 | DJ124: 0 | DK124: 0 | DL124: 0 | DM124: 0 | DN124: 0 | DO124: 0 | DP124: 0 | DQ124: 0 | DR124: 0 | DS124: 0 | DT124: 0 | DU124: 0 | DV124: 0 | DW124: 0 | DX124: 0 | DY124: 0 | DZ124: 0 | EA124: 0 | EB124: 0 | EC124: 0 | ED124: 0 | EE124: 0 | EF124: 0 | EG124: 0 | EH124: 0 | EI124: 0 | EJ124: 0 | EK124: 0 | EL124: 0 | EM124: 0 | EN124: 0 | EO124: 0 | EP124: 0 | EQ124: 0 | ER124: 0 | ES124: 0 | ET124: 0 | EU124: 0 | EV124: 0 | EW124: 0 | EX124: 0 | EY124: 0 | EZ124: 0 | FA124: 0 | FB124: 0 | FC124: 0 | FD124: 0 | FE124: 0 | FF124: 0 | FG124: 0 | FH124: 0 | FI124: 0 | FJ124: 0 | FK124: 0 | FL124: 0 | FM124: 0 | FN124: 0 | FO124: 0 | FP124: 0 | FQ124: 0 | FR124: 0 | FS124: 0 | FT124: 0 | FU124: 0 | FV124: 0 | FW124: 0 | FX124: 0 | FY124: 0 | FZ124: 0 | GA124: 0 | GB124: 0 | GC124: 0 | GD124: 0 | GE124: 0 | GF124: 0 | GG124: 0 | GH124: 0 | GI124: 0 | GJ124: 0 | GK124: 0 | GL124: 0 | GM124: 0 | GN124: 0 | GO124: 0 | GP124: 0 | GQ124: 0 | GR124: 0 | GS124: 0 | GT124: 0 | GU124: 0 | GV124: 0 | GW124: 0 | GX124: 0 | GY124: 0 | GZ124: 0 | HA124: 0 | HB124: 0 | HC124: 0.5 | HD124: 0 | HE124: 0 | HF124: 0 | HG124: 0 | HH124: 0 | HI124: 0.5 | HJ124: 0 | HK124: 0 | HL124: 4 | HM124: 0 | HN124: 0 | HO124: 0.5 | HP124: 0 | HQ124: 0 | HR124: 0 | HS124: 16.5 | HT124: 0.5 | HU124: 0 | HV124: 0 | HW124: 0 | HX124: 4 | HY124: 0 | HZ124: 1.5 | IA124: 2 | IB124: 1 | IC124: 0 | ID124: 1 | IE124: 0 | IF124: 1.5 | IG124: 0 | IH124: 1 | II124: 1.5 | IJ124: 0 | IK124: 0 | IL124: 24.5 | IM124: 0 | IN124: 0 | IO124: 0 | IP124: 0 | IQ124: 0 | IR124: 0 | IS124: 0 | IT124: 0 | IU124: 0 | IV124: 0 | IW124: 0 | IX124: 0 | IY124: 0 | IZ124: 0 | JA124: 0 | JB124: 0 | JC124: 0 | JD124: 0 | JE124: 0 | JF124: 0 | JG124: 0 | JH124: 0 | JI124: 0 | JJ124: 0 | JK124: 0 | JL124: 0 | JM124: 0 | JN124: 0 | JO124: 0 | JP124: 0 | JQ124: 0 | JR124: 0 | JS124: 0 | JT124: 0 | JU124: 0 | JV124: 0 | JW124: 0 | JX124: 0 | JY124: 0 | JZ124: 0 | KA124: 0 | KB124: 0 | KC124: 0 | KD124: 0 | KE124: 0 | KF124: 0 | KG124: 0 | KH124: 0 | KI124: 0 | KJ124: 0 | KK124: 0 | KL124: 0 | KM124: 0 | KN124: 0 | KO124: 0 | KP124: 0 | KQ124: 0 | KR124: 0 | KS124: 0 | KT124: 0 | KU124: 0 | KV124: 0 | KW124: 0.5 | KX124: 0 | KY124: 2 | KZ124: 0 | LA124: 13.5 | LB124: 0.5
A125: 43283.875 | B125: 0 | C125: 0 | D125: 0 | E125: 0 | F125: 0 | G125: 0.5 | H125: 0 | I125: 0 | J125: 0 | K125: 0 | L125: 0 | M125: 0 | N125: 0 | O125: 0 | P125: 0 | Q125: 0 | R125: 0 | S125: 0 | T125: 0 | U125: 0 | V125: 0 | W125: 0 | X125: 0 | Y125: 0 | Z125: 0 | AA125: 0 | AB125: 0 | AC125: 0 | AD125: 0 | AE125: 0 | AF125: 0 | AG125: 0 | AH125: 0 | AI125: 0 | AJ125: 0 | AK125: 0 | AL125: 0 | AM125: 0 | AN125: 0 | AO125: 0 | AP125: 0 | AQ125: 0 | AR125: 0 | AS125: 0 | AT125: 0 | AU125: 0 | AV125: 0 | AW125: 0 | AX125: 0 | AY125: 0 | AZ125: 0 | BA125: 0 | BB125: 0 | BC125: 0 | BD125: 0 | BE125: 0 | BF125: 0 | BG125: 0 | BH125: 0 | BI125: 0 | BJ125: 0 | BK125: 0 | BL125: 0 | BM125: 0 | BN125: 0 | BO125: 0 | BP125: 0 | BQ125: 0 | BR125: 0 | BS125: 0 | BT125: 0 | BU125: 0 | BV125: 0 | BW125: 0 | BX125: 0 | BY125: 0 | BZ125: 0 | CA125: 0 | CB125: 0 | CC125: 0 | CD125: 0 | CE125: 0 | CF125: 0 | CG125: 0 | CH125: 0 | CI125: 0 | CJ125: 0 | CK125: 0 | CL125: 0 | CM125: 0 | CN125: 0 | CO125: 0 | CP125: 0 | CQ125: 0 | CR125: 0 | CS125: 0 | CT125: 0 | CU125: 0 | CV125: 0 | CW125: 0 | CX125: 0 | CY125: 0 | CZ125: 0 | DA125: 0 | DB125: 0 | DC125: 0 | DD125: 0 | DE125: 0 | DF125: 0 | DG125: 0 | DH125: 0 | DI125: 0 | DJ125: 0 | DK125: 0 | DL125: 0 | DM125: 0 | DN125: 0 | DO125: 0 | DP125: 0 | DQ125: 0 | DR125: 0 | DS125: 0 | DT125: 0 | DU125: 0 | DV125: 0 | DW125: 0 | DX125: 0 | DY125: 0 | DZ125: 0 | EA125: 0 | EB125: 0 | EC125: 0 | ED125: 0 | EE125: 0 | EF125: 0 | EG125: 0 | EH125: 0 | EI125: 0 | EJ125: 0 | EK125: 0 | EL125: 0 | EM125: 0 | EN125: 0 | EO125: 0 | EP125: 0 | EQ125: 0 | ER125: 0 | ES125: 0 | ET125: 0 | EU125: 0 | EV125: 0 | EW125: 0 | EX125: 0 | EY125: 0 | EZ125: 0 | FA125: 0 | FB125: 0 | FC125: 0 | FD125: 0 | FE125: 0 | FF125: 0 | FG125: 0 | FH125: 0 | FI125: 0 | FJ125: 0 | FK125: 0 | FL125: 0 | FM125: 0 | FN125: 0 | FO125: 0 | FP125: 0 | FQ125: 0 | FR125: 0 | FS125: 0 | FT125: 0 | FU125: 0 | FV125: 0 | FW125: 0 | FX125: 0 | FY125: 0 | FZ125: 0 | GA125: 0 | GB125: 0 | GC125: 0 | GD125: 0 | GE125: 0 | GF125: 0 | GG125: 0 | GH125: 0 | GI125: 0 | GJ125: 0 | GK125: 0 | GL125: 0 | GM125: 0 | GN125: 0 | GO125: 0 | GP125: 0 | GQ125: 0 | GR125: 0 | GS125: 0 | GT125: 0 | GU125: 0 | GV125: 0 | GW125: 0 | GX125: 0 | GY125: 0.5 | GZ125: 0 | HA125: 0 | HB125: 0.5 | HC125: 0 | HD125: 0 | HE125: 0 | HF125: 0.5 | HG125: 0 | HH125: 0 | HI125: 0 | HJ125: 0 | HK125: 0.5 | HL125: 2 | HM125: 0 | HN125: 0 | HO125: 1 | HP125: 0 | HQ125: 0 | HR125: 0 | HS125: 9 | HT125: 7.5 | HU125: 0 | HV125: 0 | HW125: 0 | HX125: 0.5 | HY125: 0 | HZ125: 0 | IA125: 1 | IB125: 0 | IC125: 0 | ID125: 1 | IE125: 0 | IF125: 5.5 | IG125: 0 | IH125: 0 | II125: 2 | IJ125: 0 | IK125: 0.5 | IL125: 0 | IM125: 0 | IN125: 0 | IO125: 0 | IP125: 0 | IQ125: 0 | IR125: 0 | IS125: 0 | IT125: 0 | IU125: 0 | IV125: 0 | IW125: 0 | IX125: 0 | IY125: 0 | IZ125: 0 | JA125: 0 | JB125: 0 | JC125: 0 | JD125: 0 | JE125: 0 | JF125: 0 | JG125: 0 | JH125: 0 | JI125: 0 | JJ125: 0 | JK125: 0 | JL125: 0 | JM125: 0 | JN125: 0 | JO125: 0 | JP125: 0 | JQ125: 0 | JR125: 0 | JS125: 0 | JT125: 0 | JU125: 0 | JV125: 0 | JW125: 0 | JX125: 0 | JY125: 0 | JZ125: 0 | KA125: 0 | KB125: 0 | KC125: 0 | KD125: 0 | KE125: 0 | KF125: 0 | KG125: 0 | KH125: 0 | KI125: 0 | KJ125: 0 | KK125: 0 | KL125: 0 | KM125: 0 | KN125: 0 | KO125: 0 | KP125: 0 | KQ125: 0 | KR125: 0 | KS125: 0 | KT125: 0 | KU125: 0 | KV125: 0 | KW125: 0 | KX125: 0 | KY125: 0 | KZ125: 0 | LA125: 6.5 | LB125: 0
A126: 43283.917 | B126: 0 | C126: 0 | D126: 0 | E126: 0 | F126: 0 | G126: 0 | H126: 0 | I126: 0.5 | J126: 0.5 | K126: 1 | L126: 0 | M126: 0 | N126: 0 | O126: 0 | P126: 0 | Q126: 0.5 | R126: 0 | S126: 0 | T126: 1.5 | U126: 0 | V126: 0 | W126: 0 | X126: 0.5 | Y126: 0.5 | Z126: 0 | AA126: 0 | AB126: 0 | AC126: 0 | AD126: 0 | AE126: 0 | AF126: 0 | AG126: 0 | AH126: 0 | AI126: 0 | AJ126: 0 | AK126: 0 | AL126: 0 | AM126: 0 | AN126: 0 | AO126: 0 | AP126: 0.5 | AQ126: 0 | AR126: 0 | AS126: 0 | AT126: 0 | AU126: 0 | AV126: 0 | AW126: 0 | AX126: 0 | AY126: 0 | AZ126: 0 | BA126: 0 | BB126: 0 | BC126: 0 | BD126: 0 | BE126: 0 | BF126: 0 | BG126: 0 | BH126: 0 | BI126: 0 | BJ126: 0 | BK126: 0 | BL126: 0 | BM126: 0 | BN126: 0 | BO126: 0 | BP126: 0 | BQ126: 0 | BR126: 0 | BS126: 0 | BT126: 0 | BU126: 0 | BV126: 0 | BW126: 0 | BX126: 0 | BY126: 0 | BZ126: 0 | CA126: 0 | CB126: 0 | CC126: 0 | CD126: 0 | CE126: 0 | CF126: 0 | CG126: 0 | CH126: 0 | CI126: 0 | CJ126: 0 | CK126: 0 | CL126: 0 | CM126: 0 | CN126: 0 | CO126: 0 | CP126: 0 | CQ126: 0 | CR126: 0 | CS126: 0 | CT126: 0 | CU126: 0 | CV126: 0 | CW126: 0 | CX126: 0 | CY126: 0 | CZ126: 0 | DA126: 0 | DB126: 0 | DC126: 0 | DD126: 0 | DE126: 0 | DF126: 0 | DG126: 0 | DH126: 0 | DI126: 0 | DJ126: 0 | DK126: 0 | DL126: 0 | DM126: 0 | DN126: 0 | DO126: 0 | DP126: 0 | DQ126: 0 | DR126: 0 | DS126: 0 | DT126: 0 | DU126: 0 | DV126: 0 | DW126: 0 | DX126: 0 | DY126: 0 | DZ126: 0 | EA126: 0 | EB126: 0 | EC126: 0 | ED126: 0 | EE126: 0 | EF126: 0 | EG126: 0 | EH126: 0 | EI126: 0 | EJ126: 0 | EK126: 0 | EL126: 0 | EM126: 0 | EN126: 0 | EO126: 0 | EP126: 0 | EQ126: 0 | ER126: 0 | ES126: 0 | ET126: 0 | EU126: 0 | EV126: 0 | EW126: 0 | EX126: 0 | EY126: 0 | EZ126: 0 | FA126: 0 | FB126: 0 | FC126: 0 | FD126: 0 | FE126: 0 | FF126: 0 | FG126: 0 | FH126: 0 | FI126: 0 | FJ126: 0 | FK126: 0 | FL126: 0 | FM126: 0 | FN126: 0 | FO126: 0 | FP126: 0 | FQ126: 0 | FR126: 0 | FS126: 0 | FT126: 0 | FU126: 0 | FV126: 0 | FW126: 0 | FX126: 0 | FY126: 0 | FZ126: 0 | GA126: 0 | GB126: 0 | GC126: 0 | GD126: 0 | GE126: 0 | GF126: 0 | GG126: 0 | GH126: 0 | GI126: 0 | GJ126: 0 | GK126: 0 | GL126: 0 | GM126: 0 | GN126: 0 | GO126: 0 | GP126: 0 | GQ126: 0 | GR126: 0 | GS126: 0 | GT126: 0 | GU126: 0 | GV126: 0 | GW126: 0 | GX126: 1.5 | GY126: 2 | GZ126: 0 | HA126: 0 | HB126: 0.5 | HC126: 0 | HD126: 0 | HE126: 0 | HF126: 0 | HG126: 0 | HH126: 0 | HI126: 0 | HJ126: 0 | HK126: 0.5 | HL126: 1.5 | HM126: 0 | HN126: 0 | HO126: 0.5 | HP126: 0 | HQ126: 0 | HR126: 0 | HS126: 10.5 | HT126: 0 | HU126: 0 | HV126: 0 | HW126: 0 | HX126: 0 | HY126: 0 | HZ126: 0 | IA126: 0 | IB126: 0 | IC126: 0 | ID126: 1 | IE126: 0 | IF126: 2 | IG126: 0 | IH126: 0 | II126: 1 | IJ126: 0 | IK126: 0 | IL126: 0.5 | IM126: 0 | IN126: 0 | IO126: 0 | IP126: 0 | IQ126: 0 | IR126: 0 | IS126: 0 | IT126: 0 | IU126: 0 | IV126: 0 | IW126: 0 | IX126: 0 | IY126: 0 | IZ126: 0 | JA126: 0 | JB126: 0 | JC126: 0 | JD126: 0 | JE126: 0 | JF126: 0 | JG126: 0 | JH126: 0 | JI126: 0 | JJ126: 0 | JK126: 0 | JL126: 0 | JM126: 0 | JN126: 0 | JO126: 0 | JP126: 0 | JQ126: 0 | JR126: 0 | JS126: 0 | JT126: 0 | JU126: 0 | JV126: 0 | JW126: 0 | JX126: 0 | JY126: 0 | JZ126: 0 | KA126: 0 | KB126: 0 | KC126: 0 | KD126: 0 | KE126: 0 | KF126: 0 | KG126: 0 | KH126: 0 | KI126: 0 | KJ126: 0 | KK126: 0 | KL126: 0 | KM126: 0 | KN126: 0 | KO126: 0 | KP126: 0 | KQ126: 0 | KR126: 0 | KS126: 0 | KT126: 0 | KU126: 0 | KV126: 0 | KW126: 0.5 | KX126: 0 | KY126: 0 | KZ126: 0 | LA126: 3 | LB126: 0.5
A127: 43283.958 | B127: 0 | C127: 0 | D127: 0 | E127: 0 | F127: 0.5 | G127: 1 | H127: 0 | I127: 3 | J127: 1.5 | K127: 3.5 | L127: 2 | M127: 0.5 | N127: 0.5 | O127: 0.5 | P127: 0 | Q127: 5.5 | R127: 0 | S127: 0 | T127: 2.5 | U127: 0 | V127: 0.5 | W127: 0 | X127: 0.5 | Y127: 0 | Z127: 0 | AA127: 0 | AB127: 0.5 | AC127: 0 | AD127: 0 | AE127: 1 | AF127: 0 | AG127: 0 | AH127: 0.5 | AI127: 0 | AJ127: 0.5 | AK127: 0 | AL127: 0 | AM127: 0.5 | AN127: 0 | AO127: 0.5 | AP127: 2 | AQ127: 0 | AR127: 1.5 | AS127: 0.5 | AT127: 0 | AU127: 0 | AV127: 0 | AW127: 1 | AX127: 0 | AY127: 0 | AZ127: 0 | BA127: 0 | BB127: 0 | BC127: 0 | BD127: 0 | BE127: 0 | BF127: 0 | BG127: 0 | BH127: 0 | BI127: 0 | BJ127: 0 | BK127: 0 | BL127: 0 | BM127: 0 | BN127: 0 | BO127: 0 | BP127: 0 | BQ127: 0 | BR127: 0 | BS127: 0 | BT127: 0 | BU127: 0 | BV127: 0 | BW127: 0 | BX127: 0 | BY127: 0 | BZ127: 0 | CA127: 0 | CB127: 0 | CC127: 0 | CD127: 0 | CE127: 0 | CF127: 0 | CG127: 0 | CH127: 0 | CI127: 0 | CJ127: 0 | CK127: 0 | CL127: 0 | CM127: 0 | CN127: 0 | CO127: 0 | CP127: 0 | CQ127: 0 | CR127: 0 | CS127: 0 | CT127: 0 | CU127: 0 | CV127: 0 | CW127: 0 | CX127: 0 | CY127: 0 | CZ127: 0 | DA127: 0 | DB127: 0 | DC127: 0 | DD127: 0 | DE127: 0 | DF127: 0 | DG127: 0 | DH127: 0 | DI127: 0 | DJ127: 0 | DK127: 0 | DL127: 0 | DM127: 0 | DN127: 0 | DO127: 0 | DP127: 0 | DQ127: 0 | DR127: 0 | DS127: 0 | DT127: 0 | DU127: 0 | DV127: 0 | DW127: 0 | DX127: 0 | DY127: 0 | DZ127: 0 | EA127: 0 | EB127: 0 | EC127: 0 | ED127: 0 | EE127: 0 | EF127: 0 | EG127: 0 | EH127: 0 | EI127: 0 | EJ127: 0 | EK127: 0 | EL127: 0 | EM127: 0 | EN127: 0 | EO127: 0 | EP127: 0 | EQ127: 0 | ER127: 0 | ES127: 0 | ET127: 0 | EU127: 0 | EV127: 0 | EW127: 0 | EX127: 0 | EY127: 0 | EZ127: 0 | FA127: 0 | FB127: 0 | FC127: 0 | FD127: 0 | FE127: 0 | FF127: 0 | FG127: 0 | FH127: 0 | FI127: 0 | FJ127: 0 | FK127: 0 | FL127: 0 | FM127: 0 | FN127: 0 | FO127: 0 | FP127: 0 | FQ127: 0 | FR127: 0 | FS127: 0 | FT127: 0 | FU127: 0 | FV127: 0 | FW127: 0 | FX127: 0 | FY127: 0 | FZ127: 0 | GA127: 0 | GB127: 0 | GC127: 0 | GD127: 0 | GE127: 0 | GF127: 0 | GG127: 0 | GH127: 0 | GI127: 0 | GJ127: 0 | GK127: 0 | GL127: 0 | GM127: 0 | GN127: 0 | GO127: 0 | GP127: 0 | GQ127: 0 | GR127: 0 | GS127: 0 | GT127: 0 | GU127: 0 | GV127: 0 | GW127: 0 | GX127: 0 | GY127: 1 | GZ127: 0 | HA127: 0 | HB127: 0 | HC127: 0 | HD127: 0 | HE127: 0 | HF127: 0 | HG127: 0 | HH127: 0 | HI127: 0 | HJ127: 0 | HK127: 0.5 | HL127: 7 | HM127: 0 | HN127: 0 | HO127: 1 | HP127: 0 | HQ127: 0 | HR127: 0 | HS127: 7.5 | HT127: 2.5 | HU127: 0 | HV127: 0 | HW127: 0 | HX127: 1 | HY127: 0 | HZ127: 1.5 | IA127: 0 | IB127: 0 | IC127: 0 | ID127: 1 | IE127: 0 | IF127: 2.5 | IG127: 0 | IH127: 0 | II127: 3.5 | IJ127: 2 | IK127: 0 | IL127: 0.5 | IM127: 2.5 | IN127: 0 | IO127: 0 | IP127: 0 | IQ127: 0 | IR127: 0 | IS127: 0 | IT127: 0 | IU127: 0 | IV127: 0 | IW127: 0 | IX127: 0 | IY127: 0 | IZ127: 0 | JA127: 0 | JB127: 0 | JC127: 0 | JD127: 0 | JE127: 0 | JF127: 0 | JG127: 0 | JH127: 0 | JI127: 0 | JJ127: 0 | JK127: 0 | JL127: 0 | JM127: 0 | JN127: 0 | JO127: 0 | JP127: 0 | JQ127: 0 | JR127: 0 | JS127: 0 | JT127: 0 | JU127: 0 | JV127: 0 | JW127: 0 | JX127: 0 | JY127: 0 | JZ127: 0 | KA127: 0 | KB127: 0 | KC127: 0 | KD127: 0 | KE127: 0 | KF127: 0 | KG127: 0 | KH127: 0 | KI127: 0 | KJ127: 0 | KK127: 0 | KL127: 0 | KM127: 0 | KN127: 0 | KO127: 0 | KP127: 0 | KQ127: 0 | KR127: 0 | KS127: 0 | KT127: 0 | KU127: 0 | KV127: 0 | KW127: 7 | KX127: 0 | KY127: 0 | KZ127: 0 | LA127: 1 | LB127: 0
A128: 43284 | B128: 0 | C128: 0.5 | D128: 0 | E128: 1.5 | F128: 3.5 | G128: 3.5 | H128: 5 | I128: 5 | J128: 6.5 | K128: 1 | L128: 4.5 | M128: 3 | N128: 4.5 | O128: 1 | P128: 0.5 | Q128: 1 | R128: 0 | S128: 0.5 | T128: 1.5 | U128: 1.5 | V128: 1.5 | W128: 0 | X128: 1.5 | Y128: 0.5 | Z128: 1 | AA128: 0.5 | AB128: 1 | AC128: 0 | AD128: 0 | AE128: 1.5 | AF128: 1.5 | AG128: 0.5 | AH128: 2 | AI128: 0.5 | AJ128: 0 | AK128: 0.5 | AL128: 1 | AM128: 0.5 | AN128: 0 | AO128: 0 | AP128: 1 | AQ128: 2 | AR128: 1.5 | AS128: 0.5 | AT128: 0 | AU128: 0 | AV128: 0.5 | AW128: 0.5 | AX128: 1.5 | AY128: 2 | AZ128: 0 | BA128: 0 | BB128: 0 | BC128: 0 | BD128: 0 | BE128: 0 | BF128: 0 | BG128: 0 | BH128: 0 | BI128: 0 | BJ128: 0 | BK128: 0 | BL128: 0 | BM128: 0 | BN128: 0 | BO128: 0 | BP128: 0 | BQ128: 0 | BR128: 0 | BS128: 0 | BT128: 0 | BU128: 0 | BV128: 0 | BW128: 0 | BX128: 0 | BY128: 0 | BZ128: 0 | CA128: 0 | CB128: 0 | CC128: 0 | CD128: 0 | CE128: 0 | CF128: 0 | CG128: 0 | CH128: 0 | CI128: 0 | CJ128: 0 | CK128: 0 | CL128: 0 | CM128: 0 | CN128: 0 | CO128: 0 | CP128: 0 | CQ128: 0 | CR128: 0 | CS128: 0 | CT128: 0 | CU128: 0 | CV128: 0 | CW128: 0 | CX128: 0 | CY128: 0 | CZ128: 0 | DA128: 0 | DB128: 0 | DC128: 0 | DD128: 0 | DE128: 0 | DF128: 0 | DG128: 0 | DH128: 0 | DI128: 0 | DJ128: 0 | DK128: 0 | DL128: 0 | DM128: 0 | DN128: 0 | DO128: 0 | DP128: 0 | DQ128: 0 | DR128: 0 | DS128: 0 | DT128: 0 | DU128: 0 | DV128: 0 | DW128: 0 | DX128: 0 | DY128: 0 | DZ128: 0 | EA128: 0 | EB128: 0 | EC128: 0 | ED128: 0 | EE128: 0 | EF128: 0 | EG128: 0 | EH128: 0 | EI128: 0 | EJ128: 0 | EK128: 0 | EL128: 0 | EM128: 0 | EN128: 0 | EO128: 0 | EP128: 0 | EQ128: 0 | ER128: 0 | ES128: 0 | ET128: 0 | EU128: 0 | EV128: 0 | EW128: 0 | EX128: 0 | EY128: 0 | EZ128: 0 | FA128: 0 | FB128: 0 | FC128: 0 | FD128: 0 | FE128: 0 | FF128: 0 | FG128: 0 | FH128: 0 | FI128: 0 | FJ128: 0 | FK128: 0 | FL128: 0 | FM128: 0 | FN128: 0 | FO128: 0 | FP128: 0 | FQ128: 0 | FR128: 0 | FS128: 0 | FT128: 0 | FU128: 0 | FV128: 0 | FW128: 0 | FX128: 0 | FY128: 0 | FZ128: 0 | GA128: 0 | GB128: 0 | GC128: 0 | GD128: 0 | GE128: 0 | GF128: 0 | GG128: 0 | GH128: 0 | GI128: 0 | GJ128: 0 | GK128: 0 | GL128: 0 | GM128: 0 | GN128: 0 | GO128: 0 | GP128: 0 | GQ128: 0 | GR128: 0.5 | GS128: 0 | GT128: 0 | GU128: 0 | GV128: 0 | GW128: 0 | GX128: 0 | GY128: 0 | GZ128: 0 | HA128: 0 | HB128: 0 | HC128: 0.5 | HD128: 0 | HE128: 0 | HF128: 0 | HG128: 0 | HH128: 0 | HI128: 0 | HJ128: 0 | HK128: 2 | HL128: 10 | HM128: 0 | HN128: 0 | HO128: 11 | HP128: 1.5 | HQ128: 0 | HR128: 0 | HS128: 11 | HT128: 6 | HU128: 0 | HV128: 0 | HW128: 0 | HX128: 0.5 | HY128: 0 | HZ128: 0 | IA128: 0 | IB128: 0 | IC128: 0 | ID128: 0.5 | IE128: 0 | IF128: 4.5 | IG128: 0 | IH128: 0 | II128: 6 | IJ128: 8 | IK128: 0 | IL128: 0 | IM128: 6 | IN128: 0 | IO128: 0 | IP128: 0 | IQ128: 0 | IR128: 0 | IS128: 0 | IT128: 0 | IU128: 0 | IV128: 0 | IW128: 0 | IX128: 0 | IY128: 0 | IZ128: 0.5 | JA128: 0 | JB128: 0 | JC128: 0 | JD128: 0 | JE128: 0 | JF128: 0 | JG128: 0 | JH128: 0 | JI128: 0 | JJ128: 0 | JK128: 0 | JL128: 0 | JM128: 0 | JN128: 0 | JO128: 0 | JP128: 0 | JQ128: 0 | JR128: 0 | JS128: 0 | JT128: 0 | JU128: 0 | JV128: 0 | JW128: 0 | JX128: 0 | JY128: 0 | JZ128: 0 | KA128: 0 | KB128: 0 | KC128: 0 | KD128: 0 | KE128: 0 | KF128: 0 | KG128: 0 | KH128: 0 | KI128: 0 | KJ128: 0 | KK128: 0 | KL128: 0 | KM128: 0 | KN128: 0 | KO128: 0 | KP128: 0 | KQ128: 0 | KR128: 0 | KS128: 0 | KT128: 0 | KU128: 0 | KV128: 0 | KW128: 2.5 | KX128: 0 | KY128: 0 | KZ128: 0 | LA128: 1.5 | LB128: 0
A129: 43284.042 | B129: 0 | C129: 0.5 | D129: 0.5 | E129: 0.5 | F129: 0.5 | G129: 1 | H129: 2.5 | I129: 3 | J129: 5.5 | K129: 0.5 | L129: 4 | M129: 6 | N129: 1.5 | O129: 0.5 | P129: 0.5 | Q129: 0 | R129: 0 | S129: 0.5 | T129: 0 | U129: 0.5 | V129: 0.5 | W129: 0 | X129: 2 | Y129: 2 | Z129: 2.5 | AA129: 1 | AB129: 2.5 | AC129: 1 | AD129: 0.5 | AE129: 1.5 | AF129: 1 | AG129: 0 | AH129: 0 | AI129: 0 | AJ129: 0 | AK129: 0 | AL129: 0.5 | AM129: 1 | AN129: 0.5 | AO129: 0.5 | AP129: 2.5 | AQ129: 0.5 | AR129: 2.5 | AS129: 0 | AT129: 1 | AU129: 0 | AV129: 1 | AW129: 0.5 | AX129: 1.5 | AY129: 1 | AZ129: 0 | BA129: 0 | BB129: 0 | BC129: 0 | BD129: 0 | BE129: 0 | BF129: 0 | BG129: 0 | BH129: 0 | BI129: 0 | BJ129: 0 | BK129: 0 | BL129: 0 | BM129: 0 | BN129: 0 | BO129: 0 | BP129: 0 | BQ129: 0 | BR129: 0 | BS129: 0 | BT129: 0 | BU129: 0 | BV129: 0 | BW129: 0 | BX129: 0 | BY129: 0 | BZ129: 0 | CA129: 0 | CB129: 0 | CC129: 0 | CD129: 0 | CE129: 0 | CF129: 0 | CG129: 0 | CH129: 0 | CI129: 0 | CJ129: 0 | CK129: 0 | CL129: 0 | CM129: 0 | CN129: 0 | CO129: 0 | CP129: 0 | CQ129: 0 | CR129: 0 | CS129: 0 | CT129: 0 | CU129: 0 | CV129: 0 | CW129: 0 | CX129: 0 | CY129: 0 | CZ129: 0 | DA129: 0 | DB129: 0 | DC129: 0 | DD129: 0 | DE129: 0 | DF129: 0 | DG129: 0 | DH129: 0 | DI129: 0 | DJ129: 0 | DK129: 0 | DL129: 0 | DM129: 0 | DN129: 0 | DO129: 0 | DP129: 0 | DQ129: 0.5 | DR129: 0 | DS129: 0 | DT129: 0 | DU129: 0 | DV129: 0 | DW129: 0 | DX129: 0 | DY129: 0 | DZ129: 0 | EA129: 0 | EB129: 0 | EC129: 0 | ED129: 0 | EE129: 0 | EF129: 0 | EG129: 0 | EH129: 0 | EI129: 0 | EJ129: 0 | EK129: 0 | EL129: 0 | EM129: 0 | EN129: 0 | EO129: 0 | EP129: 0 | EQ129: 0 | ER129: 0 | ES129: 0 | ET129: 0 | EU129: 0 | EV129: 0 | EW129: 0 | EX129: 0 | EY129: 0 | EZ129: 0 | FA129: 0 | FB129: 0 | FC129: 0 | FD129: 0 | FE129: 0 | FF129: 0 | FG129: 0 | FH129: 0 | FI129: 0 | FJ129: 0 | FK129: 0 | FL129: 0 | FM129: 0 | FN129: 0 | FO129: 0 | FP129: 0 | FQ129: 0 | FR129: 0 | FS129: 0 | FT129: 0 | FU129: 0 | FV129: 0 | FW129: 0 | FX129: 0 | FY129: 0 | FZ129: 0 | GA129: 0 | GB129: 0 | GC129: 0 | GD129: 0 | GE129: 0 | GF129: 0 | GG129: 0 | GH129: 0 | GI129: 0 | GJ129: 0 | GK129: 0 | GL129: 0 | GM129: 0 | GN129: 0 | GO129: 0 | GP129: 0 | GQ129: 0 | GR129: 0 | GS129: 0 | GT129: 0 | GU129: 0 | GV129: 0 | GW129: 0 | GX129: 0 | GY129: 0.5 | GZ129: 0 | HA129: 0 | HB129: 0.5 | HC129: 0 | HD129: 0 | HE129: 0 | HF129: 0 | HG129: 0 | HH129: 0.5 | HI129: 0 | HJ129: 0 | HK129: 1 | HL129: 7 | HM129: 0 | HN129: 0 | HO129: 0 | HP129: 0 | HQ129: 0 | HR129: 2.5 | HS129: 10 | HT129: 2 | HU129: 0 | HV129: 0 | HW129: 0 | HX129: 0 | HY129: 0 | HZ129: 0.5 | IA129: 0 | IB129: 0 | IC129: 0 | ID129: 2 | IE129: 0 | IF129: 5 | IG129: 0 | IH129: 0 | II129: 11 | IJ129: 0 | IK129: 1 | IL129: 0 | IM129: 0 | IN129: 0 | IO129: 0 | IP129: 0 | IQ129: 0 | IR129: 0 | IS129: 0 | IT129: 0 | IU129: 0 | IV129: 0 | IW129: 0 | IX129: 0 | IY129: 0 | IZ129: 1.5 | JA129: 0 | JB129: 0 | JC129: 0 | JD129: 0 | JE129: 0 | JF129: 0 | JG129: 0 | JH129: 0 | JI129: 0 | JJ129: 0 | JK129: 0 | JL129: 0 | JM129: 0 | JN129: 0 | JO129: 0 | JP129: 0 | JQ129: 0 | JR129: 0 | JS129: 0 | JT129: 0 | JU129: 0 | JV129: 0 | JW129: 0 | JX129: 0 | JY129: 0 | JZ129: 0 | KA129: 0 | KB129: 0 | KC129: 0 | KD129: 0 | KE129: 0 | KF129: 0 | KG129: 0 | KH129: 0 | KI129: 0 | KJ129: 0 | KK129: 0 | KL129: 0 | KM129: 0 | KN129: 0 | KO129: 0 | KP129: 0 | KQ129: 0 | KR129: 0 | KS129: 0 | KT129: 0 | KU129: 0 | KV129: 0 | KW129: 2 | KX129: 0 | KY129: 0 | KZ129: 0 | LA129: 1.5 | LB129: 0
... A170: 43285.75 | B170: 0 | C170: 0 | D170: 0 | E170: 0 | F170: 0 | G170: 0 | H170: 0 | I170: 0 | J170: 0 | K170: 0 | L170: 0 | M170: 0 | N170: 0 | O170: 0 | P170: 0 | Q170: 0 | R170: 0 | S170: 0 | T170: 0 | U170: 0 | V170: 0 | W170: 0 | X170: 0 | Y170: 0 | Z170: 0 | AA170: 0 | AB170: 0 | AC170: 0 | AD170: 0 | AE170: 0 | AF170: 0 | AG170: 0 | AH170: 0 | AI170: 0 | AJ170: 0 | AK170: 0 | AL170: 0 | AM170: 0 | AN170: 0 | AO170: 0 | AP170: 0 | AQ170: 0 | AR170: 0 | AS170: 0 | AT170: 0 | AU170: 0 | AV170: 0 | AW170: 0 | AX170: 0 | AY170: 0 | AZ170: 0 | BA170: 0 | BB170: 0 | BC170: 0 | BD170: 0 | BE170: 0 | BF170: 0 | BG170: 0 | BH170: 0 | BI170: 0 | BJ170: 0 | BK170: 0 | BL170: 0 | BM170: 0 | BN170: 0 | BO170: 0 | BP170: 0.5 | BQ170: 0 | BR170: 0 | BS170: 0 | BT170: 0 | BU170: 0 | BV170: 0 | BW170: 0 | BX170: 0 | BY170: 0 | BZ170: 0 | CA170: 0 | CB170: 0 | CC170: 2 | CD170: 0 | CE170: 0 | CF170: 0 | CG170: 0 | CH170: 0 | CI170: 0 | CJ170: 0 | CK170: 0 | CL170: 0 | CM170: 4 | CN170: 0 | CO170: 0 | CP170: 0 | CQ170: 0 | CR170: 2 | CS170: 0 | CT170: 4 | CU170: 0 | CV170: 0 | CW170: 0 | CX170: 0 | CY170: 0 | CZ170: 0 | DA170: 0 | DB170: 0 | DC170: 0 | DD170: 0 | DE170: 0 | DF170: 0 | DG170: 0 | DH170: 0 | DI170: 0 | DJ170: 0 | DK170: 0 | DL170: 0 | DM170: 0 | DN170: 0 | DO170: 0 | DP170: 0 | DQ170: 0 | DR170: 0 | DS170: 0 | DT170: 0 | DU170: 0 | DV170: 0 | DW170: 0 | DX170: 0 | DY170: 0 | DZ170: 0 | EA170: 0 | EB170: 0 | EC170: 0 | ED170: 0 | EE170: 0 | EF170: 0 | EG170: 0 | EH170: 0 | EI170: 0 | EJ170: 0 | EK170: 0 | EL170: 0 | EM170: 1 | EN170: 0 | EO170: 0 | EP170: 0 | EQ170: 0 | ER170: 0 | ES170: 0 | ET170: 0 | EU170: 0 | EV170: 0 | EW170: 0 | EX170: 0 | EY170: 0 | EZ170: 3 | FA170: 0 | FB170: 0 | FC170: 0 | FD170: 0.5 | FE170: 0 | FF170: 0 | FG170: 0 | FH170: 0 | FI170: 0 | FJ170: 0 | FK170: 0 | FL170: 0 | FM170: 2 | FN170: 20 | FO170: 10.5 | FP170: 3.5 | FQ170: 3.5 | FR170: 16 | FS170: 1 | FT170: 0 | FU170: 0.5 | FV170: 0.5 | FW170: 0 | FX170: 0 | FY170: 0.5 | FZ170: 0 | GA170: 4 | GB170: 0.5 | GC170: 2 | GD170: 9 | GE170: 2.5 | GF170: 5.5 | GG170: 1 | GH170: 10 | GI170: 2 | GJ170: 1 | GK170: 0 | GL170: 1 | GM170: 1 | GN170: 4 | GO170: 2.5 | GP170: 1.5 | GQ170: 17 | GR170: 12.5 | GS170: 0 | GT170: 0 | GU170: 0 | GV170: 0 | GW170: 0 | GX170: 0 | GY170: 0 | GZ170: 0 | HA170: 0 | HB170: 0 | HC170: 0 | HD170: 0 | HE170: 0 | HF170: 0 | HG170: 0 | HH170: 0 | HI170: 0 | HJ170: 0 | HK170: 0 | HL170: 0 | HM170: 0 | HN170: 0 | HO170: 0 | HP170: 1 | HQ170: 0 | HR170: 1 | HS170: 0 | HT170: 0 | HU170: 0 | HV170: 0 | HW170: 1 | HX170: 0 | HY170: 0 | HZ170: 0 | IA170: 0 | IB170: 0 | IC170: 0 | ID170: 0 | IE170: 0 | IF170: 0 | IG170: 5 | IH170: 0 | II170: 0.5 | IJ170: 0 | IK170: 12.5 | IL170: 0 | IM170: 0.5 | IN170: 0 | IO170: 0 | IP170: 0 | IQ170: 0 | IR170: 0 | IS170: 0 | IT170: 0 | IU170: 0 | IV170: 0 | IW170: 0 | IX170: 0 | IY170: 0 | IZ170: 0 | JA170: 0 | JB170: 0 | JC170: 0 | JD170: 0 | JE170: 0 | JF170: 0 | JG170: 0 | JH170: 0 | JI170: 0 | JJ170: 0 | JK170: 0 | JL170: 0.5 | JM170: 0 | JN170: 1.5 | JO170: 0.5 | JP170: 0 | JQ170: 0 | JR170: 0 | JS170: 1.5 | JT170: 0.5 | JU170: 0.5 | JV170: 0 | JW170: 1.5 | JX170: 0 | JY170: 0.5 | JZ170: 0 | KA170: 0 | KB170: 0 | KC170: 0.5 | KD170: 1 | KE170: 0 | KF170: 0 | KG170: 0.5 | KH170: 0 | KI170: 0 | KJ170: 0 | KK170: 0 | KL170: 0 | KM170: 0 | KN170: 0 | KO170: 0 | KP170: 0 | KQ170: 0 | KR170: 0 | KS170: 0 | KT170: 0 | KU170: 3.5 | KV170: 0 | KW170: 0 | KX170: 0 | KY170: 0.5 | KZ170: 0 | LA170: 0 | LB170: 2.5
A171: 43285.792 | B171: 0 | C171: 0 | D171: 0 | E171: 0 | F171: 0 | G171: 0 | H171: 0 | I171: 0 | K171: 0 | L171: 0 | M171: 0 | N171: 0 | O171: 0 | P171: 0 | Q171: 0 | R171: 0 | S171: 0 | T171: 0 | U171: 0 | V171: 0 | W171: 0 | X171: 0 | Y171: 0 | Z171: 0 | AA171: 0 | AB171: 0 | AC171: 0 | AD171: 0 | AE171: 0 | AF171: 0 | AG171: 0 | AH171: 0 | AI171: 0 | AJ171: 0 | AK171: 0 | AL171: 0 | AM171: 0 | AN171: 0 | AO171: 0 | AP171: 0 | AQ171: 0 | AR171: 0 | AS171: 0 | AT171: 0 | AU171: 0 | AV171: 0 | AW171: 0 | AX171: 0 | AY171: 0 | AZ171: 0 | BA171: 0 | BB171: 0 | BC171: 0 | BD171: 0 | BE171: 0 | BF171: 0 | BG171: 0 | BH171: 0 | BI171: 0 | BJ171: 0 | BK171: 0 | BL171: 0 | BM171: 0 | BN171: 0 | BO171: 0 | BP171: 0 | BQ171: 0 | BR171: 0 | BS171: 0 | BT171: 0 | BU171: 0 | BV171: 0 | BW171: 0 | BX171: 0 | BY171: 0 | BZ171: 0 | CA171: 0 | CB171: 0 | CC171: 0 | CD171: 0 | CE171: 0 | CF171: 0 | CG171: 0 | CH171: 0 | CI171: 0 | CJ171: 0 | CK171: 0.5 | CL171: 0 | CM171: 0.5 | CN171: 0 | CO171: 0 | CP171: 0 | CQ171: 0 | CR171: 0 | CS171: 0 | CT171: 0 | CU171: 0 | CV171: 0 | CW171: 0 | CX171: 0 | CY171: 0 | CZ171: 0 | DA171: 0 | DB171: 0 | DC171: 0 | DD171: 0 | DE171: 0 | DF171: 0 | DG171: 0 | DH171: 0 | DI171: 0 | DJ171: 0 | DK171: 0 | DL171: 0 | DM171: 0 | DN171: 0 | DO171: 0 | DP171: 0 | DQ171: 0 | DR171: 0 | DS171: 0 | DT171: 0 | DU171: 0 | DV171: 0 | DW171: 0 | DX171: 0 | DY171: 0 | DZ171: 0 | EA171: 0 | EB171: 0 | EC171: 0.5 | ED171: 0 | EE171: 0 | EF171: 0 | EG171: 0 | EH171: 0 | EI171: 0 | EJ171: 0 | EK171: 0 | EL171: 0 | EM171: 0.5 | EN171: 0 | EO171: 0 | EP171: 0 | EQ171: 0 | ER171: 0 | ES171: 0 | ET171: 0 | EU171: 0 | EV171: 0 | EW171: 0 | EX171: 0 | EY171: 0 | EZ171: 0 | FA171: 0.5 | FB171: 0 | FC171: 0.5 | FD171: 0 | FE171: 0 | FF171: 0 | FG171: 0 | FH171: 0 | FI171: 0 | FJ171: 0 | FK171: 0 | FL171: 0 | FM171: 7 | FN171: 13.5 | FO171: 13.5 | FP171: 4.5 | FQ171: 2.5 | FR171: 9 | FS171: 0 | FT171: 0.5 | FU171: 0 | FV171: 0 | FW171: 0.5 | FX171: 0 | FY171: 0 | FZ171: 0 | GA171: 1 | GB171: 0 | GC171: 0 | GD171: 12.5 | GE171: 2 | GF171: 13.5 | GG171: 0 | GH171: 20.5 | GI171: 2 | GJ171: 1.5 | GK171: 2 | GL171: 0.5 | GM171: 2 | GN171: 8 | GO171: 21.5 | GP171: 11 | GQ171: 9 | GR171: 9 | GS171: 0 | GT171: 0 | GU171: 0 | GV171: 0 | GW171: 0 | GX171: 0 | GY171: 0 | GZ171: 0 | HA171: 0 | HB171: 0 | HC171: 0 | HD171: 0 | HE171: 0 | HF171: 0 | HG171: 0 | HH171: 0 | HI171: 0 | HJ171: 0 | HK171: 0 | HL171: 0 | HM171: 0 | HN171: 0 | HO171: 0 | HP171: 12 | HQ171: 0.5 | HR171: 1.5 | HS171: 0 | HT171: 0 | HU171: 1 | HV171: 0.5 | HW171: 5 | HX171: 2.5 | HY171: 0 | HZ171: 0 | IA171: 0 | IB171: 0.5 | IC171: 0 | ID171: 0 | IE171: 0 | IF171: 0 | IG171: 8 | IH171: 0.5 | II171: 0 | IJ171: 15 | IK171: 9 | IL171: 0 | IM171: 1 | IN171: 0 | IO171: 0 | IP171: 0 | IQ171: 0 | IR171: 0 | IS171: 0 | IT171: 0 | IU171: 0 | IV171: 0 | IW171: 0 | IX171: 0 | IY171: 0 | IZ171: 0 | JA171: 0 | JB171: 0 | JC171: 0 | JD171: 0 | JE171: 0 | JF171: 0 | JG171: 0 | JH171: 0 | JI171: 0 | JJ171: 0 | JK171: 0 | JL171: 0.5 | JM171: 0 | JN171: 0.5 | JO171: 0 | JP171: 1.5 | JQ171: 0 | JR171: 0 | JS171: 0 | JT171: 0 | JU171: 0 | JV171: 1 | JW171: 0.5 | JX171: 0 | JY171: 0 | JZ171: 0 | KA171: 0 | KB171: 0 | KC171: 0 | KD171: 0 | KE171: 0 | KF171: 0 | KG171: 0 | KH171: 0 | KI171: 0 | KJ171: 0 | KK171: 0 | KL171: 0 | KM171: 0 | KN171: 0 | KO171: 0 | KP171: 0 | KQ171: 0 | KR171: 0 | KS171: 0 | KT171: 0 | KU171: 0 | KV171: 0 | KW171: 0 | KX171: 0 | KY171: 1 | KZ171: 0 | LA171: 0 | LB171: 0
A172: 43285.833 | B172: 0 | C172: 0 | D172: 0 | E172: 0 | F172: 0 | G172: 0 | H172: 0 | I172: 0 | K172: 0 | L172: 0 | M172: 0 | N172: 0 | O172: 0 | P172: 0 | Q172: 0 | R172: 0 | S172: 0 | T172: 0 | U172: 0 | V172: 0 | W172: 0 | X172: 0 | Y172: 0 | Z172: 0 | AA172: 0 | AB172: 0 | AC172: 0 | AD172: 0 | AE172: 0 | AF172: 0 | AG172: 0 | AH172: 0 | AI172: 0 | AJ172: 0 | AK172: 0 | AL172: 0 | AM172: 0 | AN172: 0 | AO172: 0 | AP172: 0 | AQ172: 0 | AR172: 0 | AS172: 0 | AT172: 0 | AU172: 0 | AV172: 0 | AW172: 0 | AX172: 0 | AY172: 0 | AZ172: 0 | BA172: 0 | BB172: 0 | BC172: 0 | BD172: 0 | BE172: 0 | BF172: 0 | BG172: 0 | BH172: 0 | BI172: 0 | BJ172: 0 | BK172: 0 | BL172: 0 | BM172: 0 | BN172: 0 | BO172: 0 | BP172: 0 | BQ172: 0 | BR172: 0 | BS172: 0 | BT172: 0 | BU172: 0 | BV172: 0 | BW172: 0 | BX172: 0 | BY172: 0 | BZ172: 0 | CA172: 0 | CB172: 0 | CC172: 0 | CD172: 0 | CE172: 0 | CF172: 0 | CG172: 0 | CH172: 0 | CI172: 0 | CJ172: 0 | CK172: 0 | CL172: 0 | CM172: 0 | CN172: 0 | CO172: 0 | CP172: 0 | CQ172: 0.5 | CR172: 0 | CS172: 0 | CT172: 0 | CU172: 0 | CV172: 0 | CW172: 0 | CX172: 0 | CY172: 0 | CZ172: 0 | DA172: 0 | DB172: 0 | DC172: 0 | DD172: 0 | DE172: 0 | DF172: 0 | DG172: 0 | DH172: 0 | DI172: 0 | DJ172: 0 | DK172: 0 | DL172: 0 | DM172: 0 | DN172: 0 | DO172: 0 | DP172: 0 | DQ172: 0 | DR172: 0 | DS172: 0 | DT172: 0 | DU172: 0 | DV172: 0 | DW172: 0 | DX172: 0 | DY172: 0 | DZ172: 0 | EA172: 0 | EB172: 0 | EC172: 0 | ED172: 0 | EE172: 0 | EF172: 0 | EG172: 0 | EH172: 0 | EI172: 0 | EJ172: 0 | EK172: 0 | EL172: 0 | EM172: 0 | EN172: 0 | EO172: 0 | EP172: 0 | EQ172: 0 | ER172: 0 | ES172: 0 | ET172: 0 | EU172: 0 | EV172: 0 | EW172: 0 | EX172: 0 | EY172: 0 | EZ172: 0 | FA172: 0 | FB172: 0 | FC172: 0.5 | FD172: 0 | FE172: 0 | FF172: 0 | FG172: 0 | FH172: 0 | FI172: 0 | FJ172: 0 | FK172: 0 | FL172: 0 | FM172: 16.5 | FN172: 52.5 | FO172: 11 | FP172: 4.5 | FQ172: 2 | FR172: 3.5 | FS172: 0 | FT172: 0 | FU172: 0 | FV172: 0 | FW172: 0 | FX172: 0 | FY172: 0 | FZ172: 0 | GA172: 0 | GB172: 0 | GC172: 0 | GD172: 37.5 | GE172: 0.5 | GF172: 41 | GG172: 0 | GH172: 40.5 | GI172: 0.5 | GJ172: 0.5 | GK172: 3 | GL172: 0.5 | GM172: 1.5 | GN172: 1 | GO172: 25.5 | GP172: 11 | GQ172: 39 | GR172: 4 | GS172: 0 | GT172: 0 | GU172: 0 | GV172: 0 | GW172: 0 | GX172: 0 | GY172: 0 | GZ172: 0 | HA172: 0 | HB172: 0 | HC172: 0 | HD172: 0 | HE172: 0 | HF172: 0 | HG172: 0 | HH172: 0 | HI172: 0 | HJ172: 0 | HK172: 0 | HL172: 0 | HM172: 0 | HN172: 0 | HO172: 0 | HP172: 4.5 | HQ172: 0 | HR172: 0.5 | HS172: 0 | HT172: 0 | HU172: 0 | HV172: 0 | HW172: 2.5 | HX172: 0 | HY172: 0 | HZ172: 0 | IA172: 0 | IB172: 0 | IC172: 0 | ID172: 0 | IE172: 0 | IF172: 0 | IG172: 2 | IH172: 0 | II172: 0.5 | IJ172: 6.5 | IK172: 7 | IL172: 0 | IM172: 0 | IN172: 0 | IO172: 0 | IP172: 0 | IQ172: 0 | IR172: 0 | IS172: 0 | IT172: 0 | IU172: 0 | IV172: 0 | IW172: 0 | IX172: 0 | IY172: 0 | IZ172: 0 | JA172: 0 | JB172: 0 | JC172: 0 | JD172: 0 | JE172: 0 | JF172: 0 | JG172: 0 | JH172: 0 | JI172: 0 | JJ172: 0 | JK172: 0 | JL172: 0 | JM172: 0 | JN172: 0 | JO172: 0 | JP172: 0 | JQ172: 0 | JR172: 0 | JS172: 0 | JT172: 0 | JU172: 0 | JV172: 0 | JW172: 0 | JX172: 0 | JY172: 0 | JZ172: 0 | KA172: 0 | KB172: 0 | KC172: 0 | KD172: 0 | KE172: 0 | KF172: 0 | KG172: 0 | KH172: 0 | KI172: 0 | KJ172: 0 | KK172: 0 | KL172: 0 | KM172: 0 | KN172: 0 | KO172: 0 | KP172: 0 | KQ172: 0 | KR172: 0 | KS172: 0 | KT172: 0 | KU172: 0 | KV172: 0 | KW172: 0 | KX172: 0 | KY172: 4 | KZ172: 0.5 | LA172: 1.5 | LB172: 1
A173: 43285.875 | B173: 0 | C173: 0 | D173: 0 | E173: 0 | F173: 0 | G173: 0 | H173: 0 | I173: 0 | K173: 0 | L173: 0 | M173: 0 | N173: 0 | O173: 0 | P173: 0 | Q173: 0 | R173: 0 | S173: 0 | T173: 0 | U173: 0 | V173: 0 | W173: 0 | X173: 0 | Y173: 0 | Z173: 0 | AA173: 0 | AB173: 0 | AC173: 0 | AD173: 0 | AE173: 0 | AF173: 0 | AG173: 0 | AH173: 0 | AI173: 0 | AJ173: 0 | AK173: 0 | AL173: 0 | AM173: 0 | AN173: 0 | AO173: 0 | AP173: 0 | AQ173: 0 | AR173: 0 | AS173: 0 | AT173: 0 | AU173: 0 | AV173: 0 | AW173: 0 | AX173: 0 | AY173: 0 | AZ173: 0 | BA173: 0 | BB173: 0 | BC173: 0 | BD173: 0 | BE173: 0 | BF173: 0 | BG173: 0 | BH173: 0 | BI173: 0 | BJ173: 0 | BK173: 0 | BL173: 0 | BM173: 0 | BN173: 0 | BO173: 0 | BP173: 0 | BQ173: 0 | BR173: 0 | BS173: 0 | BT173: 0 | BU173: 0 | BV173: 0 | BW173: 0 | BX173: 0 | BY173: 0 | BZ173: 0 | CA173: 0 | CB173: 0 | CC173: 0 | CD173: 0 | CE173: 0 | CF173: 0 | CG173: 0 | CH173: 0.5 | CI173: 0 | CJ173: 0 | CK173: 0 | CL173: 0 | CM173: 0 | CN173: 0 | CO173: 0 | CP173: 0 | CQ173: 0 | CR173: 0 | CS173: 0 | CT173: 0 | CU173: 0 | CV173: 0 | CW173: 0 | CX173: 0 | CY173: 0 | CZ173: 0 | DA173: 0 | DB173: 0 | DC173: 0 | DD173: 0 | DE173: 0 | DF173: 0 | DG173: 0 | DH173: 0 | DI173: 0 | DJ173: 0 | DK173: 0 | DL173: 0 | DM173: 0 | DN173: 0 | DO173: 0 | DP173: 0 | DQ173: 0 | DR173: 0 | DS173: 0 | DT173: 0 | DU173: 0 | DV173: 0 | DW173: 0 | DX173: 0 | DY173: 0 | DZ173: 0 | EA173: 0 | EB173: 0 | EC173: 0 | ED173: 0 | EE173: 0 | EF173: 0 | EG173: 0 | EH173: 0 | EI173: 0 | EJ173: 0 | EK173: 0 | EL173: 0 | EM173: 0 | EN173: 0 | EO173: 0 | EP173: 0 | EQ173: 0 | ER173: 0 | ES173: 0 | ET173: 0 | EU173: 0 | EV173: 0 | EW173: 0 | EX173: 0 | EY173: 0 | EZ173: 0 | FA173: 0 | FB173: 0 | FC173: 0 | FD173: 0 | FE173: 0 | FF173: 0 | FG173: 0 | FH173: 0 | FI173: 0 | FJ173: 0 | FK173: 0 | FL173: 0 | FM173: 0 | FN173: 19 | FO173: 9.5 | FP173: 2.5 | FQ173: 0.5 | FR173: 1 | FS173: 0 | FT173: 0 | FU173: 0 | FV173: 0.5 | FW173: 0.5 | FX173: 0 | FY173: 0 | FZ173: 0 | GA173: 0 | GB173: 0 | GC173: 0 | GD173: 24 | GE173: 0 | GF173: 4 | GG173: 0 | GH173: 1 | GI173: 2.5 | GJ173: 0 | GK173: 1.5 | GL173: 0 | GM173: 0 | GN173: 0.5 | GO173: 6.5 | GP173: 4 | GQ173: 21 | GR173: 6 | GS173: 0 | GT173: 0 | GU173: 0 | GV173: 0 | GW173: 0 | GX173: 0 | GY173: 0 | GZ173: 0 | HA173: 0 | HB173: 0 | HC173: 0 | HD173: 0 | HE173: 0 | HF173: 0 | HG173: 0 | HH173: 0 | HI173: 0 | HJ173: 0 | HK173: 0 | HL173: 0 | HM173: 0 | HN173: 0 | HO173: 0 | HP173: 10 | HQ173: 0 | HR173: 2 | HS173: 0 | HT173: 0 | HU173: 0.5 | HV173: 0.5 | HW173: 0 | HX173: 0.5 | HY173: 0 | HZ173: 1.5 | IA173: 0 | IB173: 0 | IC173: 0 | ID173: 0 | IE173: 0 | IF173: 0 | IG173: 4 | IH173: 0 | II173: 0 | IJ173: 1 | IK173: 11.5 | IL173: 0 | IM173: 0 | IN173: 0 | IO173: 0 | IP173: 0 | IQ173: 0 | IR173: 0 | IS173: 0 | IT173: 0 | IU173: 0 | IV173: 0 | IW173: 0 | IX173: 0 | IY173: 0 | IZ173: 0 | JA173: 0 | JB173: 0 | JC173: 0 | JD173: 0 | JE173: 0 | JF173: 0 | JG173: 0 | JH173: 0 | JI173: 0 | JJ173: 0 | JK173: 0 | JL173: 0 | JM173: 0 | JN173: 0 | JO173: 0 | JP173: 0 | JQ173: 0 | JR173: 0 | JS173: 0 | JT173: 0 | JU173: 0 | JV173: 0 | JW173: 0 | JX173: 0 | JY173: 0 | JZ173: 0 | KA173: 0 | KB173: 0 | KC173: 0 | KD173: 0 | KE173: 0 | KF173: 0 | KG173: 0 | KH173: 0 | KI173: 0 | KJ173: 0 | KK173: 0 | KL173: 0 | KM173: 0 | KN173: 0 | KO173: 0 | KP173: 0 | KQ173: 0 | KR173: 0 | KS173: 0 | KT173: 0 | KU173: 0.5 | KV173: 0 | KW173: 0 | KX173: 0 | KY173: 0.5 | KZ173: 0 | LA173: 1 | LB173: 0
A174: 43285.917 | B174: 0 | C174: 0 | D174: 0 | E174: 0 | F174: 0 | G174: 0 | H174: 0 | I174: 0 | J174: 0 | K174: 0 | L174: 0 | M174: 0 | N174: 0 | O174: 0 | P174: 0 | Q174: 0 | R174: 0 | S174: 0 | T174: 0 | U174: 0 | V174: 0 | W174: 0 | X174: 0 | Y174: 0 | Z174: 0 | AA174: 0 | AB174: 0 | AC174: 0 | AD174: 0 | AE174: 0 | AF174: 0 | AG174: 0 | AH174: 0 | AI174: 0 | AJ174: 0 | AK174: 0 | AL174: 0 | AM174: 0 | AN174: 0 | AO174: 0 | AP174: 0 | AQ174: 0 | AR174: 0 | AS174: 0 | AT174: 0 | AU174: 0 | AV174: 0 | AW174: 0 | AX174: 0 | AY174: 0 | AZ174: 0 | BA174: 0 | BB174: 0 | BC174: 0 | BD174: 0 | BE174: 0 | BF174: 0 | BG174: 0 | BH174: 0 | BI174: 0 | BJ174: 0 | BK174: 0 | BL174: 0 | BM174: 0 | BN174: 0 | BO174: 0 | BP174: 0 | BQ174: 0 | BR174: 0 | BS174: 0 | BT174: 0 | BU174: 0 | BV174: 0 | BW174: 0 | BX174: 0 | BY174: 0 | BZ174: 0 | CA174: 0 | CB174: 0 | CC174: 0 | CD174: 0 | CE174: 0 | CF174: 0 | CG174: 0 | CH174: 0 | CI174: 0 | CJ174: 0 | CK174: 0 | CL174: 0 | CM174: 0 | CN174: 0 | CO174: 0 | CP174: 0 | CQ174: 0 | CR174: 0 | CS174: 0 | CT174: 0 | CU174: 0 | CV174: 0 | CW174: 0 | CX174: 0 | CY174: 0 | CZ174: 0 | DA174: 0 | DB174: 0 | DC174: 0 | DD174: 0 | DE174: 0 | DF174: 0 | DG174: 0 | DH174: 0 | DI174: 0 | DJ174: 0 | DK174: 0 | DL174: 0 | DM174: 0 | DN174: 0 | DO174: 0 | DP174: 0 | DQ174: 0 | DR174: 0 | DS174: 0 | DT174: 0 | DU174: 0 | DV174: 0 | DW174: 0 | DX174: 0 | DY174: 0 | DZ174: 0 | EA174: 0 | EB174: 0 | EC174: 0 | ED174: 0 | EE174: 0 | EF174: 0 | EG174: 0 | EH174: 0 | EI174: 0 | EJ174: 0 | EK174: 0 | EL174: 0 | EM174: 0 | EN174: 0 | EO174: 0 | EP174: 0 | EQ174: 0 | ER174: 0 | ES174: 0 | ET174: 0 | EU174: 0 | EV174: 0 | EW174: 0 | EX174: 0 | EY174: 0 | EZ174: 0 | FA174: 0 | FB174: 0 | FC174: 0 | FD174: 0 | FE174: 0 | FF174: 0 | FG174: 0 | FH174: 0 | FI174: 0 | FJ174: 0 | FK174: 0 | FL174: 0 | FM174: 2 | FN174: 2 | FO174: 2 | FP174: 4.5 | FQ174: 1 | FR174: 0 | FS174: 0 | FT174: 0 | FU174: 0 | FV174: 1 | FW174: 1.5 | FX174: 0 | FY174: 0 | FZ174: 0 | GA174: 0 | GB174: 0 | GC174: 0.5 | GD174: 6 | GE174: 0.5 | GF174: 4.5 | GG174: 0.5 | GH174: 11 | GI174: 1.5 | GJ174: 0.5 | GK174: 9 | GL174: 1 | GM174: 0.5 | GN174: 1 | GO174: 5.5 | GP174: 0.5 | GQ174: 2 | GR174: 3.5 | GS174: 0 | GT174: 0 | GU174: 0 | GV174: 0 | GW174: 0 | GX174: 0 | GY174: 0 | GZ174: 0 | HA174: 0 | HB174: 0 | HC174: 0 | HD174: 0 | HE174: 0 | HF174: 0 | HG174: 0 | HH174: 0 | HI174: 0 | HJ174: 0 | HK174: 0 | HL174: 0 | HM174: 0 | HN174: 0 | HO174: 1.5 | HP174: 1.5 | HQ174: 6.5 | HR174: 0 | HS174: 10 | HT174: 4.5 | HU174: 0 | HV174: 0 | HW174: 1 | HX174: 0.5 | HY174: 0 | HZ174: 1.5 | IA174: 0 | IB174: 1 | IC174: 0 | ID174: 1 | IE174: 0.5 | IF174: 0 | IG174: 11 | IH174: 0.5 | II174: 0 | IJ174: 0 | IK174: 8.5 | IL174: 0 | IM174: 0 | IN174: 0 | IO174: 0 | IP174: 0 | IQ174: 0 | IR174: 0 | IS174: 0 | IT174: 0 | IU174: 0 | IV174: 0 | IW174: 0 | IX174: 0 | IY174: 0 | IZ174: 0 | JA174: 0 | JB174: 0 | JC174: 0 | JD174: 0 | JE174: 0 | JF174: 0 | JG174: 0 | JH174: 0 | JI174: 0 | JJ174: 0 | JK174: 0 | JL174: 0 | JM174: 0 | JN174: 0 | JO174: 0 | JP174: 0 | JQ174: 0 | JR174: 0 | JS174: 0 | JT174: 0 | JU174: 0 | JV174: 0 | JW174: 0 | JX174: 0 | JY174: 0 | JZ174: 0 | KA174: 0 | KB174: 0 | KC174: 0 | KD174: 0 | KE174: 0 | KF174: 0 | KG174: 0 | KH174: 0 | KI174: 0 | KJ174: 0 | KK174: 0 | KL174: 0 | KM174: 0 | KN174: 0 | KO174: 0 | KP174: 0.5 | KQ174: 0 | KR174: 0 | KS174: 0 | KT174: 0 | KU174: 0 | KV174: 0 | KW174: 1 | KX174: 0 | KY174: 2.5 | KZ174: 0.5 | LA174: 4.5 | LB174: 0.5
A175: 43285.958 | B175: 0 | C175: 0 | D175: 0 | E175: 0 | F175: 0 | G175: 0 | H175: 0 | I175: 0 | J175: 0 | K175: 0 | L175: 0 | M175: 0 | N175: 0 | O175: 0 | P175: 0 | Q175: 0 | R175: 0 | S175: 0 | T175: 0 | U175: 0 | V175: 0 | W175: 0 | X175: 0 | Y175: 0 | Z175: 0 | AA175: 0 | AB175: 0 | AC175: 0 | AD175: 0 | AE175: 0 | AF175: 0 | AG175: 0 | AH175: 0 | AI175: 0 | AJ175: 0 | AK175: 0 | AL175: 0 | AM175: 0 | AN175: 0 | AO175: 0 | AP175: 0 | AQ175: 0 | AR175: 0 | AS175: 0 | AT175: 0 | AU175: 0 | AV175: 0 | AW175: 0 | AX175: 0 | AY175: 0 | AZ175: 0 | BA175: 0 | BB175: 0 | BC175: 0 | BD175: 0 | BE175: 0 | BF175: 0 | BG175: 0 | BH175: 0 | BI175: 0 | BJ175: 0 | BK175: 0 | BL175: 0 | BM175: 0 | BN175: 0 | BO175: 0 | BP175: 0 | BQ175: 0 | BR175: 0 | BS175: 0 | BT175: 0 | BU175: 0 | BV175: 0 | BW175: 0 | BX175: 0 | BY175: 0 | BZ175: 0 | CA175: 0 | CB175: 0 | CC175: 0 | CD175: 0 | CE175: 0 | CF175: 0 | CG175: 0 | CH175: 0 | CI175: 0 | CJ175: 0 | CK175: 0 | CL175: 0 | CM175: 0 | CN175: 0 | CO175: 0 | CP175: 0 | CQ175: 0 | CR175: 0 | CS175: 0 | CT175: 0 | CU175: 0 | CV175: 0 | CW175: 0 | CX175: 0 | CY175: 0 | CZ175: 0 | DA175: 0 | DB175: 0 | DC175: 0 | DD175: 0 | DE175: 0 | DF175: 0 | DG175: 0 | DH175: 0 | DI175: 0 | DJ175: 0 | DK175: 0 | DL175: 0 | DM175: 0 | DN175: 0 | DO175: 0 | DP175: 0 | DQ175: 0 | DR175: 0 | DS175: 0 | DT175: 0 | DU175: 0 | DV175: 0 | DW175: 0 | DX175: 0 | DY175: 0 | DZ175: 0 | EA175: 0 | EB175: 0 | EC175: 0 | ED175: 0 | EE175: 0 | EF175: 0 | EG175: 0 | EH175: 0 | EI175: 0 | EJ175: 0.5 | EK175: 0 | EL175: 0 | EM175: 0 | EN175: 0 | EO175: 0 | EP175: 0 | EQ175: 0 | ER175: 0 | ES175: 0 | ET175: 1.5 | EU175: 0 | EV175: 0 | EW175: 0 | EX175: 0 | EY175: 0 | EZ175: 0 | FA175: 0 | FB175: 0 | FC175: 0 | FD175: 0 | FE175: 0 | FF175: 0 | FG175: 0 | FH175: 0 | FI175: 0 | FJ175: 0 | FK175: 0 | FL175: 0 | FM175: 0 | FN175: 3.5 | FO175: 0 | FP175: 3.5 | FQ175: 0 | FR175: 1 | FS175: 0 | FT175: 19 | FU175: 0.5 | FV175: 1 | FW175: 2.5 | FX175: 0 | FY175: 0 | FZ175: 0.5 | GA175: 0 | GB175: 0.5 | GC175: 0 | GD175: 3 | GE175: 1 | GF175: 0 | GG175: 0.5 | GH175: 9 | GI175: 1 | GJ175: 0.5 | GK175: 3 | GL175: 1.5 | GM175: 1 | GN175: 1.5 | GO175: 1 | GP175: 1.5 | GQ175: 3.5 | GR175: 0.5 | GS175: 0 | GT175: 0 | GU175: 0 | GV175: 0 | GW175: 0 | GX175: 0 | GY175: 0 | GZ175: 0 | HA175: 0 | HB175: 0 | HC175: 0 | HD175: 0 | HE175: 0 | HF175: 0 | HG175: 0 | HH175: 0 | HI175: 0.5 | HJ175: 0 | HK175: 0 | HL175: 0.5 | HM175: 0 | HN175: 0 | HO175: 1 | HP175: 5 | HQ175: 0.5 | HR175: 4 | HS175: 0 | HT175: 0 | HU175: 1 | HV175: 0.5 | HW175: 0.5 | HX175: 5.5 | HY175: 0 | HZ175: 8.5 | IA175: 0 | IB175: 2 | IC175: 0 | ID175: 0.5 | IE175: 4.5 | IF175: 3.5 | IG175: 4 | IH175: 2.5 | II175: 3 | IJ175: 0 | IK175: 11.5 | IL175: 14 | IM175: 0 | IN175: 0.5 | IO175: 0 | IP175: 0 | IQ175: 0 | IR175: 0 | IS175: 0 | IT175: 0 | IU175: 0 | IV175: 0 | IW175: 0 | IX175: 0 | IY175: 0 | IZ175: 0 | JA175: 0 | JB175: 0 | JC175: 0 | JD175: 0 | JE175: 0 | JF175: 0 | JG175: 0 | JH175: 0 | JI175: 0 | JJ175: 0 | JK175: 0 | JL175: 0 | JM175: 0 | JN175: 0 | JO175: 0 | JP175: 0 | JQ175: 0 | JR175: 0 | JS175: 0 | JT175: 0 | JU175: 0 | JV175: 0 | JW175: 0 | JX175: 0 | JY175: 0 | JZ175: 0 | KA175: 0 | KB175: 0 | KC175: 0 | KD175: 0 | KE175: 0 | KF175: 0 | KG175: 0 | KH175: 0 | KI175: 0 | KJ175: 0 | KK175: 0 | KL175: 0 | KM175: 0 | KN175: 0 | KO175: 0 | KP175: 0 | KQ175: 0 | KR175: 0 | KS175: 0 | KT175: 1 | KU175: 0 | KV175: 0.5 | KW175: 5.5 | KX175: 0 | KY175: 6.5 | KZ175: 0 | LA175: 1 | LB175: 0.5
A176: 43286 | B176: 0 | C176: 0 | D176: 0 | E176: 0 | F176: 0 | G176: 0 | H176: 0 | I176: 0 | J176: 0 | K176: 0 | L176: 0 | M176: 0 | N176: 0 | O176: 0 | P176: 0 | Q176: 0 | R176: 0 | S176: 0 | T176: 0 | U176: 0 | V176: 0 | W176: 0 | X176: 0 | Y176: 0 | Z176: 0 | AA176: 0 | AB176: 0 | AC176: 0 | AD176: 0 | AE176: 0 | AF176: 0 | AG176: 0 | AH176: 0 | AI176: 0 | AJ176: 0 | AK176: 0 | AL176: 0 | AM176: 0 | AN176: 0 | AO176: 0 | AP176: 0 | AQ176: 0 | AR176: 0 | AS176: 0 | AT176: 0 | AU176: 0 | AV176: 0 | AW176: 0 | AX176: 0 | AY176: 0 | AZ176: 0 | BA176: 0 | BB176: 0 | BC176: 0 | BD176: 0 | BE176: 0 | BF176: 0 | BG176: 0 | BH176: 0 | BI176: 0 | BJ176: 0 | BK176: 0 | BL176: 0 | BM176: 0 | BN176: 0 | BO176: 0 | BP176: 0 | BQ176: 0 | BR176: 0 | BS176: 0 | BT176: 0 | BU176: 0 | BV176: 0 | BW176: 0 | BX176: 0 | BY176: 0 | BZ176: 0 | CA176: 0 | CB176: 0 | CC176: 0 | CD176: 0 | CE176: 0 | CF176: 0 | CG176: 0 | CH176: 0 | CI176: 0 | CJ176: 0 | CK176: 0 | CL176: 0 | CM176: 0 | CN176: 0 | CO176: 0 | CP176: 0 | CQ176: 0 | CR176: 0 | CS176: 0 | CT176: 0 | CU176: 0 | CV176: 0 | CW176: 0 | CX176: 0 | CY176: 0 | CZ176: 0 | DA176: 0 | DB176: 0 | DC176: 0 | DD176: 0 | DE176: 0 | DF176: 0 | DG176: 0 | DH176: 0 | DI176: 0 | DJ176: 0 | DK176: 0 | DL176: 0 | DM176: 0 | DN176: 0 | DO176: 0 | DP176: 0 | DQ176: 0 | DR176: 0 | DS176: 0 | DT176: 0 | DU176: 0 | DV176: 0 | DW176: 0 | DX176: 0 | DY176: 0 | DZ176: 0 | EA176: 0 | EB176: 0 | EC176: 0 | ED176: 0 | EE176: 0 | EF176: 0 | EG176: 0 | EH176: 0 | EI176: 0.5 | EJ176: 0.5 | EK176: 2 | EL176: 0 | EM176: 0 | EN176: 0 | EO176: 0 | EP176: 0 | EQ176: 0 | ER176: 0 | ES176: 0.5 | ET176: 4 | EU176: 0.5 | EV176: 0 | EW176: 0 | EX176: 0 | EY176: 0 | EZ176: 0 | FA176: 1.5 | FB176: 2 | FC176: 0 | FD176: 0 | FE176: 0 | FF176: 0.5 | FG176: 0 | FH176: 0 | FI176: 0 | FJ176: 0 | FK176: 0 | FL176: 0 | FM176: 0 | FN176: 0 | FO176: 1 | FP176: 2 | FQ176: 2 | FR176: 1 | FS176: 0.5 | FT176: 1 | FU176: 0 | FV176: 0 | FW176: 0 | FX176: 0 | FY176: 0 | FZ176: 0 | GA176: 0 | GB176: 0 | GC176: 0 | GD176: 0.5 | GE176: 0 | GF176: 0.5 | GG176: 0 | GH176: 0.5 | GI176: 0 | GJ176: 0 | GK176: 0 | GL176: 1 | GM176: 3 | GN176: 0 | GO176: 0.5 | GP176: 0.5 | GQ176: 0 | GR176: 0.5 | GS176: 0 | GT176: 0 | GU176: 0 | GV176: 1 | GW176: 0 | GX176: 0 | GY176: 0 | GZ176: 0 | HA176: 0 | HB176: 0 | HC176: 2 | HD176: 0 | HE176: 0 | HF176: 0 | HG176: 0 | HH176: 0 | HI176: 0 | HJ176: 0 | HK176: 1.5 | HL176: 1 | HM176: 0 | HN176: 0 | HO176: 3 | HP176: 6 | HQ176: 2.5 | HR176: 0 | HS176: 0 | HT176: 4 | HU176: 0 | HV176: 8.5 | HW176: 0 | HX176: 8 | HY176: 0 | HZ176: 2.5 | IA176: 0 | IB176: 6 | IC176: 0 | ID176: 5 | IE176: 0 | IF176: 0 | IG176: 5.5 | IH176: 0.5 | II176: 1 | IJ176: 0.5 | IK176: 31 | IL176: 11.5 | IM176: 0.5 | IN176: 1 | IO176: 0 | IP176: 0.5 | IQ176: 0 | IR176: 0 | IS176: 0 | IT176: 0 | IU176: 0 | IV176: 0 | IW176: 0 | IX176: 0 | IY176: 0 | IZ176: 0 | JA176: 0 | JB176: 0 | JC176: 0 | JD176: 0 | JE176: 0 | JF176: 0 | JG176: 0 | JH176: 0 | JI176: 0 | JJ176: 0 | JK176: 0 | JL176: 0 | JM176: 0 | JN176: 0 | JO176: 0 | JP176: 0 | JQ176: 0 | JR176: 0 | JS176: 0 | JT176: 0 | JU176: 0 | JV176: 0 | JW176: 0 | JX176: 0 | JY176: 0 | JZ176: 0 | KA176: 0 | KB176: 0 | KC176: 0 | KD176: 0 | KE176: 0 | KF176: 0 | KG176: 0 | KH176: 0 | KI176: 0 | KJ176: 0 | KK176: 0 | KL176: 0 | KM176: 0 | KN176: 0 | KO176: 1.5 | KP176: 0 | KQ176: 0.5 | KR176: 0 | KS176: 2.5 | KT176: 0.5 | KU176: 0 | KV176: 4.5 | KW176: 2.5 | KX176: 0 | KY176: 5.5 | KZ176: 2 | LA176: 1 | LB176: 0.5
A177: 43286.042 | B177: 0 | C177: 0 | D177: 0 | E177: 0 | F177: 0 | G177: 0 | H177: 0 | I177: 0 | J177: 0.5 | K177: 0 | L177: 0 | M177: 0 | N177: 0 | O177: 0 | P177: 0 | Q177: 0 | R177: 0 | S177: 0 | T177: 0 | U177: 0 | V177: 0 | W177: 0 | X177: 0 | Y177: 0 | Z177: 0 | AA177: 0 | AB177: 0 | AC177: 0 | AD177: 0 | AE177: 0 | AF177: 0 | AG177: 0 | AH177: 0 | AI177: 0 | AJ177: 0 | AK177: 0 | AL177: 0 | AM177: 0 | AN177: 0 | AO177: 0 | AP177: 0 | AQ177: 0 | AR177: 0 | AS177: 0 | AT177: 0 | AU177: 0 | AV177: 0 | AW177: 0 | AX177: 0 | AY177: 0 | AZ177: 0 | BA177: 0 | BB177: 0 | BC177: 0 | BD177: 0 | BE177: 0 | BF177: 0 | BG177: 0 | BH177: 0 | BI177: 0 | BJ177: 0 | BK177: 0 | BL177: 0 | BM177: 0 | BN177: 0 | BO177: 0 | BP177: 0 | BQ177: 0 | BR177: 0 | BS177: 0 | BT177: 0 | BU177: 0 | BV177: 0 | BW177: 0 | BX177: 0 | BY177: 0 | BZ177: 0 | CA177: 0 | CB177: 0 | CC177: 0 | CD177: 0 | CE177: 0 | CF177: 0 | CG177: 0 | CH177: 0 | CI177: 0 | CJ177: 0 | CK177: 0 | CL177: 0 | CM177: 0 | CN177: 0 | CO177: 0 | CP177: 0 | CQ177: 0 | CR177: 0 | CS177: 0 | CT177: 0 | CU177: 0 | CV177: 0 | CW177: 0 | CX177: 0 | CY177: 0 | CZ177: 0 | DA177: 0 | DB177: 0 | DC177: 0 | DD177: 0 | DE177: 0 | DF177: 0 | DG177: 0 | DH177: 0 | DI177: 0 | DJ177: 0 | DK177: 0 | DL177: 0 | DM177: 0 | DN177: 0 | DO177: 0 | DP177: 0 | DQ177: 0 | DR177: 0 | DS177: 0 | DT177: 0 | DU177: 0 | DV177: 0 | DW177: 0 | DX177: 0 | DY177: 0 | DZ177: 0 | EA177: 0 | EB177: 0 | EC177: 0 | ED177: 0 | EE177: 0 | EF177: 0 | EG177: 0 | EH177: 0 | EI177: 0 | EJ177: 1.5 | EK177: 2.5 | EL177: 0 | EM177: 0 | EN177: 0 | EO177: 0.5 | EP177: 0.5 | EQ177: 0 | ER177: 0.5 | ES177: 2.5 | ET177: 7.5 | EU177: 1.5 | EV177: 0 | EW177: 0 | EX177: 0 | EY177: 0 | EZ177: 0 | FA177: 18.5 | FB177: 9.5 | FC177: 0 | FD177: 0 | FE177: 0 | FF177: 2 | FG177: 0 | FH177: 0 | FI177: 0 | FJ177: 0 | FK177: 0 | FL177: 0 | FM177: 0 | FN177: 0 | FO177: 0.5 | FP177: 8 | FQ177: 5.5 | FR177: 1 | FS177: 0.5 | FT177: 0 | FU177: 0 | FV177: 1 | FW177: 1 | FX177: 0 | FY177: 0 | FZ177: 0 | GA177: 1.5 | GB177: 4 | GC177: 3.5 | GD177: 0.5 | GE177: 2 | GF177: 0 | GG177: 0 | GH177: 0 | GI177: 0 | GJ177: 0 | GK177: 1.5 | GL177: 0.5 | GM177: 3 | GN177: 0 | GO177: 0 | GP177: 0 | GQ177: 0 | GR177: 1.5 | GS177: 0 | GT177: 0 | GU177: 0 | GV177: 11.5 | GW177: 0 | GX177: 0 | GY177: 2 | GZ177: 0 | HA177: 0 | HB177: 1 | HC177: 2.5 | HD177: 0 | HE177: 0 | HF177: 0.5 | HG177: 0 | HH177: 0 | HI177: 0 | HJ177: 0 | HK177: 10 | HL177: 1.5 | HM177: 0 | HN177: 0 | HO177: 23 | HP177: 1 | HQ177: 8.5 | HR177: 0 | HS177: 3 | HT177: 2.5 | HU177: 0 | HV177: 1.5 | HW177: 0.5 | HX177: 0 | HY177: 0 | HZ177: 0 | IA177: 0 | IB177: 0 | IC177: 0 | ID177: 0.5 | IE177: 0 | IF177: 0.5 | IG177: 11.5 | IH177: 0 | II177: 0 | IJ177: 0.5 | IK177: 16.5 | IL177: 1.5 | IM177: 0.5 | IN177: 0 | IO177: 0 | IP177: 0 | IQ177: 0 | IR177: 0 | IS177: 0 | IT177: 0 | IU177: 0.5 | IV177: 0 | IW177: 8 | IX177: 0 | IY177: 0 | IZ177: 0 | JA177: 3 | JB177: 0 | JC177: 0 | JD177: 0 | JE177: 0 | JF177: 0 | JG177: 0 | JH177: 0 | JI177: 0 | JJ177: 0 | JK177: 0 | JL177: 0 | JM177: 0 | JN177: 0 | JO177: 0 | JP177: 0 | JQ177: 0 | JR177: 0 | JS177: 0 | JT177: 0 | JU177: 0 | JV177: 0 | JW177: 0 | JX177: 0 | JY177: 0 | JZ177: 0 | KA177: 0 | KB177: 0 | KC177: 0 | KD177: 0 | KE177: 0 | KF177: 0 | KG177: 0 | KH177: 0 | KI177: 0 | KJ177: 0 | KK177: 0 | KL177: 3.5 | KM177: 0.5 | KN177: 1.5 | KO177: 1.5 | KP177: 8.5 | KQ177: 0.5 | KR177: 2.5 | KS177: 9.5 | KT177: 0.5 | KU177: 0 | KV177: 2.5 | KW177: 2.5 | KX177: 0 | KY177: 6.5 | KZ177: 3 | LA177: 0.5 | LB177: 0
A178: 43286.083 | B178: 0 | C178: 0 | D178: 0 | E178: 0 | F178: 0 | G178: 0 | H178: 0 | I178: 0 | J178: 0 | K178: 0 | L178: 0 | M178: 0 | N178: 0 | O178: 0 | P178: 0 | Q178: 0 | R178: 0 | S178: 0 | T178: 0 | U178: 0 | V178: 0 | W178: 0 | X178: 0 | Y178: 0 | Z178: 0 | AA178: 0 | AB178: 0 | AC178: 0 | AD178: 0 | AE178: 0 | AF178: 0 | AG178: 0 | AH178: 0 | AI178: 0 | AJ178: 0 | AK178: 0 | AL178: 0 | AM178: 0 | AN178: 0 | AO178: 0 | AP178: 0 | AQ178: 0 | AR178: 0 | AS178: 0 | AT178: 0 | AU178: 0 | AV178: 0 | AW178: 0 | AX178: 0 | AY178: 0 | AZ178: 0 | BA178: 0 | BB178: 0 | BC178: 0 | BD178: 0 | BE178: 0 | BF178: 0 | BG178: 0 | BH178: 0 | BI178: 0 | BJ178: 0 | BK178: 0 | BL178: 0 | BM178: 3 | BN178: 0 | BO178: 0 | BP178: 0 | BQ178: 0 | BR178: 0 | BS178: 0.5 | BT178: 0 | BU178: 0 | BV178: 0 | BW178: 0 | BX178: 0 | BY178: 3 | BZ178: 0 | CA178: 0 | CB178: 0 | CC178: 0 | CD178: 0 | CE178: 0 | CF178: 0 | CG178: 0 | CH178: 0 | CI178: 0 | CJ178: 0 | CK178: 0 | CL178: 0 | CM178: 0 | CN178: 0 | CO178: 0 | CP178: 0 | CQ178: 0 | CR178: 0 | CS178: 0 | CT178: 0 | CU178: 0 | CV178: 0 | CW178: 0 | CX178: 0 | CY178: 0 | CZ178: 0 | DA178: 0 | DB178: 0 | DC178: 0 | DD178: 0 | DE178: 0 | DF178: 0 | DG178: 0 | DH178: 0 | DI178: 0 | DJ178: 0 | DK178: 0 | DL178: 0 | DM178: 0 | DN178: 0 | DO178: 0 | DP178: 0 | DQ178: 0 | DR178: 0 | DS178: 0 | DT178: 0 | DU178: 0 | DV178: 0 | DW178: 0 | DX178: 0 | DY178: 0 | DZ178: 0 | EA178: 0.5 | EB178: 0 | EC178: 0 | ED178: 0 | EE178: 1.5 | EF178: 0 | EG178: 0 | EH178: 0 | EI178: 0.5 | EJ178: 4.5 | EK178: 2 | EL178: 4 | EM178: 0 | EN178: 0 | EO178: 0.5 | EP178: 0.5 | EQ178: 0 | ER178: 1 | ES178: 2.5 | ET178: 1 | EU178: 6 | EV178: 0 | EW178: 0 | EX178: 0 | EY178: 0 | EZ178: 1 | FA178: 20 | FB178: 3.5 | FC178: 0 | FD178: 0 | FE178: 0 | FF178: 24.5 | FG178: 0 | FH178: 0 | FI178: 1.5 | FJ178: 0 | FK178: 0 | FL178: 0 | FM178: 0 | FN178: 0 | FO178: 0 | FP178: 11.5 | FQ178: 0.5 | FR178: 0.5 | FS178: 0.5 | FT178: 10 | FU178: 4 | FV178: 13 | FW178: 5 | FX178: 4.5 | FY178: 19.5 | FZ178: 3.5 | GA178: 2.5 | GB178: 23.5 | GC178: 22 | GD178: 0 | GE178: 3 | GF178: 0 | GG178: 0.5 | GH178: 0 | GI178: 0 | GJ178: 0 | GK178: 1 | GL178: 1 | GM178: 0.5 | GN178: 0 | GO178: 0 | GP178: 0 | GQ178: 0 | GR178: 0 | GS178: 0 | GT178: 0 | GU178: 3 | GV178: 6.5 | GW178: 0 | GX178: 0 | GY178: 3 | GZ178: 0 | HA178: 0 | HB178: 1 | HC178: 1.5 | HD178: 0 | HE178: 0 | HF178: 0 | HG178: 0 | HH178: 0 | HI178: 0 | HJ178: 0 | HK178: 10 | HL178: 0 | HM178: 0 | HN178: 0 | HO178: 2 | HP178: 1 | HQ178: 0.5 | HR178: 0 | HS178: 1 | HT178: 0.5 | HU178: 0 | HV178: 0 | HW178: 0 | HX178: 0 | HY178: 0 | HZ178: 0.5 | IA178: 0 | IB178: 0.5 | IC178: 3 | ID178: 0.5 | IE178: 0 | IF178: 2 | IG178: 39.5 | IH178: 3 | II178: 0.5 | IJ178: 0 | IK178: 4 | IL178: 20.5 | IM178: 0 | IN178: 0.5 | IO178: 0 | IP178: 0 | IQ178: 0 | IR178: 0 | IS178: 0 | IT178: 0 | IU178: 0.5 | IV178: 0 | IW178: 0.5 | IX178: 0 | IY178: 0 | IZ178: 0 | JA178: 86 | JB178: 0 | JC178: 0 | JD178: 0 | JE178: 0 | JF178: 0 | JG178: 0 | JH178: 0 | JI178: 0 | JJ178: 0 | JK178: 0 | JL178: 0 | JM178: 0 | JN178: 0 | JO178: 0 | JP178: 0 | JQ178: 0 | JR178: 0 | JS178: 0 | JT178: 0 | JU178: 0 | JV178: 0 | JW178: 0 | JX178: 0 | JY178: 0 | JZ178: 0 | KA178: 0 | KB178: 0 | KC178: 0 | KD178: 0 | KE178: 0 | KF178: 0 | KG178: 0 | KH178: 0 | KI178: 0 | KJ178: 0 | KK178: 3.5 | KL178: 8.5 | KM178: 0 | KN178: 11.5 | KO178: 2.5 | KP178: 9 | KQ178: 16 | KR178: 21 | KS178: 13.5 | KT178: 0 | KU178: 0 | KV178: 3 | KW178: 1.5 | KX178: 0 | KY178: 4.5 | KZ178: 5 | LA178: 4.5 | LB178: 0
A179: 43286.125 | B179: 0 | C179: 0 | D179: 0 | E179: 0 | F179: 0 | G179: 0 | H179: 0 | I179: 0 | J179: 0 | K179: 0 | L179: 1 | M179: 0 | N179: 0 | O179: 0 | P179: 0 | Q179: 0 | R179: 0 | S179: 0 | T179: 0 | U179: 0 | V179: 0 | W179: 0 | X179: 0 | Y179: 0 | Z179: 0 | AA179: 0 | AB179: 0 | AC179: 0 | AD179: 0 | AE179: 0 | AF179: 0 | AG179: 0 | AH179: 0 | AI179: 0 | AJ179: 0 | AK179: 0 | AL179: 0 | AM179: 0 | AN179: 0 | AO179: 0 | AP179: 0 | AQ179: 0 | AR179: 0 | AS179: 0 | AT179: 0 | AU179: 0 | AV179: 0 | AW179: 0 | AX179: 0 | AY179: 0 | AZ179: 0 | BA179: 0 | BB179: 0.5 | BC179: 0 | BD179: 0 | BE179: 0 | BF179: 0 | BG179: 0 | BH179: 0 | BI179: 0 | BJ179: 0 | BK179: 0 | BL179: 0 | BM179: 0.5 | BN179: 0 | BO179: 0 | BP179: 0 | BQ179: 0 | BR179: 0 | BS179: 0.5 | BT179: 0 | BU179: 0 | BV179: 0 | BW179: 0 | BX179: 0 | BY179: 2.5 | BZ179: 0 | CA179: 0.5 | CB179: 0 | CC179: 0 | CD179: 0 | CE179: 0 | CF179: 0 | CG179: 0 | CH179: 0 | CI179: 0 | CJ179: 0 | CK179: 0 | CL179: 0 | CM179: 0 | CN179: 0 | CO179: 0 | CP179: 0 | CQ179: 0 | CR179: 0 | CS179: 0 | CT179: 0 | CU179: 0 | CV179: 0 | CW179: 0 | CX179: 0.5 | CY179: 0 | CZ179: 0 | DA179: 0 | DB179: 0 | DC179: 1.5 | DD179: 0 | DE179: 0 | DF179: 0 | DG179: 0.5 | DH179: 0 | DI179: 0.5 | DJ179: 0 | DK179: 0 | DL179: 0 | DM179: 0 | DN179: 0 | DO179: 0 | DP179: 0 | DQ179: 0 | DR179: 0 | DS179: 0 | DT179: 0 | DU179: 0 | DV179: 0 | DW179: 0 | DX179: 0 | DY179: 0 | DZ179: 0 | EA179: 0 | EB179: 0 | EC179: 0 | ED179: 0 | EE179: 3.5 | EF179: 0.5 | EG179: 2 | EH179: 7 | EI179: 5 | EJ179: 7.5 | EK179: 0.5 | EL179: 0.5 | EM179: 0 | EN179: 0 | EO179: 3.5 | EP179: 2.5 | EQ179: 0 | ER179: 5.5 | ES179: 0.5 | ET179: 1.5 | EU179: 6 | EV179: 0 | EW179: 0 | EX179: 0 | EY179: 0 | EZ179: 1.5 | FA179: 4 | FB179: 0 | FC179: 5 | FD179: 0 | FE179: 4 | FF179: 4.5 | FG179: 0 | FH179: 10 | FI179: 5 | FJ179: 0 | FK179: 2.5 | FL179: 0 | FM179: 0 | FN179: 0 | FO179: 0 | FP179: 0 | FQ179: 0.5 | FR179: 5 | FS179: 7.5 | FT179: 28 | FU179: 17 | FV179: 9.5 | FW179: 16 | FX179: 14 | FY179: 10 | FZ179: 19.5 | GA179: 10.5 | GB179: 2.5 | GC179: 6 | GD179: 0 | GE179: 3.5 | GF179: 0 | GG179: 9 | GH179: 0 | GI179: 1 | GJ179: 0 | GK179: 2 | GL179: 18 | GM179: 25 | GN179: 1.5 | GO179: 0 | GP179: 0 | GQ179: 0 | GR179: 0 | GS179: 0 | GT179: 0 | GU179: 1.5 | GV179: 17 | GW179: 0 | GX179: 0 | GY179: 1.5 | GZ179: 0 | HA179: 0.5 | HB179: 0 | HC179: 0 | HD179: 0.5 | HE179: 0.5 | HF179: 0.5 | HG179: 0 | HH179: 0.5 | HI179: 0 | HJ179: 0 | HK179: 14 | HL179: 1.5 | HM179: 0 | HN179: 0 | HO179: 0 | HP179: 4.5 | HQ179: 0 | HR179: 2.5 | HS179: 0 | HT179: 0 | HU179: 3.5 | HV179: 0.5 | HW179: 12 | HX179: 1.5 | HY179: 4 | HZ179: 2.5 | IA179: 2 | IB179: 3 | IC179: 0.5 | ID179: 0 | IE179: 0 | IF179: 0 | IG179: 4.5 | IH179: 8 | II179: 0.5 | IJ179: 1.5 | IK179: 7.5 | IL179: 3 | IM179: 0 | IN179: 13.5 | IO179: 0 | IP179: 0 | IQ179: 0 | IR179: 0 | IS179: 0.5 | IT179: 0 | IU179: 0.5 | IV179: 0 | IW179: 0.5 | IX179: 0 | IY179: 0 | IZ179: 0 | JA179: 30 | JB179: 0 | JC179: 0 | JD179: 0 | JE179: 0 | JF179: 0 | JG179: 0 | JH179: 0 | JI179: 0 | JJ179: 0 | JK179: 0 | JL179: 0 | JM179: 0 | JN179: 0 | JO179: 0 | JP179: 0 | JQ179: 0 | JR179: 0 | JS179: 0 | JT179: 0 | JU179: 0 | JV179: 0 | JW179: 0 | JX179: 0 | JY179: 0 | JZ179: 0 | KA179: 0 | KB179: 0 | KC179: 0 | KD179: 0 | KE179: 0 | KF179: 0 | KG179: 0 | KH179: 0 | KI179: 0 | KJ179: 0 | KK179: 3.5 | KL179: 7 | KM179: 5.5 | KN179: 12.5 | KO179: 10.5 | KP179: 2 | KQ179: 16.5 | KR179: 3.5 | KS179: 2 | KT179: 0.5 | KU179: 0 | KV179: 7.5 | KW179: 6 | KX179: 0 | KY179: 0.5 | KZ179: 3 | LA179: 12.5 | LB179: 0
A180: 43286.167 | B180: 0 | C180: 0 | D180: 0 | E180: 0 | F180: 0 | G180: 0 | H180: 0 | I180: 0 | J180: 1.5 | K180: 0 | L180: 0 | M180: 0 | N180: 0 | O180: 0 | P180: 0 | Q180: 2.5 | R180: 0 | S180: 0 | T180: 0 | U180: 0 | V180: 0 | W180: 0 | X180: 0 | Y180: 0 | Z180: 0 | AA180: 0 | AB180: 0 | AC180: 0 | AD180: 0 | AE180: 0 | AF180: 0 | AG180: 0 | AH180: 0 | AI180: 0 | AJ180: 0 | AK180: 0 | AL180: 0 | AM180: 0 | AN180: 0 | AO180: 0 | AP180: 0 | AQ180: 0 | AR180: 0 | AS180: 0 | AT180: 0 | AU180: 0 | AV180: 0 | AW180: 0 | AX180: 0 | AY180: 0 | AZ180: 0 | BA180: 0 | BB180: 0 | BC180: 0 | BD180: 0 | BE180: 0 | BF180: 0.5 | BG180: 0 | BH180: 0 | BI180: 0 | BJ180: 0.5 | BK180: 0 | BL180: 0 | BM180: 0 | BN180: 0 | BO180: 0 | BP180: 0 | BQ180: 0.5 | BR180: 0 | BS180: 0 | BT180: 1.5 | BU180: 0 | BV180: 0 | BW180: 0 | BX180: 0 | BY180: 2 | BZ180: 0 | CA180: 0.5 | CB180: 1.5 | CC180: 0.5 | CD180: 0 | CE180: 0 | CF180: 0 | CG180: 0 | CH180: 0 | CI180: 0 | CJ180: 0 | CK180: 0 | CL180: 0 | CM180: 0 | CN180: 0 | CO180: 0 | CP180: 0 | CQ180: 0 | CR180: 0 | CS180: 0 | CT180: 0 | CU180: 0 | CV180: 0 | CW180: 0 | CX180: 2.5 | CY180: 0 | CZ180: 0 | DA180: 0 | DB180: 0 | DC180: 0 | DD180: 0.5 | DE180: 0 | DF180: 0 | DG180: 2.5 | DH180: 0 | DI180: 1.5 | DJ180: 0 | DK180: 3 | DL180: 0 | DM180: 2 | DN180: 1 | DO180: 0 | DP180: 0 | DQ180: 0.5 | DR180: 0 | DS180: 0 | DT180: 1.5 | DU180: 0 | DV180: 0 | DW180: 0 | DX180: 0 | DY180: 0 | DZ180: 0 | EA180: 0 | EB180: 1 | EC180: 0 | ED180: 1 | EE180: 12.5 | EF180: 0 | EG180: 3 | EH180: 3 | EI180: 11 | EJ180: 5 | EK180: 7 | EL180: 2.5 | EM180: 0 | EN180: 2.5 | EO180: 8.5 | EP180: 8 | EQ180: 0 | ER180: 17.5 | ES180: 9 | ET180: 1 | EU180: 3 | EV180: 0 | EW180: 0 | EX180: 0 | EY180: 0 | EZ180: 18 | FA180: 3 | FB180: 0 | FC180: 22.5 | FD180: 0 | FE180: 5.5 | FF180: 3 | FG180: 0 | FH180: 11 | FI180: 1 | FJ180: 0 | FK180: 0.5 | FL180: 0 | FM180: 0 | FN180: 0 | FO180: 0 | FP180: 7 | FQ180: 9.5 | FR180: 9 | FS180: 9.5 | FT180: 8 | FU180: 4 | FV180: 6.5 | FW180: 9.5 | FX180: 12.5 | FY180: 4 | FZ180: 5 | GA180: 12.5 | GB180: 2.5 | GC180: 1.5 | GD180: 0 | GE180: 16.5 | GF180: 0 | GG180: 7.5 | GH180: 0 | GI180: 7 | GJ180: 3.5 | GK180: 0 | GL180: 4.5 | GM180: 7 | GN180: 0.5 | GO180: 0 | GP180: 0.5 | GQ180: 0 | GR180: 16.5 | GS180: 0 | GT180: 0 | GU180: 0.5 | GV180: 1 | GW180: 0 | GX180: 0 | GY180: 0 | GZ180: 0 | HA180: 0 | HB180: 0 | HC180: 1 | HD180: 0 | HE180: 1 | HF180: 0 | HG180: 0 | HH180: 0.5 | HI180: 0 | HJ180: 0 | HK180: 0 | HL180: 1.5 | HM180: 0 | HN180: 0 | HO180: 0.5 | HP180: 28.5 | HQ180: 1 | HR180: 16.5 | HS180: 3.5 | HT180: 12.5 | HU180: 0.5 | HV180: 3 | HW180: 18 | HX180: 12 | HY180: 5.5 | HZ180: 6.5 | IA180: 1 | IB180: 12.5 | IC180: 0 | ID180: 3.5 | IE180: 1 | IF180: 0 | IG180: 8.5 | IH180: 18.5 | II180: 2 | IJ180: 15 | IK180: 11 | IL180: 0 | IM180: 1.5 | IN180: 5.5 | IO180: 0 | IP180: 0.5 | IQ180: 0 | IR180: 0 | IS180: 5 | IT180: 0 | IU180: 0 | IV180: 0 | IW180: 0.5 | IX180: 0 | IY180: 0 | IZ180: 0 | JA180: 9 | JB180: 0 | JC180: 0 | JD180: 0 | JE180: 13.5 | JF180: 0 | JG180: 0 | JH180: 0 | JI180: 0 | JJ180: 0 | JK180: 0 | JL180: 0 | JM180: 0 | JN180: 0 | JO180: 0 | JP180: 0 | JQ180: 0 | JR180: 0 | JS180: 0 | JT180: 0 | JU180: 0 | JV180: 0 | JW180: 0 | JX180: 0 | JY180: 0 | JZ180: 0 | KA180: 0 | KB180: 0 | KC180: 0 | KD180: 0 | KE180: 0 | KF180: 0 | KG180: 0 | KH180: 0.5 | KI180: 0 | KJ180: 0 | KK180: 10.5 | KL180: 6.5 | KM180: 13 | KN180: 8 | KO180: 3 | KP180: 0 | KQ180: 2.5 | KR180: 1 | KS180: 0 | KT180: 3.5 | KU180: 5 | KV180: 0.5 | KW180: 2 | KX180: 5 | KY180: 16 | KZ180: 8 | LA180: 3 | LB180: 3.5
A181: 43286.208 | B181: 0 | C181: 0 | D181: 0 | E181: 0 | F181: 0 | G181: 0 | H181: 0 | I181: 0.5 | J181: 1.5 | K181: 0 | L181: 2.5 | M181: 0 | N181: 0 | O181: 0 | P181: 0 | Q181: 2.5 | R181: 0 | S181: 0 | T181: 0 | U181: 0 | V181: 0 | W181: 0 | X181: 0 | Y181: 0 | Z181: 0 | AA181: 0 | AB181: 2.5 | AC181: 0 | AD181: 0 | AE181: 0 | AF181: 0 | AG181: 0 | AH181: 0 | AI181: 0 | AJ181: 0 | AK181: 0 | AL181: 0 | AM181: 0 | AN181: 0 | AO181: 0 | AP181: 0 | AQ181: 0 | AR181: 0 | AS181: 0 | AT181: 0 | AU181: 0 | AV181: 0 | AW181: 0 | AX181: 0 | AY181: 0 | AZ181: 0 | BA181: 0 | BB181: 0 | BC181: 0 | BD181: 0.5 | BE181: 0 | BF181: 1 | BG181: 0 | BH181: 0 | BI181: 0 | BJ181: 0 | BK181: 0 | BL181: 0 | BM181: 0 | BN181: 0 | BO181: 0 | BP181: 4.5 | BQ181: 0 | BR181: 0 | BS181: 1.5 | BT181: 0 | BU181: 0 | BV181: 0 | BW181: 0 | BX181: 0 | BY181: 4.5 | BZ181: 0 | CA181: 1.5 | CB181: 0.5 | CC181: 1.5 | CD181: 0 | CE181: 0 | CF181: 0 | CG181: 0 | CH181: 0 | CI181: 0 | CJ181: 0 | CK181: 0 | CL181: 0 | CM181: 0 | CN181: 0 | CO181: 0 | CP181: 0 | CQ181: 0 | CR181: 0 | CS181: 0.5 | CT181: 0 | CU181: 0 | CV181: 0 | CW181: 0 | CX181: 2 | CY181: 0.5 | CZ181: 2 | DA181: 0 | DB181: 0 | DC181: 0 | DD181: 4 | DE181: 0 | DF181: 0 | DG181: 1.5 | DH181: 0 | DI181: 3 | DJ181: 0 | DK181: 5.5 | DL181: 0 | DM181: 3.5 | DN181: 0 | DO181: 0 | DP181: 0.5 | DQ181: 0 | DR181: 0.5 | DS181: 0 | DT181: 18.5 | DU181: 4.5 | DV181: 0 | DW181: 0 | DX181: 0 | DY181: 0 | DZ181: 0 | EA181: 0 | EB181: 3.5 | EC181: 0.5 | ED181: 2 | EE181: 8 | EF181: 0 | EG181: 1.5 | EH181: 1 | EI181: 6 | EJ181: 9.5 | EK181: 3 | EL181: 3 | EM181: 0 | EN181: 1.5 | EO181: 13 | EP181: 6 | EQ181: 0.5 | ER181: 6 | ES181: 2 | ET181: 4.5 | EU181: 9 | EV181: 0 | EW181: 0 | EX181: 0 | EY181: 0 | EZ181: 7 | FA181: 4.5 | FB181: 0.5 | FC181: 52.5 | FD181: 0 | FE181: 1 | FF181: 4 | FG181: 0 | FH181: 2 | FI181: 3 | FJ181: 0.5 | FK181: 2 | FL181: 0 | FM181: 0 | FN181: 0 | FO181: 0 | FP181: 24 | FQ181: 10.5 | FR181: 8 | FS181: 13 | FT181: 8.5 | FU181: 5 | FV181: 1.5 | FW181: 1 | FX181: 4 | FY181: 4.5 | FZ181: 4 | GA181: 11 | GB181: 0.5 | GC181: 4.5 | GD181: 0 | GE181: 8 | GF181: 0 | GG181: 6 | GH181: 0.5 | GI181: 0 | GJ181: 0.5 | GK181: 3.5 | GL181: 16 | GM181: 15.5 | GN181: 1 | GO181: 0.5 | GP181: 0 | GQ181: 0 | GR181: 10 | GS181: 0 | GT181: 0 | GU181: 0 | GV181: 0 | GW181: 0.5 | GX181: 0 | GY181: 0.5 | GZ181: 0 | HA181: 0.5 | HB181: 1 | HC181: 3.5 | HD181: 0 | HE181: 1 | HF181: 0 | HG181: 0 | HH181: 1 | HI181: 1.5 | HJ181: 0 | HK181: 0 | HL181: 3.5 | HM181: 0 | HN181: 0 | HO181: 9 | HP181: 32.5 | HQ181: 5 | HR181: 16.5 | HS181: 7.5 | HT181: 4.5 | HU181: 0 | HV181: 14.5 | HW181: 19 | HX181: 3 | HY181: 0 | HZ181: 2.5 | IA181: 0 | IB181: 0.5 | IC181: 0 | ID181: 7 | IE181: 0.5 | IF181: 11 | IG181: 29 | IH181: 5 | II181: 1 | IJ181: 7 | IK181: 15 | IL181: 3.5 | IM181: 3.5 | IN181: 0 | IO181: 0 | IP181: 0 | IQ181: 0 | IR181: 1.5 | IS181: 2.5 | IT181: 0 | IU181: 0 | IV181: 0 | IW181: 1 | IX181: 0 | IY181: 0 | IZ181: 0 | JA181: 0 | JB181: 0 | JC181: 0 | JD181: 0 | JE181: 1.5 | JF181: 0 | JG181: 0 | JH181: 0 | JI181: 0 | JJ181: 0 | JK181: 0 | JL181: 0 | JM181: 0 | JN181: 0 | JO181: 0 | JP181: 0 | JQ181: 0 | JR181: 0 | JS181: 0 | JT181: 0 | JU181: 0 | JV181: 0 | JW181: 0 | JX181: 0 | JY181: 0 | JZ181: 1 | KA181: 0 | KB181: 0 | KC181: 0 | KD181: 0 | KE181: 0 | KF181: 0 | KG181: 0 | KH181: 0 | KI181: 0 | KJ181: 0 | KK181: 1 | KL181: 0.5 | KM181: 1.5 | KN181: 0 | KO181: 5 | KP181: 5.5 | KQ181: 0 | KR181: 0 | KS181: 3.5 | KT181: 1 | KU181: 9.5 | KV181: 8.5 | KW181: 4 | KX181: 5 | KY181: 21.5 | KZ181: 8.5 | LA181: 4 | LB181: 5
A182: 43286.25 | B182: 0 | C182: 0 | D182: 0 | E182: 0 | F182: 0 | G182: 1.5 | H182: 0 | I182: 0.5 | J182: 3.5 | K182: 0 | L182: 2.5 | M182: 7.5 | N182: 0 | O182: 0 | P182: 0 | Q182: 0 | R182: 0 | S182: 0 | T182: 0 | U182: 0 | V182: 0 | W182: 0 | X182: 2 | Y182: 0 | Z182: 0 | AA182: 0 | AB182: 0 | AC182: 0 | AD182: 0 | AE182: 0 | AF182: 0 | AG182: 0 | AH182: 0 | AI182: 0 | AJ182: 0 | AK182: 0 | AL182: 0 | AM182: 0 | AN182: 0 | AO182: 0 | AP182: 6.5 | AQ182: 0 | AR182: 0 | AS182: 0 | AT182: 0 | AU182: 0 | AV182: 0 | AW182: 0 | AX182: 0 | AY182: 0 | AZ182: 0 | BA182: 0 | BB182: 0 | BC182: 0.5 | BD182: 0 | BE182: 0 | BF182: 1.5 | BG182: 0 | BH182: 0 | BI182: 0 | BJ182: 0 | BK182: 0 | BL182: 0 | BM182: 0 | BN182: 0 | BO182: 0 | BP182: 16.5 | BQ182: 0 | BR182: 0.5 | BS182: 1 | BT182: 0 | BU182: 0 | BV182: 0.5 | BW182: 6.5 | BX182: 0 | BY182: 5.5 | BZ182: 0 | CA182: 1 | CB182: 3 | CC182: 1 | CD182: 0.5 | CE182: 0 | CF182: 0.5 | CG182: 0 | CH182: 0 | CI182: 0 | CJ182: 0 | CK182: 0.5 | CL182: 0 | CM182: 0 | CN182: 0 | CO182: 0 | CP182: 0 | CQ182: 0 | CR182: 0.5 | CS182: 0 | CT182: 0 | CU182: 0 | CV182: 0 | CW182: 0 | CX182: 3 | CY182: 0 | CZ182: 0.5 | DA182: 3 | DB182: 0 | DC182: 0.5 | DD182: 0.5 | DE182: 10 | DF182: 0 | DG182: 0 | DH182: 0 | DI182: 0.5 | DJ182: 0 | DK182: 0.5 | DL182: 0 | DM182: 0 | DN182: 2 | DO182: 0 | DP182: 0 | DQ182: 0 | DR182: 0.5 | DS182: 0 | DT182: 3 | DU182: 4.5 | DV182: 0 | DW182: 0 | DX182: 0 | DY182: 0 | DZ182: 0 | EA182: 0.5 | EB182: 1.5 | EC182: 0 | ED182: 0 | EE182: 3.5 | EF182: 1 | EG182: 0 | EH182: 0 | EI182: 2 | EJ182: 6.5 | EK182: 4.5 | EL182: 1 | EM182: 0 | EN182: 0.5 | EO182: 4 | EP182: 7.5 | EQ182: 0 | ER182: 3 | ES182: 6 | ET182: 8.5 | EU182: 8 | EV182: 0 | EW182: 0 | EX182: 0 | EY182: 0 | EZ182: 3.5 | FA182: 5.5 | FB182: 4.5 | FC182: 5 | FD182: 0 | FE182: 1.5 | FF182: 8.5 | FG182: 1 | FH182: 3 | FI182: 2 | FJ182: 0.5 | FK182: 1.5 | FL182: 0 | FM182: 1 | FN182: 1.5 | FO182: 7 | FP182: 12 | FQ182: 8.5 | FR182: 12.5 | FS182: 8 | FT182: 4.5 | FU182: 2.5 | FV182: 1 | FW182: 0.5 | FX182: 6.5 | FY182: 4.5 | FZ182: 4.5 | GA182: 6.5 | GB182: 1.5 | GC182: 3 | GD182: 2 | GE182: 12 | GF182: 7.5 | GG182: 5.5 | GH182: 3 | GI182: 5.5 | GJ182: 2 | GK182: 14.5 | GL182: 4 | GM182: 8.5 | GN182: 4.5 | GO182: 6.5 | GP182: 10 | GQ182: 0.5 | GR182: 12 | GS182: 0 | GT182: 0.5 | GU182: 1 | GV182: 6.5 | GW182: 0 | GX182: 1 | GY182: 4.5 | GZ182: 0 | HA182: 0.5 | HB182: 5 | HC182: 4 | HD182: 0 | HE182: 0 | HF182: 3 | HG182: 1.5 | HH182: 0.5 | HI182: 1 | HJ182: 0.5 | HK182: 7.5 | HL182: 1 | HM182: 0 | HN182: 0 | HO182: 6.5 | HP182: 14 | HQ182: 2.5 | HR182: 4 | HS182: 3 | HT182: 1.5 | HU182: 3 | HV182: 0 | HW182: 0 | HX182: 0.5 | HY182: 0 | HZ182: 0 | IA182: 2.5 | IB182: 1 | IC182: 1 | ID182: 0.5 | IE182: 1.5 | IF182: 8 | IG182: 35.5 | IH182: 1 | II182: 0.5 | IJ182: 6.5 | IK182: 32 | IL182: 10 | IM182: 10.5 | IN182: 3 | IO182: 0 | IP182: 1.5 | IQ182: 0 | IR182: 4.5 | IS182: 2.5 | IT182: 0 | IU182: 0 | IV182: 0 | IW182: 2.5 | IX182: 0 | IY182: 0 | IZ182: 0 | JA182: 0 | JB182: 0 | JC182: 0 | JD182: 0 | JE182: 4.5 | JF182: 0 | JG182: 0 | JH182: 0 | JI182: 0 | JJ182: 0 | JK182: 0 | JL182: 0 | JM182: 0 | JN182: 0 | JO182: 5 | JP182: 0 | JQ182: 0 | JR182: 0 | JS182: 0 | JT182: 0 | JU182: 0 | JV182: 0 | JW182: 0.5 | JX182: 1.5 | JY182: 0 | JZ182: 4 | KA182: 0 | KB182: 0 | KC182: 1 | KD182: 0 | KE182: 0 | KF182: 0 | KG182: 0 | KH182: 0 | KI182: 0 | KJ182: 0 | KK182: 0.5 | KL182: 0 | KM182: 0 | KN182: 0 | KO182: 16.5 | KP182: 17 | KQ182: 1.5 | KR182: 6 | KS182: 11.5 | KT182: 0.5 | KU182: 2 | KV182: 19 | KW182: 4 | KX182: 2.5 | KY182: 7.5 | KZ182: 9.5 | LA182: 6.5 | LB182: 0
A183: 43286.292 | B183: 0 | C183: 0 | D183: 0 | E183: 0 | F183: 0 | G183: 0 | H183: 1 | I183: 0 | J183: 7 | K183: 0 | L183: 6 | M183: 16 | N183: 0 | O183: 0 | P183: 0 | Q183: 0 | R183: 0 | S183: 0 | T183: 0 | U183: 0 | V183: 1 | W183: 0 | X183: 0 | Y183: 0 | Z183: 0 | AA183: 0.5 | AB183: 0 | AC183: 0 | AD183: 0 | AE183: 0.5 | AF183: 0 | AG183: 0 | AH183: 0 | AI183: 0 | AJ183: 0 | AK183: 1 | AL183: 0.5 | AM183: 0 | AN183: 3 | AO183: 7 | AP183: 3 | AQ183: 0 | AR183: 1 | AS183: 0 | AT183: 0.5 | AU183: 0 | AV183: 0 | AW183: 1 | AX183: 0 | AY183: 0 | AZ183: 1 | BA183: 0 | BB183: 0 | BC183: 6 | BD183: 1.5 | BE183: 0 | BF183: 5.5 | BG183: 0 | BH183: 1.5 | BI183: 0 | BJ183: 0 | BK183: 0.5 | BL183: 0 | BM183: 0 | BN183: 0 | BO183: 0 | BP183: 5 | BQ183: 0 | BR183: 0 | BS183: 1 | BT183: 0 | BU183: 0.5 | BV183: 1 | BW183: 15.5 | BX183: 0 | BY183: 14.5 | BZ183: 0 | CA183: 6 | CB183: 1 | CC183: 0 | CD183: 0 | CE183: 2 | CF183: 0 | CG183: 0 | CH183: 0 | CI183: 0 | CJ183: 0 | CK183: 1.5 | CL183: 0 | CM183: 6 | CN183: 7 | CO183: 0 | CP183: 1 | CQ183: 0.5 | CR183: 3.5 | CS183: 0.5 | CT183: 0.5 | CU183: 0 | CV183: 0 | CW183: 1 | CX183: 0 | CY183: 8.5 | CZ183: 0 | DA183: 17.5 | DB183: 0 | DC183: 9 | DD183: 0 | DE183: 9.5 | DF183: 0 | DG183: 0 | DH183: 0 | DI183: 0.5 | DJ183: 0 | DK183: 0 | DL183: 0 | DM183: 0 | DN183: 8.5 | DO183: 0 | DP183: 0 | DQ183: 0 | DR183: 0 | DS183: 0 | DT183: 1.5 | DU183: 2.5 | DV183: 0 | DW183: 0.5 | DX183: 0 | DY183: 0 | DZ183: 1.5 | EA183: 1 | EB183: 0 | EC183: 0 | ED183: 0.5 | EE183: 1 | EF183: 0.5 | EG183: 0 | EH183: 0.5 | EI183: 6 | EJ183: 9 | EK183: 5 | EL183: 0.5 | EM183: 4 | EN183: 1.5 | EO183: 3 | EP183: 13 | EQ183: 0 | ER183: 4.5 | ES183: 8 | ET183: 13 | EU183: 15.5 | EV183: 0 | EW183: 0 | EX183: 0 | EY183: 0.5 | EZ183: 1.5 | FA183: 3.5 | FB183: 8.5 | FC183: 3 | FD183: 0 | FE183: 0.5 | FF183: 11 | FG183: 0.5 | FH183: 0.5 | FI183: 1 | FJ183: 0.5 | FK183: 0 | FL183: 0.5 | FM183: 3.5 | FN183: 7.5 | FO183: 2 | FP183: 9 | FQ183: 8 | FR183: 15 | FS183: 3.5 | FT183: 2.5 | FU183: 1.5 | FV183: 0.5 | FW183: 1 | FX183: 8 | FY183: 9 | FZ183: 5.5 | GA183: 4.5 | GB183: 1 | GC183: 9.5 | GD183: 9 | GE183: 6.5 | GF183: 5.5 | GG183: 7 | GH183: 2.5 | GI183: 0.5 | GJ183: 1 | GK183: 2 | GL183: 3 | GM183: 3.5 | GN183: 1.5 | GO183: 4 | GP183: 3 | GQ183: 9 | GR183: 8 | GS183: 0.5 | GT183: 0 | GU183: 2 | GV183: 2 | GW183: 0 | GX183: 0 | GY183: 6.5 | GZ183: 0 | HA183: 0 | HB183: 0.5 | HC183: 1.5 | HD183: 1 | HE183: 3.5 | HF183: 1 | HG183: 6 | HH183: 1.5 | HI183: 4.5 | HJ183: 0.5 | HK183: 2.5 | HL183: 8 | HM183: 1.5 | HN183: 0 | HO183: 2.5 | HP183: 7 | HQ183: 0 | HR183: 6 | HS183: 0.5 | HT183: 1 | HU183: 3.5 | HV183: 3 | HW183: 1 | HX183: 3 | HY183: 0 | HZ183: 5.5 | IA183: 1 | IB183: 7.5 | IC183: 0 | ID183: 2.5 | IE183: 11 | IF183: 0.5 | IG183: 3.5 | IH183: 3 | II183: 2 | IJ183: 1.5 | IK183: 11.5 | IL183: 4.5 | IM183: 1.5 | IN183: 2.5 | IO183: 0 | IP183: 3.5 | IQ183: 0 | IR183: 0 | IS183: 23.5 | IT183: 0 | IU183: 0 | IV183: 0 | IW183: 0 | IX183: 0 | IY183: 0 | IZ183: 0 | JA183: 0 | JB183: 0 | JC183: 0 | JD183: 0 | JE183: 7.5 | JF183: 0 | JG183: 0 | JH183: 0 | JI183: 0 | JJ183: 0 | JK183: 0 | JL183: 0 | JM183: 0 | JN183: 0 | JO183: 28.5 | JP183: 5.5 | JQ183: 0 | JR183: 0 | JS183: 0.5 | JT183: 0 | JU183: 0 | JV183: 0 | JW183: 1.5 | JX183: 4 | JY183: 5 | JZ183: 0 | KA183: 0 | KB183: 0 | KC183: 3 | KD183: 0 | KE183: 0 | KF183: 0 | KG183: 0 | KH183: 0 | KI183: 0 | KJ183: 0 | KK183: 1 | KL183: 3 | KM183: 2 | KN183: 6.5 | KO183: 5.5 | KP183: 5 | KQ183: 9.5 | KR183: 5 | KS183: 5 | KT183: 6.5 | KU183: 0 | KV183: 4 | KW183: 13.5 | KX183: 0 | KY183: 12 | KZ183: 4.5 | LA183: 5.5 | LB183: 0.5
A184: 43286.333 | B184: 0 | C184: 0 | D184: 0 | E184: 1 | F184: 2.5 | G184: 0 | H184: 2.5 | I184: 0.5 | J184: 6 | K184: 0 | L184: 0.5 | M184: 7.5 | N184: 0.5 | O184: 0.5 | P184: 0 | Q184: 0 | R184: 0 | S184: 0 | T184: 0 | U184: 1 | V184: 1.5 | W184: 0 | X184: 1 | Y184: 0.5 | Z184: 1 | AA184: 1 | AB184: 3.5 | AC184: 0 | AD184: 2 | AE184: 0 | AF184: 0 | AG184: 3 | AH184: 0 | AI184: 0 | AJ184: 0 | AK184: 4 | AL184: 6.5 | AM184: 3 | AN184: 4 | AO184: 3 | AP184: 2.5 | AQ184: 0 | AR184: 6.5 | AS184: 5 | AT184: 0 | AU184: 0 | AV184: 0 | AW184: 0.5 | AX184: 0 | AY184: 0 | AZ184: 0 | BA184: 3 | BB184: 0 | BC184: 2.5 | BD184: 8 | BE184: 0 | BF184: 14 | BG184: 0 | BH184: 0 | BI184: 1.5 | BJ184: 0 | BK184: 0.5 | BL184: 0 | BM184: 0 | BN184: 0 | BO184: 0 | BP184: 3 | BQ184: 0.5 | BR184: 1.5 | BS184: 2 | BT184: 5 | BU184: 0 | BV184: 4 | BW184: 12.5 | BX184: 0.5 | BY184: 4 | BZ184: 0 | CA184: 2.5 | CB184: 4.5 | CC184: 5.5 | CD184: 1.5 | CE184: 0 | CF184: 0 | CG184: 0 | CH184: 0 | CI184: 0.5 | CJ184: 0 | CK184: 6 | CL184: 0.5 | CM184: 27 | CN184: 8 | CO184: 0 | CP184: 4.5 | CQ184: 4.5 | CR184: 3.5 | CS184: 1.5 | CT184: 3.5 | CU184: 0 | CV184: 0 | CW184: 0 | CX184: 0 | CY184: 4.5 | CZ184: 0.5 | DA184: 8 | DB184: 0 | DC184: 0 | DD184: 0 | DE184: 0 | DF184: 0 | DG184: 0 | DH184: 0 | DI184: 0 | DJ184: 0.5 | DK184: 0 | DL184: 0 | DM184: 0 | DN184: 12 | DO184: 0 | DP184: 0 | DQ184: 0 | DR184: 0 | DS184: 0 | DT184: 0 | DU184: 1.5 | DV184: 1 | DW184: 2 | DX184: 1 | DY184: 10 | DZ184: 5 | EA184: 1 | EB184: 1 | EC184: 2.5 | ED184: 9 | EE184: 4 | EF184: 0 | EG184: 0.5 | EH184: 0 | EI184: 6 | EJ184: 10.5 | EK184: 10.5 | EL184: 1 | EM184: 9 | EN184: 0.5 | EO184: 7.5 | EP184: 6 | EQ184: 3 | ER184: 5.5 | ES184: 7.5 | ET184: 27.5 | EU184: 23 | EV184: 0 | EW184: 0.5 | EX184: 0.5 | EY184: 4 | EZ184: 3 | FA184: 17 | FB184: 11.5 | FC184: 5.5 | FD184: 0 | FE184: 0 | FF184: 24.5 | FG184: 0.5 | FH184: 1.5 | FI184: 1 | FJ184: 3 | FK184: 1 | FL184: 6 | FM184: 1 | FN184: 1.5 | FO184: 3.5 | FP184: 2.5 | FQ184: 9.5 | FR184: 10 | FS184: 4.5 | FT184: 7 | FU184: 9.5 | FV184: 3 | FW184: 4 | FX184: 23 | FY184: 10.5 | FZ184: 12 | GA184: 14.5 | GB184: 3.5 | GC184: 10.5 | GD184: 1.5 | GE184: 3.5 | GF184: 3.5 | GG184: 6.5 | GH184: 1.5 | GI184: 1.5 | GJ184: 1 | GK184: 1.5 | GL184: 6 | GM184: 4 | GN184: 0 | GO184: 1.5 | GP184: 0.5 | GQ184: 1.5 | GR184: 20 | GS184: 1.5 | GT184: 0 | GU184: 0 | GV184: 0.5 | GW184: 0 | GX184: 2 | GY184: 0.5 | GZ184: 3 | HA184: 3.5 | HB184: 3.5 | HC184: 8 | HD184: 3.5 | HE184: 6.5 | HF184: 6.5 | HG184: 0 | HH184: 2 | HI184: 8 | HJ184: 0 | HK184: 0 | HL184: 11 | HM184: 3 | HN184: 0 | HO184: 5 | HP184: 10 | HQ184: 5 | HR184: 3 | HS184: 5 | HT184: 8.5 | HU184: 0.5 | HV184: 11 | HW184: 0.5 | HX184: 11.5 | HY184: 0 | HZ184: 7.5 | IA184: 3 | IB184: 3 | IC184: 0 | ID184: 4.5 | IE184: 0.5 | IF184: 1.5 | IG184: 9.5 | IH184: 2 | II184: 4 | IJ184: 4.5 | IK184: 9.5 | IL184: 1 | IM184: 2.5 | IN184: 2 | IO184: 0 | IP184: 1.5 | IQ184: 0 | IR184: 1.5 | IS184: 11 | IT184: 0 | IU184: 0 | IV184: 0 | IW184: 0 | IX184: 0 | IY184: 0 | IZ184: 0 | JA184: 0 | JB184: 0 | JC184: 0 | JD184: 0 | JE184: 0 | JF184: 0 | JG184: 0 | JH184: 0 | JI184: 0 | JJ184: 0 | JK184: 0 | JL184: 7.5 | JM184: 0 | JN184: 19.5 | JO184: 0 | JP184: 37 | JQ184: 0.5 | JR184: 0 | JS184: 0.5 | JT184: 0 | JU184: 1 | JV184: 3 | JW184: 1 | JX184: 14.5 | JY184: 9.5 | JZ184: 0.5 | KA184: 0 | KB184: 0 | KC184: 3 | KD184: 1 | KE184: 0 | KF184: 0 | KG184: 0 | KH184: 4 | KI184: 0 | KJ184: 0 | KK184: 2.5 | KL184: 3.5 | KM184: 3.5 | KN184: 2.5 | KO184: 2 | KP184: 3.5 | KQ184: 0 | KR184: 2 | KS184: 5 | KT184: 2 | KU184: 0.5 | KV184: 1 | KW184: 3.5 | KX184: 0 | KY184: 1.5 | KZ184: 2.5 | LA184: 8 | LB184: 1
A185: 43286.375 | B185: 0 | C185: 0.5 | D185: 0.5 | E185: 2.5 | F185: 3 | G185: 0 | H185: 1 | I185: 0 | J185: 8 | K185: 0 | L185: 2 | M185: 6 | N185: 0 | O185: 0 | P185: 0 | Q185: 1 | R185: 0.5 | S185: 0 | T185: 0.5 | U185: 7.5 | V185: 0 | W185: 0.5 | X185: 1 | Y185: 4.5 | Z185: 7 | AA185: 0.5 | AB185: 6.5 | AC185: 0.5 | AD185: 1 | AE185: 0.5 | AF185: 0 | AG185: 19 | AH185: 0.5 | AI185: 0 | AJ185: 0 | AK185: 3.5 | AL185: 4 | AM185: 2.5 | AN185: 3.5 | AO185: 4 | AP185: 13.5 | AQ185: 0 | AR185: 3.5 | AS185: 9.5 | AT185: 0.5 | AU185: 0 | AV185: 9.5 | AW185: 0 | AX185: 0.5 | AY185: 0 | AZ185: 2 | BA185: 1 | BB185: 0.5 | BC185: 3.5 | BD185: 5.5 | BE185: 0 | BF185: 9 | BG185: 0.5 | BH185: 0.5 | BI185: 0 | BJ185: 0 | BK185: 0.5 | BL185: 0.5 | BM185: 1.5 | BN185: 2 | BO185: 7.5 | BP185: 11.5 | BQ185: 0 | BR185: 0 | BS185: 1.5 | BT185: 6.5 | BU185: 1 | BV185: 9.5 | BW185: 0.5 | BX185: 1 | BY185: 1 | BZ185: 0 | CA185: 1 | CB185: 5 | CC185: 2 | CD185: 2 | CE185: 1 | CF185: 2 | CG185: 2.5 | CH185: 2 | CI185: 3.5 | CJ185: 11.5 | CK185: 19 | CL185: 6 | CM185: 29 | CN185: 14.5 | CO185: 5 | CP185: 3.5 | CQ185: 7 | CR185: 2.5 | CS185: 3 | CT185: 1.5 | CU185: 3.5 | CV185: 1 | CW185: 4 | CX185: 0 | CY185: 9 | CZ185: 0 | DA185: 4.5 | DB185: 3 | DC185: 0 | DD185: 4.5 | DE185: 0 | DF185: 0 | DG185: 9 | DH185: 0.5 | DI185: 1 | DJ185: 0.5 | DK185: 3 | DL185: 4.5 | DM185: 0 | DN185: 3 | DO185: 0 | DP185: 0 | DQ185: 8 | DR185: 0 | DS185: 2.5 | DT185: 0 | DU185: 0 | DV185: 2 | DW185: 4.5 | DX185: 4.5 | DY185: 4 | DZ185: 8 | EA185: 1.5 | EB185: 0.5 | EC185: 3 | ED185: 0.5 | EE185: 4.5 | EF185: 0.5 | EG185: 0.5 | EH185: 2 | EI185: 3 | EJ185: 17.5 | EK185: 18.5 | EL185: 1 | EM185: 12 | EN185: 0 | EO185: 3 | EP185: 10.5 | EQ185: 3.5 | ER185: 3.5 | ES185: 10 | ET185: 11.5 | EU185: 26 | EV185: 2 | EW185: 2 | EX185: 14.5 | EY185: 1 | EZ185: 3 | FA185: 7.5 | FB185: 6 | FC185: 3.5 | FD185: 1.5 | FE185: 1.5 | FF185: 13 | FG185: 1.5 | FH185: 0.5 | FI185: 1 | FJ185: 0 | FK185: 0.5 | FL185: 21.5 | FM185: 0 | FN185: 0.5 | FO185: 6 | FP185: 9 | FQ185: 9.5 | FR185: 15 | FS185: 8 | FT185: 7 | FU185: 7 | FV185: 5 | FW185: 5 | FX185: 7 | FY185: 5 | FZ185: 5 | GA185: 6.5 | GB185: 5 | GC185: 9.5 | GD185: 1 | GE185: 8 | GF185: 13 | GG185: 26 | GH185: 3 | GI185: 0 | GJ185: 0 | GK185: 3.5 | GL185: 10.5 | GM185: 15 | GN185: 2 | GO185: 10 | GP185: 2 | GQ185: 0.5 | GR185: 8.5 | GS185: 0.5 | GT185: 4 | GU185: 0.5 | GV185: 0.5 | GW185: 5 | GX185: 10 | GY185: 8.5 | GZ185: 1.5 | HA185: 7.5 | HB185: 12.5 | HC185: 19.5 | HD185: 4.5 | HE185: 4 | HF185: 2 | HG185: 6 | HH185: 2.5 | HI185: 11.5 | HJ185: 3 | HK185: 2 | HL185: 21 | HM185: 4.5 | HN185: 3 | HO185: 21 | HP185: 21.5 | HQ185: 9 | HR185: 3.5 | HS185: 6 | HT185: 4 | HU185: 0.5 | HV185: 6 | HW185: 0 | HX185: 7 | HY185: 0 | HZ185: 4.5 | IA185: 1.5 | IB185: 1.5 | IC185: 0.5 | ID185: 4.5 | IE185: 0 | IF185: 4.5 | IG185: 9.5 | IH185: 3.5 | II185: 3.5 | IJ185: 3 | IK185: 14 | IL185: 9 | IM185: 1.5 | IN185: 1 | IO185: 0 | IP185: 1 | IQ185: 0 | IR185: 0.5 | IS185: 6 | IT185: 7 | IU185: 2 | IV185: 0 | IW185: 3 | IX185: 10.5 | IY185: 1 | IZ185: 0.5 | JA185: 2.5 | JB185: 0 | JC185: 0 | JD185: 0 | JE185: 1 | JF185: 0 | JG185: 0 | JH185: 0 | JI185: 0 | JJ185: 0.5 | JK185: 13 | JL185: 10.5 | JM185: 2 | JN185: 14 | JO185: 8 | JP185: 4.5 | JQ185: 13 | JR185: 4 | JS185: 0 | JT185: 0 | JU185: 8 | JV185: 3.5 | JW185: 0.5 | JX185: 9.5 | JY185: 1 | JZ185: 14.5 | KA185: 0 | KB185: 1 | KC185: 0.5 | KD185: 0 | KE185: 10 | KF185: 0 | KG185: 0 | KH185: 0.5 | KI185: 0 | KJ185: 0 | KK185: 4.5 | KL185: 7 | KM185: 0.5 | KN185: 2.5 | KO185: 2 | KP185: 2 | KQ185: 0.5 | KR185: 6 | KS185: 7.5 | KT185: 2.5 | KU185: 0 | KV185: 2.5 | KW185: 9.5 | KX185: 0 | KY185: 5 | KZ185: 2 | LA185: 7 | LB185: 0.5
A186: 43286.417 | B186: 0 | C186: 0 | D186: 1.5 | E186: 1 | F186: 0 | G186: 0 | H186: 8 | I186: 2 | J186: 3 | K186: 0 | L186: 0 | M186: 1.5 | N186: 0.5 | O186: 0 | P186: 0 | Q186: 3.5 | R186: 0 | S186: 0 | T186: 0 | U186: 0.5 | V186: 0 | W186: 0 | X186: 4 | Y186: 6 | Z186: 2.5 | AA186: 19 | AB186: 3.5 | AC186: 2.5 | AD186: 6 | AE186: 20 | AF186: 0 | AG186: 13 | AH186: 1 | AI186: 0 | AJ186: 1 | AK186: 5 | AL186: 10 | AM186: 10.5 | AN186: 13.5 | AO186: 24 | AP186: 20.5 | AQ186: 0 | AR186: 4.5 | AS186: 3.5 | AT186: 0.5 | AU186: 0.5 | AV186: 7.5 | AW186: 1.5 | AX186: 0.5 | AY186: 0 | AZ186: 0.5 | BA186: 0.5 | BB186: 0 | BC186: 3 | BD186: 0 | BE186: 0.5 | BF186: 4.5 | BG186: 0 | BH186: 5.5 | BI186: 1 | BJ186: 6.5 | BK186: 4 | BL186: 4.5 | BM186: 7.5 | BN186: 11.5 | BO186: 4.5 | BP186: 0.5 | BQ186: 1.5 | BR186: 0.5 | BS186: 1 | BT186: 1 | BU186: 7 | BV186: 1.5 | BW186: 11.5 | BX186: 0 | BY186: 3 | BZ186: 3 | CA186: 0 | CB186: 1 | CC186: 0.5 | CD186: 0 | CE186: 0.5 | CF186: 10 | CG186: 5 | CH186: 22.5 | CI186: 2.5 | CJ186: 2.5 | CK186: 25 | CL186: 9 | CM186: 8.5 | CN186: 8 | CO186: 9 | CP186: 6.5 | CQ186: 13 | CR186: 1.5 | CS186: 1.5 | CT186: 2.5 | CU186: 8 | CV186: 6 | CW186: 2.5 | CX186: 2.5 | CY186: 1.5 | CZ186: 1.5 | DA186: 1 | DB186: 10.5 | DC186: 1 | DD186: 7.5 | DE186: 0.5 | DF186: 1 | DG186: 2 | DH186: 0.5 | DI186: 0.5 | DJ186: 1.5 | DK186: 0.5 | DL186: 2.5 | DM186: 6 | DN186: 1 | DO186: 2.5 | DP186: 1 | DQ186: 1 | DR186: 3.5 | DS186: 5.5 | DT186: 2 | DU186: 1.5 | DV186: 3 | DW186: 6 | DX186: 1.5 | DY186: 2.5 | DZ186: 7.5 | EA186: 1 | EB186: 0.5 | EC186: 0.5 | ED186: 0 | EE186: 6 | EF186: 0.5 | EG186: 2 | EH186: 6.5 | EI186: 9 | EJ186: 25 | EK186: 5.5 | EL186: 2 | EM186: 13.5 | EN186: 1.5 | EO186: 8.5 | EP186: 11 | EQ186: 3 | ER186: 6 | ES186: 5 | ET186: 10.5 | EU186: 15 | EV186: 2 | EW186: 2.5 | EX186: 7.5 | EY186: 1 | EZ186: 4 | FA186: 6.5 | FB186: 2 | FC186: 7 | FD186: 2 | FE186: 0 | FF186: 10.5 | FG186: 1 | FH186: 1 | FI186: 2 | FJ186: 0.5 | FK186: 0.5 | FL186: 16 | FM186: 2.5 | FN186: 10.5 | FO186: 11 | FP186: 5.5 | FQ186: 7 | FR186: 8.5 | FS186: 6.5 | FT186: 7.5 | FU186: 5 | FV186: 3.5 | FW186: 3 | FX186: 4.5 | FY186: 5.5 | FZ186: 5 | GA186: 9.5 | GB186: 4 | GC186: 3 | GD186: 3.5 | GE186: 8.5 | GF186: 7 | GG186: 2.5 | GH186: 16 | GI186: 1.5 | GJ186: 3 | GK186: 4.5 | GL186: 8.5 | GM186: 9.5 | GN186: 4.5 | GO186: 14.5 | GP186: 7 | GQ186: 9.5 | GR186: 11 | GS186: 6 | GT186: 4 | GU186: 6.5 | GV186: 9.5 | GW186: 6.5 | GX186: 3 | GY186: 18 | GZ186: 4 | HA186: 6 | HB186: 4.5 | HC186: 8.5 | HD186: 9 | HE186: 6 | HF186: 1.5 | HG186: 8 | HH186: 6 | HI186: 16 | HJ186: 6.5 | HK186: 11 | HL186: 9 | HM186: 5 | HN186: 5 | HO186: 15.5 | HP186: 18 | HQ186: 1.5 | HR186: 5 | HS186: 2.5 | HT186: 1.5 | HU186: 0 | HV186: 6 | HW186: 0 | HX186: 5 | HY186: 0 | HZ186: 3.5 | IA186: 0.5 | IB186: 0 | IC186: 1 | ID186: 3 | IE186: 0 | IF186: 4 | IG186: 13 | IH186: 3.5 | II186: 1.5 | IJ186: 1.5 | IK186: 14.5 | IL186: 6.5 | IM186: 0.5 | IN186: 0 | IO186: 4.5 | IP186: 1 | IQ186: 0 | IR186: 2.5 | IS186: 0.5 | IT186: 4 | IU186: 10 | IV186: 0 | IW186: 6.5 | IX186: 4 | IY186: 4 | IZ186: 1 | JA186: 1 | JB186: 1.5 | JC186: 0.5 | JD186: 0 | JE186: 0 | JF186: 4 | JG186: 0.5 | JH186: 0 | JI186: 0 | JJ186: 6.5 | JK186: 10.5 | JL186: 7.5 | JM186: 3.5 | JN186: 1 | JO186: 0.5 | JP186: 0.5 | JQ186: 4 | JR186: 0 | JS186: 1 | JT186: 2.5 | JU186: 0.5 | JV186: 4.5 | JW186: 1.5 | JX186: 15.5 | JY186: 4 | JZ186: 1.5 | KA186: 0 | KB186: 9 | KC186: 1.5 | KD186: 4 | KE186: 8 | KF186: 0 | KG186: 0.5 | KH186: 0 | KI186: 2.5 | KJ186: 0 | KK186: 10 | KL186: 4.5 | KM186: 5 | KN186: 12.5 | KO186: 1 | KP186: 7 | KQ186: 16 | KR186: 5.5 | KS186: 6 | KT186: 1 | KU186: 0 | KV186: 4 | KW186: 8 | KX186: 0 | KY186: 9.5 | KZ186: 7 | LA186: 6 | LB186: 0
A187: 43286.458 | B187: 1.5 | C187: 0.5 | D187: 3.5 | E187: 2 | F187: 0 | G187: 6.5 | H187: 2 | I187: 0 | J187: 0.5 | K187: 0 | L187: 1.5 | M187: 0 | N187: 6 | O187: 0 | P187: 0 | Q187: 0 | R187: 0 | S187: 1 | T187: 0 | U187: 0 | V187: 0 | W187: 5.5 | X187: 2.5 | Y187: 0 | Z187: 0 | AA187: 4.5 | AB187: 3 | AC187: 8 | AD187: 9.5 | AE187: 9 | AF187: 0 | AG187: 6.5 | AH187: 2 | AI187: 3 | AJ187: 3.5 | AK187: 12 | AL187: 17 | AM187: 6.5 | AN187: 17.5 | AO187: 15.5 | AP187: 4.5 | AQ187: 0 | AR187: 11 | AS187: 8.5 | AT187: 6 | AU187: 4.5 | AV187: 2.5 | AW187: 10 | AX187: 1.5 | AY187: 0 | AZ187: 0.5 | BA187: 11.5 | BB187: 8.5 | BC187: 0.5 | BD187: 0 | BE187: 3.5 | BF187: 1 | BG187: 14 | BH187: 7.5 | BI187: 10 | BJ187: 6 | BK187: 15.5 | BL187: 4.5 | BM187: 7.5 | BN187: 2 | BO187: 2.5 | BP187: 0 | BQ187: 1 | BR187: 9 | BS187: 12 | BT187: 10.5 | BU187: 10 | BV187: 0.5 | BW187: 1.5 | BX187: 1.5 | BY187: 15.5 | BZ187: 14.5 | CA187: 11 | CB187: 1 | CC187: 1 | CD187: 5.5 | CE187: 6 | CF187: 7 | CG187: 9 | CH187: 4 | CI187: 6.5 | CJ187: 7 | CK187: 3.5 | CL187: 19.5 | CM187: 0.5 | CN187: 4 | CO187: 13 | CP187: 9.5 | CQ187: 6.5 | CR187: 0 | CS187: 3 | CT187: 0.5 | CU187: 10.5 | CV187: 6.5 | CW187: 3.5 | CX187: 3 | CY187: 1.5 | CZ187: 7.5 | DA187: 2 | DB187: 10.5 | DC187: 2.5 | DD187: 3 | DE187: 1 | DF187: 2 | DG187: 3 | DH187: 3.5 | DI187: 4.5 | DJ187: 2.5 | DK187: 7.5 | DL187: 5.5 | DM187: 7 | DN187: 2.5 | DO187: 7.5 | DP187: 3 | DQ187: 7 | DR187: 3 | DS187: 10 | DT187: 6.5 | DU187: 5 | DV187: 3.5 | DW187: 5 | DX187: 5 | DY187: 18 | DZ187: 1.5 | EA187: 1.5 | EB187: 1 | EC187: 0.5 | ED187: 1 | EE187: 16 | EF187: 2.5 | EG187: 5.5 | EH187: 5 | EI187: 10.5 | EJ187: 8.5 | EK187: 7 | EL187: 2 | EM187: 11.5 | EN187: 1 | EO187: 19 | EP187: 2.5 | EQ187: 9 | ER187: 9.5 | ES187: 5.5 | ET187: 5 | EU187: 9.5 | EV187: 1 | EW187: 2 | EX187: 3 | EY187: 1 | EZ187: 19.5 | FA187: 5.5 | FB187: 3.5 | FC187: 14.5 | FD187: 0.5 | FE187: 3 | FF187: 4.5 | FG187: 1 | FH187: 9.5 | FI187: 8 | FJ187: 0.5 | FK187: 0.5 | FL187: 1 | FM187: 17 | FN187: 2.5 | FO187: 3.5 | FP187: 3 | FQ187: 2 | FR187: 8.5 | FS187: 3.5 | FT187: 3 | FU187: 4 | FV187: 3.5 | FW187: 4.5 | FX187: 6 | FY187: 2.5 | FZ187: 3 | GA187: 3 | GB187: 1.5 | GC187: 3 | GD187: 3.5 | GE187: 4.5 | GF187: 5.5 | GG187: 7 | GH187: 2 | GI187: 3 | GJ187: 8.5 | GK187: 1.5 | GL187: 7 | GM187: 11 | GN187: 5 | GO187: 5.5 | GP187: 3.5 | GQ187: 5 | GR187: 4 | GS187: 13 | GT187: 2 | GU187: 5 | GV187: 8.5 | GW187: 6 | GX187: 6.5 | GY187: 22.5 | GZ187: 2.5 | HA187: 9 | HB187: 5 | HD187: 3.5 | HE187: 3 | HF187: 0 | HG187: 6 | HH187: 3 | HI187: 6.5 | HJ187: 2 | HK187: 6 | HL187: 7 | HM187: 1 | HN187: 2.5 | HO187: 8 | HP187: 18.5 | HQ187: 2 | HR187: 6.5 | HS187: 3.5 | HT187: 3 | HU187: 0 | HV187: 2 | HW187: 0 | HX187: 5 | HY187: 0 | HZ187: 2 | IA187: 0.5 | IB187: 0.5 | IC187: 0 | ID187: 3.5 | IE187: 0 | IF187: 2.5 | IG187: 13.5 | IH187: 2.5 | II187: 2 | IJ187: 4 | IK187: 18 | IL187: 4 | IM187: 2 | IN187: 0 | IO187: 0 | IP187: 1 | IQ187: 0 | IR187: 2 | IS187: 1 | IT187: 3 | IU187: 5 | IV187: 0 | IW187: 3.5 | IX187: 10 | IY187: 0.5 | IZ187: 0 | JA187: 3.5 | JB187: 2.5 | JC187: 0.5 | JD187: 0 | JE187: 0.5 | JF187: 1 | JG187: 6 | JH187: 0 | JI187: 0 | JJ187: 4 | JK187: 3 | JL187: 0 | JM187: 1 | JN187: 1.5 | JO187: 0.5 | JP187: 5 | JQ187: 0.5 | JR187: 0 | JS187: 0 | JT187: 1 | JU187: 1 | JV187: 5.5 | JW187: 1 | JX187: 1 | JY187: 3 | JZ187: 0.5 | KA187: 0 | KB187: 2 | KC187: 1.5 | KD187: 4.5 | KE187: 0.5 | KF187: 0.5 | KG187: 0 | KH187: 1.5 | KI187: 9 | KJ187: 0 | KK187: 3.5 | KL187: 7 | KM187: 6 | KN187: 11.5 | KO187: 3 | KP187: 6.5 | KQ187: 13 | KR187: 7 | KS187: 6.5 | KT187: 0 | KU187: 0 | KV187: 2.5 | KW187: 5.5 | KX187: 0 | KY187: 11 | KZ187: 4 | LA187: 3.5 | LB187: 0
A188: 43286.5 | B188: 5 | C188: 0 | D188: 4 | E188: 0 | F188: 2 | G188: 1 | H188: 0 | I188: 0 | J188: 0.5 | K188: 0.5 | L188: 0 | M188: 0 | N188: 0 | O188: 0 | P188: 1 | Q188: 17 | R188: 2 | S188: 5.5 | T188: 0 | U188: 0 | V188: 0 | W188: 8.5 | X188: 5 | Y188: 11 | Z188: 12.5 | AA188: 1 | AB188: 13 | AC188: 4 | AD188: 7.5 | AE188: 5.5 | AF188: 1.5 | AG188: 12.5 | AH188: 8.5 | AI188: 5 | AJ188: 9.5 | AK188: 11 | AL188: 6 | AM188: 11 | AN188: 10 | AO188: 2 | AP188: 0 | AQ188: 1 | AR188: 11 | AS188: 15.5 | AT188: 15.5 | AU188: 15.5 | AV188: 5 | AW188: 14 | AX188: 6 | AY188: 1.5 | AZ188: 19 | BA188: 27 | BB188: 25 | BC188: 0.5 | BD188: 2 | BE188: 4 | BF188: 2.5 | BG188: 4 | BH188: 1.5 | BI188: 5 | BJ188: 1.5 | BK188: 6 | BL188: 3 | BM188: 2 | BN188: 4 | BO188: 9 | BP188: 4.5 | BQ188: 5 | BR188: 32.5 | BS188: 14 | BT188: 13 | BU188: 3 | BV188: 1.5 | BW188: 0.5 | BX188: 4.5 | BY188: 10 | BZ188: 7 | CA188: 7.5 | CB188: 19 | CC188: 15.5 | CD188: 17.5 | CE188: 4 | CF188: 15.5 | CG188: 6.5 | CH188: 7.5 | CI188: 9.5 | CJ188: 6 | CK188: 5 | CL188: 12.5 | CM188: 1.5 | CN188: 5.5 | CO188: 7.5 | CP188: 4 | CQ188: 2 | CR188: 4.5 | CS188: 11.5 | CT188: 9 | CU188: 18 | CV188: 21 | CW188: 5 | CX188: 6 | CY188: 4.5 | CZ188: 8.5 | DA188: 16.5 | DB188: 5.5 | DC188: 3.5 | DD188: 10.5 | DE188: 5.5 | DF188: 5 | DG188: 11 | DH188: 4 | DI188: 12 | DJ188: 2 | DK188: 4.5 | DL188: 2.5 | DM188: 5.5 | DN188: 9.5 | DO188: 9.5 | DP188: 8 | DQ188: 9.5 | DR188: 4 | DS188: 9 | DT188: 5 | DU188: 4.5 | DV188: 8 | DW188: 11 | DX188: 7 | DY188: 6.5 | DZ188: 3 | EA188: 4 | EB188: 4.5 | EC188: 6 | ED188: 5 | EE188: 19.5 | EF188: 9.5 | EG188: 6.5 | EH188: 4.5 | EI188: 4 | EJ188: 11.5 | EK188: 2.5 | EL188: 7 | EM188: 2 | EN188: 8.5 | EO188: 8.5 | EP188: 7 | EQ188: 7 | ER188: 6 | ES188: 1 | ET188: 5 | EU188: 13 | EV188: 9.5 | EW188: 10 | EX188: 3 | EY188: 2 | EZ188: 14 | FA188: 6.5 | FB188: 3 | FC188: 8 | FD188: 4 | FE188: 3.5 | FF188: 8.5 | FG188: 3.5 | FH188: 16.5 | FI188: 13 | FJ188: 1 | FK188: 2.5 | FL188: 3.5 | FM188: 2 | FN188: 0.5 | FO188: 3 | FP188: 6 | FQ188: 3 | FR188: 7.5 | FS188: 4.5 | FT188: 4 | FU188: 3.5 | FV188: 4 | FW188: 6.5 | FX188: 4 | FY188: 4.5 | FZ188: 4.5 | GA188: 6 | GB188: 2 | GC188: 4 | GD188: 2.5 | GE188: 4 | GF188: 7.5 | GG188: 5.5 | GH188: 2 | GI188: 5 | GJ188: 3 | GK188: 2.5 | GL188: 2.5 | GM188: 2.5 | GN188: 3.5 | GO188: 5.5 | GP188: 1.5 | GQ188: 0.5 | GR188: 6 | GS188: 4 | GT188: 6 | GU188: 10.5 | GV188: 5.5 | GW188: 3.5 | GX188: 1 | GY188: 17 | GZ188: 0.5 | HA188: 2 | HB188: 3 | HC188: 12.5 | HD188: 6.5 | HE188: 0.5 | HF188: 1 | HG188: 4 | HH188: 3.5 | HI188: 3 | HJ188: 5.5 | HK188: 7 | HL188: 3.5 | HM188: 0 | HN188: 3 | HO188: 8 | HP188: 12 | HQ188: 2 | HR188: 3.5 | HS188: 3.5 | HT188: 2 | HU188: 0.5 | HV188: 2 | HW188: 0.5 | HX188: 1.5 | HY188: 0 | HZ188: 3 | IA188: 0 | IB188: 0 | IC188: 0 | ID188: 3 | IE188: 0 | IF188: 3.5 | IG188: 6 | IH188: 0.5 | II188: 1 | IJ188: 2.5 | IK188: 18 | IL188: 6 | IM188: 2 | IN188: 0 | IO188: 0 | IP188: 1.5 | IQ188: 0.5 | IR188: 2 | IS188: 2 | IT188: 3 | IU188: 3 | IV188: 0 | IW188: 6.5 | IX188: 12.5 | IY188: 6 | IZ188: 0 | JA188: 8 | JB188: 4.5 | JC188: 0 | JD188: 0 | JE188: 0.5 | JF188: 0 | JG188: 6 | JH188: 0.5 | JI188: 0.5 | JJ188: 3.5 | JK188: 11.5 | JL188: 1 | JM188: 0 | JN188: 0.5 | JO188: 0 | JP188: 2 | JQ188: 0 | JR188: 0 | JS188: 0 | JT188: 5 | JU188: 15 | JV188: 0 | JW188: 0.5 | JX188: 3.5 | JY188: 0 | JZ188: 3.5 | KA188: 2.5 | KB188: 10 | KC188: 0 | KD188: 0 | KE188: 0 | KF188: 2.5 | KG188: 0.5 | KH188: 1.5 | KI188: 5.5 | KJ188: 2.5 | KK188: 6.5 | KL188: 8.5 | KM188: 6.5 | KN188: 6.5 | KO188: 2.5 | KP188: 7.5 | KQ188: 6.5 | KR188: 6.5 | KS188: 5 | KT188: 0 | KU188: 0.5 | KV188: 2.5 | KW188: 3 | KX188: 0 | KY188: 9.5 | KZ188: 7 | LA188: 0.5 | LB188: 0
A189: 43286.542 | B189: 9 | C189: 0 | D189: 0 | E189: 23 | F189: 0 | G189: 0 | H189: 15.5 | I189: 23 | J189: 2 | K189: 0 | L189: 1.5 | M189: 1 | N189: 0.5 | O189: 0 | P189: 2 | Q189: 30 | R189: 1 | S189: 1 | T189: 0 | U189: 0 | V189: 0 | W189: 6.5 | X189: 15 | Y189: 2 | Z189: 2.5 | AA189: 7.5 | AB189: 0 | AC189: 2 | AD189: 16 | AE189: 1 | AF189: 7.5 | AG189: 20 | AH189: 19.5 | AI189: 3.5 | AJ189: 8 | AK189: 10.5 | AL189: 4 | AM189: 15.5 | AN189: 6 | AO189: 0 | AP189: 0 | AQ189: 6.5 | AR189: 0 | AS189: 6.5 | AT189: 6.5 | AU189: 7.5 | AV189: 11.5 | AW189: 1 | AX189: 12.5 | AY189: 2 | AZ189: 18.5 | BA189: 14.5 | BB189: 16 | BC189: 11.5 | BD189: 4.5 | BE189: 4.5 | BF189: 1.5 | BG189: 7.5 | BH189: 2.5 | BI189: 7 | BJ189: 2.5 | BK189: 15.5 | BL189: 6.5 | BM189: 8 | BN189: 5.5 | BO189: 4 | BP189: 13 | BQ189: 7.5 | BR189: 5 | BS189: 4 | BT189: 10.5 | BU189: 1.5 | BV189: 5 | BW189: 0.5 | BX189: 8 | BY189: 3.5 | BZ189: 10 | CA189: 5 | CB189: 8 | CC189: 16.5 | CD189: 13.5 | CE189: 2.5 | CF189: 8.5 | CG189: 4 | CH189: 8 | CI189: 14.5 | CJ189: 10.5 | CK189: 4.5 | CL189: 9 | CM189: 6 | CN189: 15 | CO189: 12.5 | CP189: 10 | CQ189: 3 | CR189: 11.5 | CS189: 17 | CT189: 25.5 | CU189: 5 | CV189: 6.5 | CW189: 2.5 | CX189: 9 | CY189: 5.5 | CZ189: 7.5 | DA189: 4.5 | DB189: 8.5 | DC189: 4 | DD189: 7 | DE189: 4 | DF189: 2.5 | DG189: 7.5 | DH189: 2.5 | DI189: 2.5 | DJ189: 1.5 | DK189: 7.5 | DL189: 2.5 | DM189: 9 | DN189: 5.5 | DO189: 15 | DP189: 20.5 | DQ189: 9.5 | DR189: 3.5 | DS189: 6 | DT189: 6 | DU189: 10.5 | DV189: 11 | DW189: 16 | DX189: 13 | DY189: 6.5 | DZ189: 7.5 | EA189: 20 | EB189: 5.5 | EC189: 11 | ED189: 4 | EE189: 5.5 | EF189: 6 | EG189: 5 | EH189: 5 | EI189: 5 | EJ189: 7.5 | EK189: 2.5 | EL189: 5.5 | EM189: 5 | EN189: 4.5 | EO189: 14 | EP189: 2.5 | EQ189: 9 | ER189: 6 | ES189: 1 | ET189: 6.5 | EU189: 10 | EV189: 21.5 | EW189: 8 | EX189: 8 | EY189: 9 | EZ189: 9.5 | FA189: 8.5 | FB189: 4 | FC189: 32 | FD189: 6.5 | FE189: 4.5 | FF189: 8 | FG189: 5 | FH189: 9 | FI189: 4.5 | FJ189: 6.5 | FK189: 4 | FL189: 7.5 | FM189: 2.5 | FN189: 0.5 | FO189: 2 | FP189: 7 | FQ189: 5 | FR189: 8.5 | FS189: 4 | FT189: 2.5 | FU189: 4.5 | FV189: 2.5 | FW189: 3.5 | FX189: 3.5 | FY189: 3.5 | FZ189: 4.5 | GA189: 4.5 | GB189: 2.5 | GC189: 3 | GD189: 3 | GE189: 4 | GF189: 5.5 | GG189: 5.5 | GH189: 1 | GI189: 3 | GJ189: 5.5 | GK189: 2.5 | GL189: 4.5 | GM189: 5.5 | GN189: 6.5 | GO189: 5.5 | GP189: 4.5 | GQ189: 1.5 | GR189: 5 | GS189: 8 | GT189: 2.5 | GU189: 4 | GV189: 2.5 | GW189: 2.5 | GX189: 1 | GY189: 11 | GZ189: 0.5 | HA189: 1 | HB189: 2 | HC189: 5.5 | HD189: 1 | HE189: 0.5 | HF189: 1 | HG189: 6 | HH189: 1.5 | HI189: 3 | HJ189: 3.5 | HK189: 3 | HL189: 4 | HM189: 0.5 | HN189: 2 | HO189: 7 | HP189: 6.5 | HQ189: 1.5 | HR189: 1 | HS189: 2.5 | HT189: 1 | HU189: 0 | HV189: 0.5 | HW189: 1 | HX189: 0 | HY189: 0 | HZ189: 1.5 | IA189: 0.5 | IB189: 1 | IC189: 6 | ID189: 4 | IE189: 0.5 | IF189: 1.5 | IG189: 4 | IH189: 0.5 | II189: 1.5 | IJ189: 3 | IK189: 5 | IL189: 5 | IM189: 1 | IN189: 4.5 | IO189: 8.5 | IP189: 14 | IQ189: 4 | IR189: 10.5 | IS189: 5.5 | IT189: 0.5 | IU189: 6.5 | IV189: 2 | IW189: 5 | IX189: 1 | IY189: 12 | IZ189: 6 | JA189: 8.5 | JB189: 13.5 | JC189: 11.5 | JD189: 3.5 | JE189: 9.5 | JF189: 7 | JG189: 0 | JH189: 2 | JI189: 0.5 | JJ189: 9 | JK189: 10.5 | JL189: 9.5 | JM189: 0 | JN189: 12 | JO189: 10.5 | JP189: 1 | JQ189: 0 | JR189: 0.5 | JS189: 5 | JT189: 3.5 | JU189: 12.5 | JV189: 0 | JW189: 4 | JX189: 4 | JY189: 0 | JZ189: 3.5 | KA189: 2.5 | KB189: 8 | KC189: 5 | KD189: 0.5 | KE189: 0 | KF189: 3 | KG189: 3 | KH189: 1 | KI189: 2.5 | KJ189: 3 | KK189: 4.5 | KL189: 3 | KM189: 14 | KN189: 3.5 | KO189: 1.5 | KP189: 2.5 | KQ189: 5 | KR189: 3 | KS189: 4 | KT189: 0 | KU189: 0 | KV189: 0 | KW189: 1 | KX189: 0 | KY189: 7 | KZ189: 2 | LA189: 0.5 | LB189: 0
